| Back to Multiple platform build/check report for BioC 3.17 |
|
This page was generated on 2023-04-12 10:55:35 -0400 (Wed, 12 Apr 2023).
| Hostname | OS | Arch (*) | R version | Installed pkgs |
|---|---|---|---|---|
| nebbiolo1 | Linux (Ubuntu 22.04.1 LTS) | x86_64 | 4.3.0 alpha (2023-04-03 r84154) | 4547 |
| nebbiolo2 | Linux (Ubuntu 20.04.5 LTS) | x86_64 | R Under development (unstable) (2023-02-14 r83833) -- "Unsuffered Consequences" | 4333 |
| Click on any hostname to see more info about the system (e.g. compilers) (*) as reported by 'uname -p', except on Windows and Mac OS X | ||||
|
To the developers/maintainers of the circRNAprofiler package: - Allow up to 24 hours (and sometimes 48 hours) for your latest push to git@git.bioconductor.org:packages/circRNAprofiler.git to reflect on this report. See Troubleshooting Build Report for more information. - Use the following Renviron settings to reproduce errors and warnings. Note: If "R CMD check" recently failed on the Linux builder over a missing dependency, add the missing dependency to "Suggests" in your DESCRIPTION file. See the Renviron.bioc for details. |
| Package 344/2207 | Hostname | OS / Arch | INSTALL | BUILD | CHECK | BUILD BIN | ||||||||
| circRNAprofiler 1.13.7 (landing page) Simona Aufiero
| nebbiolo1 | Linux (Ubuntu 22.04.1 LTS) / x86_64 | OK | OK | OK | |||||||||
| nebbiolo2 | Linux (Ubuntu 20.04.5 LTS) / x86_64 | OK | OK | OK | ||||||||||
| Package: circRNAprofiler |
| Version: 1.13.7 |
| Command: /home/biocbuild/bbs-3.17-bioc/R/bin/R CMD check --install=check:circRNAprofiler.install-out.txt --library=/home/biocbuild/bbs-3.17-bioc/R/site-library --timings circRNAprofiler_1.13.7.tar.gz |
| StartedAt: 2023-04-12 05:20:26 -0400 (Wed, 12 Apr 2023) |
| EndedAt: 2023-04-12 05:34:14 -0400 (Wed, 12 Apr 2023) |
| EllapsedTime: 828.4 seconds |
| RetCode: 0 |
| Status: OK |
| CheckDir: circRNAprofiler.Rcheck |
| Warnings: 0 |
##############################################################################
##############################################################################
###
### Running command:
###
### /home/biocbuild/bbs-3.17-bioc/R/bin/R CMD check --install=check:circRNAprofiler.install-out.txt --library=/home/biocbuild/bbs-3.17-bioc/R/site-library --timings circRNAprofiler_1.13.7.tar.gz
###
##############################################################################
##############################################################################
* using log directory ‘/home/biocbuild/bbs-3.17-bioc/meat/circRNAprofiler.Rcheck’
* using R Under development (unstable) (2023-02-14 r83833)
* using platform: x86_64-pc-linux-gnu (64-bit)
* R was compiled by
gcc (Ubuntu 9.4.0-1ubuntu1~20.04.1) 9.4.0
GNU Fortran (Ubuntu 9.4.0-1ubuntu1~20.04.1) 9.4.0
* running under: Ubuntu 20.04.6 LTS
* using session charset: UTF-8
* checking for file ‘circRNAprofiler/DESCRIPTION’ ... OK
* checking extension type ... Package
* this is package ‘circRNAprofiler’ version ‘1.13.7’
* package encoding: UTF-8
* checking package namespace information ... OK
* checking package dependencies ... OK
* checking if this is a source package ... OK
* checking if there is a namespace ... OK
* checking for hidden files and directories ... OK
* checking for portable file names ... OK
* checking for sufficient/correct file permissions ... OK
* checking whether package ‘circRNAprofiler’ can be installed ... OK
* checking installed package size ... OK
* checking package directory ... OK
* checking ‘build’ directory ... OK
* checking DESCRIPTION meta-information ... OK
* checking top-level files ... OK
* checking for left-over files ... OK
* checking index information ... OK
* checking package subdirectories ... OK
* checking R files for non-ASCII characters ... OK
* checking R files for syntax errors ... OK
* checking whether the package can be loaded ... OK
* checking whether the package can be loaded with stated dependencies ... OK
* checking whether the package can be unloaded cleanly ... OK
* checking whether the namespace can be loaded with stated dependencies ... OK
* checking whether the namespace can be unloaded cleanly ... OK
* checking loading without being on the library search path ... OK
* checking dependencies in R code ... OK
* checking S3 generic/method consistency ... OK
* checking replacement functions ... OK
* checking foreign function calls ... OK
* checking R code for possible problems ... NOTE
.getRBPmotifsAttract: no visible binding for global variable ‘Organism’
.getRBPmotifsAttract: no visible binding for global variable
‘Gene_name’
.getRBPmotifsAttract: no visible binding for global variable ‘Motif’
.getRBPmotifsMEME: no visible binding for global variable ‘path’
.matchWithKnowRBPs: no visible binding for global variable ‘motif’
.reshapeCounts: no visible binding for global variable ‘motif’
.splitRBPs: no visible binding for global variable ‘motif’
mergeMotifs: no visible binding for global variable ‘motif’
Undefined global functions or variables:
Gene_name Motif Organism motif path
* checking Rd files ... OK
* checking Rd metadata ... OK
* checking Rd cross-references ... OK
* checking for missing documentation entries ... OK
* checking for code/documentation mismatches ... OK
* checking Rd \usage sections ... OK
* checking Rd contents ... OK
* checking for unstated dependencies in examples ... OK
* checking contents of ‘data’ directory ... OK
* checking data for non-ASCII characters ... OK
* checking data for ASCII and uncompressed saves ... OK
* checking files in ‘vignettes’ ... OK
* checking examples ... OK
Examples with CPU (user + system) or elapsed time > 5s
user system elapsed
liftBSJcoords 25.785 3.070 29.618
plotMotifs 17.787 0.937 21.864
mergeMotifs 11.546 0.557 14.143
getMotifs 11.370 0.480 14.662
getDeseqRes 5.299 0.156 5.455
mergeBSJunctions 5.187 0.144 5.331
* checking for unstated dependencies in ‘tests’ ... OK
* checking tests ...
Running ‘testthat.R’
OK
* checking for unstated dependencies in vignettes ... OK
* checking package vignettes in ‘inst/doc’ ... OK
* checking running R code from vignettes ...
‘circRNAprofiler.Rmd’ using ‘UTF-8’... OK
NONE
* checking re-building of vignette outputs ... OK
* checking PDF version of manual ... OK
* DONE
Status: 1 NOTE
See
‘/home/biocbuild/bbs-3.17-bioc/meat/circRNAprofiler.Rcheck/00check.log’
for details.
circRNAprofiler.Rcheck/00install.out
############################################################################## ############################################################################## ### ### Running command: ### ### /home/biocbuild/bbs-3.17-bioc/R/bin/R CMD INSTALL circRNAprofiler ### ############################################################################## ############################################################################## * installing to library ‘/home/biocbuild/bbs-3.17-bioc/R/site-library’ * installing *source* package ‘circRNAprofiler’ ... ** using staged installation ** R ** data ** inst ** byte-compile and prepare package for lazy loading ** help *** installing help indices ** building package indices ** installing vignettes ** testing if installed package can be loaded from temporary location ** testing if installed package can be loaded from final location ** testing if installed package keeps a record of temporary installation path * DONE (circRNAprofiler)
circRNAprofiler.Rcheck/tests/testthat.Rout
R Under development (unstable) (2023-02-14 r83833) -- "Unsuffered Consequences"
Copyright (C) 2023 The R Foundation for Statistical Computing
Platform: x86_64-pc-linux-gnu (64-bit)
R is free software and comes with ABSOLUTELY NO WARRANTY.
You are welcome to redistribute it under certain conditions.
Type 'license()' or 'licence()' for distribution details.
R is a collaborative project with many contributors.
Type 'contributors()' for more information and
'citation()' on how to cite R or R packages in publications.
Type 'demo()' for some demos, 'help()' for on-line help, or
'help.start()' for an HTML browser interface to help.
Type 'q()' to quit R.
> library(testthat)
> library(circRNAprofiler)
>
> test_check("circRNAprofiler")
Analysing: Ncoa6:-:chr2:155440785:155437860
Analysing: Arhgap5:+:chr12:52516079:52542636
Analysing: Arhgap5:+:chr12:52516079:52542636
Analysing: Pwwp2a:+:chr11:43704534:43705477trying URL 'https://attract.cnic.es/attract/static/ATtRACT.zip'
downloaded 113 KB
trying URL 'https://attract.cnic.es/attract/static/ATtRACT.zip'
downloaded 113 KB
trying URL 'https://attract.cnic.es/attract/static/ATtRACT.zip'
downloaded 113 KB
trying URL 'https://attract.cnic.es/attract/static/ATtRACT.zip'
downloaded 113 KB
trying URL 'https://attract.cnic.es/attract/static/ATtRACT.zip'
downloaded 113 KB
[ FAIL 0 | WARN 31 | SKIP 1 | PASS 255 ]
══ Skipped tests ═══════════════════════════════════════════════════════════════
• empty test (1)
[ FAIL 0 | WARN 31 | SKIP 1 | PASS 255 ]
>
> proc.time()
user system elapsed
321.917 8.429 339.859
circRNAprofiler.Rcheck/circRNAprofiler-Ex.timings
| name | user | system | elapsed | |
| ahChainFiles | 0.148 | 0.012 | 0.159 | |
| ahRepeatMasker | 0.001 | 0.000 | 0.002 | |
| annotateBSJs | 0.601 | 0.004 | 0.605 | |
| annotateRepeats | 2.320 | 0.068 | 2.388 | |
| annotateSNPsGWAS | 0.854 | 0.056 | 0.910 | |
| attractSpecies | 0.000 | 0.001 | 0.001 | |
| backSplicedJunctions | 0.865 | 0.002 | 0.937 | |
| checkProjectFolder | 0.003 | 0.000 | 0.003 | |
| filterCirc | 0.739 | 0.016 | 0.755 | |
| formatGTF | 0.001 | 0.000 | 0.001 | |
| getBackSplicedJunctions | 0.001 | 0.000 | 0.001 | |
| getCircSeqs | 1.203 | 0.048 | 1.251 | |
| getDeseqRes | 5.299 | 0.156 | 5.455 | |
| getDetectionTools | 0.002 | 0.000 | 0.003 | |
| getEdgerRes | 2.429 | 0.144 | 2.573 | |
| getMiRsites | 0.858 | 0.004 | 0.862 | |
| getMotifs | 11.370 | 0.480 | 14.662 | |
| getRandomBSJunctions | 0.168 | 0.016 | 0.184 | |
| getRegexPattern | 0.001 | 0.000 | 0.002 | |
| getSeqsAcrossBSJs | 0.758 | 0.020 | 0.778 | |
| getSeqsFromGRs | 0.855 | 0.036 | 0.891 | |
| gtf | 0.016 | 0.000 | 0.016 | |
| gwasTraits | 0.005 | 0.000 | 0.005 | |
| importCircExplorer2 | 0.035 | 0.000 | 0.035 | |
| importCircMarker | 0.164 | 0.000 | 0.164 | |
| importKnife | 0.047 | 0.000 | 0.048 | |
| importMapSplice | 0.083 | 0.000 | 0.083 | |
| importNCLscan | 0.035 | 0.000 | 0.035 | |
| importOther | 0.031 | 0.004 | 0.034 | |
| importUroborus | 0.026 | 0.004 | 0.030 | |
| initCircRNAprofiler | 0 | 0 | 0 | |
| iupac | 0.000 | 0.001 | 0.001 | |
| liftBSJcoords | 25.785 | 3.070 | 29.618 | |
| memeDB | 0.002 | 0.000 | 0.001 | |
| mergeBSJunctions | 5.187 | 0.144 | 5.331 | |
| mergeMotifs | 11.546 | 0.557 | 14.143 | |
| mergedBSJunctions | 0.442 | 0.008 | 0.450 | |
| miRspeciesCodes | 0.002 | 0.000 | 0.002 | |
| plotExBetweenBSEs | 1.506 | 0.068 | 1.574 | |
| plotExPosition | 1.171 | 0.080 | 1.251 | |
| plotHostGenes | 1.078 | 0.048 | 1.126 | |
| plotLenBSEs | 2.022 | 0.104 | 2.126 | |
| plotLenIntrons | 2.151 | 0.112 | 2.262 | |
| plotMiR | 0.924 | 0.044 | 0.968 | |
| plotMotifs | 17.787 | 0.937 | 21.864 | |
| plotTotExons | 1.352 | 0.080 | 1.432 | |
| rearrangeMiRres | 1.220 | 0.056 | 1.276 | |
| volcanoPlot | 3.610 | 0.348 | 3.958 | |