| Back to Multiple platform build/check report for BioC 3.17 |
|
This page was generated on 2023-04-12 10:55:22 -0400 (Wed, 12 Apr 2023).
| Hostname | OS | Arch (*) | R version | Installed pkgs |
|---|---|---|---|---|
| nebbiolo1 | Linux (Ubuntu 22.04.1 LTS) | x86_64 | 4.3.0 alpha (2023-04-03 r84154) | 4547 |
| nebbiolo2 | Linux (Ubuntu 20.04.5 LTS) | x86_64 | R Under development (unstable) (2023-02-14 r83833) -- "Unsuffered Consequences" | 4333 |
| Click on any hostname to see more info about the system (e.g. compilers) (*) as reported by 'uname -p', except on Windows and Mac OS X | ||||
|
To the developers/maintainers of the casper package: - Allow up to 24 hours (and sometimes 48 hours) for your latest push to git@git.bioconductor.org:packages/casper.git to reflect on this report. See Troubleshooting Build Report for more information. - Use the following Renviron settings to reproduce errors and warnings. Note: If "R CMD check" recently failed on the Linux builder over a missing dependency, add the missing dependency to "Suggests" in your DESCRIPTION file. See the Renviron.bioc for details. |
| Package 268/2207 | Hostname | OS / Arch | INSTALL | BUILD | CHECK | BUILD BIN | ||||||||
| casper 2.33.0 (landing page) David Rossell
| nebbiolo1 | Linux (Ubuntu 22.04.1 LTS) / x86_64 | OK | OK | OK | |||||||||
| nebbiolo2 | Linux (Ubuntu 20.04.5 LTS) / x86_64 | OK | OK | WARNINGS | ||||||||||
| Package: casper |
| Version: 2.33.0 |
| Command: /home/biocbuild/bbs-3.17-bioc/R/bin/R CMD check --install=check:casper.install-out.txt --library=/home/biocbuild/bbs-3.17-bioc/R/site-library --timings casper_2.33.0.tar.gz |
| StartedAt: 2023-04-11 19:05:06 -0400 (Tue, 11 Apr 2023) |
| EndedAt: 2023-04-11 19:10:36 -0400 (Tue, 11 Apr 2023) |
| EllapsedTime: 329.4 seconds |
| RetCode: 0 |
| Status: OK |
| CheckDir: casper.Rcheck |
| Warnings: 0 |
##############################################################################
##############################################################################
###
### Running command:
###
### /home/biocbuild/bbs-3.17-bioc/R/bin/R CMD check --install=check:casper.install-out.txt --library=/home/biocbuild/bbs-3.17-bioc/R/site-library --timings casper_2.33.0.tar.gz
###
##############################################################################
##############################################################################
* using log directory ‘/home/biocbuild/bbs-3.17-bioc/meat/casper.Rcheck’
* using R version 4.3.0 alpha (2023-04-03 r84154)
* using platform: x86_64-pc-linux-gnu (64-bit)
* R was compiled by
gcc (Ubuntu 11.3.0-1ubuntu1~22.04) 11.3.0
GNU Fortran (Ubuntu 11.3.0-1ubuntu1~22.04) 11.3.0
* running under: Ubuntu 22.04.2 LTS
* using session charset: UTF-8
* checking for file ‘casper/DESCRIPTION’ ... OK
* this is package ‘casper’ version ‘2.33.0’
* checking package namespace information ... OK
* checking package dependencies ... OK
* checking if this is a source package ... OK
* checking if there is a namespace ... OK
* checking for hidden files and directories ... OK
* checking for portable file names ... OK
* checking for sufficient/correct file permissions ... OK
* checking whether package ‘casper’ can be installed ... OK
* used C compiler: ‘gcc (Ubuntu 11.3.0-1ubuntu1~22.04) 11.3.0’
* used C++ compiler: ‘g++ (Ubuntu 11.3.0-1ubuntu1~22.04) 11.3.0’
* checking installed package size ... OK
* checking package directory ... OK
* checking ‘build’ directory ... OK
* checking DESCRIPTION meta-information ... OK
* checking top-level files ... OK
* checking for left-over files ... OK
* checking index information ... OK
* checking package subdirectories ... OK
* checking R files for non-ASCII characters ... OK
* checking R files for syntax errors ... OK
* checking whether the package can be loaded ... OK
* checking whether the package can be loaded with stated dependencies ... OK
* checking whether the package can be unloaded cleanly ... OK
* checking whether the namespace can be loaded with stated dependencies ... OK
* checking whether the namespace can be unloaded cleanly ... OK
* checking loading without being on the library search path ... OK
* checking dependencies in R code ... OK
* checking S3 generic/method consistency ... OK
* checking replacement functions ... OK
* checking foreign function calls ... OK
* checking R code for possible problems ... OK
* checking Rd files ... OK
* checking Rd metadata ... OK
* checking Rd cross-references ... OK
* checking for missing documentation entries ... OK
* checking for code/documentation mismatches ... OK
* checking Rd \usage sections ... OK
* checking Rd contents ... OK
* checking for unstated dependencies in examples ... OK
* checking contents of ‘data’ directory ... OK
* checking data for non-ASCII characters ... OK
* checking data for ASCII and uncompressed saves ... OK
* checking line endings in C/C++/Fortran sources/headers ... OK
* checking compiled code ... OK
* checking installed files from ‘inst/doc’ ... OK
* checking files in ‘vignettes’ ... OK
* checking examples ... OK
* checking for unstated dependencies in vignettes ... OK
* checking package vignettes in ‘inst/doc’ ... OK
* checking running R code from vignettes ...
‘casper.Rnw’... OK
OK
* checking re-building of vignette outputs ... OK
* checking PDF version of manual ... OK
* DONE
Status: OK
casper.Rcheck/00install.out
############################################################################## ############################################################################## ### ### Running command: ### ### /home/biocbuild/bbs-3.17-bioc/R/bin/R CMD INSTALL casper ### ############################################################################## ############################################################################## * installing to library ‘/home/biocbuild/bbs-3.17-bioc/R/site-library’ * installing *source* package ‘casper’ ... ** using staged installation ** libs using C compiler: ‘gcc (Ubuntu 11.3.0-1ubuntu1~22.04) 11.3.0’ using C++ compiler: ‘g++ (Ubuntu 11.3.0-1ubuntu1~22.04) 11.3.0’ g++ -std=gnu++17 -I"/home/biocbuild/bbs-3.17-bioc/R/include" -DNDEBUG -I/usr/local/include -fpic -g -O2 -Wall -c casper.cpp -o casper.o g++ -std=gnu++17 -I"/home/biocbuild/bbs-3.17-bioc/R/include" -DNDEBUG -I/usr/local/include -fpic -g -O2 -Wall -c cstat.cpp -o cstat.o g++ -std=gnu++17 -I"/home/biocbuild/bbs-3.17-bioc/R/include" -DNDEBUG -I/usr/local/include -fpic -g -O2 -Wall -c dataframe.cpp -o dataframe.o g++ -std=gnu++17 -I"/home/biocbuild/bbs-3.17-bioc/R/include" -DNDEBUG -I/usr/local/include -fpic -g -O2 -Wall -c discretedf.cpp -o discretedf.o g++ -std=gnu++17 -I"/home/biocbuild/bbs-3.17-bioc/R/include" -DNDEBUG -I/usr/local/include -fpic -g -O2 -Wall -c dropVariant.cpp -o dropVariant.o g++ -std=gnu++17 -I"/home/biocbuild/bbs-3.17-bioc/R/include" -DNDEBUG -I/usr/local/include -fpic -g -O2 -Wall -c exon.cpp -o exon.o gcc -I"/home/biocbuild/bbs-3.17-bioc/R/include" -DNDEBUG -I/usr/local/include -fpic -g -O2 -Wall -c fragFunc.c -o fragFunc.o g++ -std=gnu++17 -I"/home/biocbuild/bbs-3.17-bioc/R/include" -DNDEBUG -I/usr/local/include -fpic -g -O2 -Wall -c fragment.cpp -o fragment.o gcc -I"/home/biocbuild/bbs-3.17-bioc/R/include" -DNDEBUG -I/usr/local/include -fpic -g -O2 -Wall -c functions.c -o functions.o gcc -I"/home/biocbuild/bbs-3.17-bioc/R/include" -DNDEBUG -I/usr/local/include -fpic -g -O2 -Wall -c hash.c -o hash.o gcc -I"/home/biocbuild/bbs-3.17-bioc/R/include" -DNDEBUG -I/usr/local/include -fpic -g -O2 -Wall -c join_exons.c -o join_exons.o gcc -I"/home/biocbuild/bbs-3.17-bioc/R/include" -DNDEBUG -I/usr/local/include -fpic -g -O2 -Wall -c makeIslands.c -o makeIslands.o g++ -std=gnu++17 -I"/home/biocbuild/bbs-3.17-bioc/R/include" -DNDEBUG -I/usr/local/include -fpic -g -O2 -Wall -c model.cpp -o model.o g++ -std=gnu++17 -I"/home/biocbuild/bbs-3.17-bioc/R/include" -DNDEBUG -I/usr/local/include -fpic -g -O2 -Wall -c model_cmp.cpp -o model_cmp.o gcc -I"/home/biocbuild/bbs-3.17-bioc/R/include" -DNDEBUG -I/usr/local/include -fpic -g -O2 -Wall -c pathCounts.c -o pathCounts.o gcc -I"/home/biocbuild/bbs-3.17-bioc/R/include" -DNDEBUG -I/usr/local/include -fpic -g -O2 -Wall -c procBam.c -o procBam.o g++ -std=gnu++17 -I"/home/biocbuild/bbs-3.17-bioc/R/include" -DNDEBUG -I/usr/local/include -fpic -g -O2 -Wall -c rcasper.cpp -o rcasper.o g++ -std=gnu++17 -I"/home/biocbuild/bbs-3.17-bioc/R/include" -DNDEBUG -I/usr/local/include -fpic -g -O2 -Wall -c seppel.cpp -o seppel.o gcc -I"/home/biocbuild/bbs-3.17-bioc/R/include" -DNDEBUG -I/usr/local/include -fpic -g -O2 -Wall -c simReads.c -o simReads.o gcc -I"/home/biocbuild/bbs-3.17-bioc/R/include" -DNDEBUG -I/usr/local/include -fpic -g -O2 -Wall -c simReadsfunc.c -o simReadsfunc.o g++ -std=gnu++17 -I"/home/biocbuild/bbs-3.17-bioc/R/include" -DNDEBUG -I/usr/local/include -fpic -g -O2 -Wall -c smartmodeldist.cpp -o smartmodeldist.o gcc -I"/home/biocbuild/bbs-3.17-bioc/R/include" -DNDEBUG -I/usr/local/include -fpic -g -O2 -Wall -c uniqQname.c -o uniqQname.o g++ -std=gnu++17 -I"/home/biocbuild/bbs-3.17-bioc/R/include" -DNDEBUG -I/usr/local/include -fpic -g -O2 -Wall -c variant.cpp -o variant.o g++ -std=gnu++17 -I"/home/biocbuild/bbs-3.17-bioc/R/include" -DNDEBUG -I/usr/local/include -fpic -g -O2 -Wall -c variant_cmp.cpp -o variant_cmp.o g++ -std=gnu++17 -shared -L/home/biocbuild/bbs-3.17-bioc/R/lib -L/usr/local/lib -o casper.so casper.o cstat.o dataframe.o discretedf.o dropVariant.o exon.o fragFunc.o fragment.o functions.o hash.o join_exons.o makeIslands.o model.o model_cmp.o pathCounts.o procBam.o rcasper.o seppel.o simReads.o simReadsfunc.o smartmodeldist.o uniqQname.o variant.o variant_cmp.o -L/home/biocbuild/bbs-3.17-bioc/R/lib -lR installing to /home/biocbuild/bbs-3.17-bioc/R/site-library/00LOCK-casper/00new/casper/libs ** R ** data ** inst ** byte-compile and prepare package for lazy loading Creating a new generic function for ‘transcripts’ in package ‘casper’ ** help *** installing help indices ** building package indices ** installing vignettes ** testing if installed package can be loaded from temporary location ** checking absolute paths in shared objects and dynamic libraries ** testing if installed package can be loaded from final location ** testing if installed package keeps a record of temporary installation path * DONE (casper)
casper.Rcheck/casper-Ex.timings
| name | user | system | elapsed | |
| K562.r1l1 | 0.151 | 0.008 | 0.159 | |
| annotatedGenome-class | 0.001 | 0.000 | 0.001 | |
| asymmetryCheck | 0.013 | 0.000 | 0.013 | |
| calcDenovo | 0.001 | 0.000 | 0.000 | |
| calcExp | 3.040 | 0.132 | 3.172 | |
| denovoExpr | 2.851 | 0.288 | 3.140 | |
| denovoGeneExpr-class | 0.001 | 0.000 | 0.001 | |
| denovoGenomeExpr-class | 0.001 | 0.000 | 0.001 | |
| distrsGSE37704 | 0.12 | 0.02 | 0.14 | |
| genePlot | 0.289 | 0.024 | 0.313 | |
| getDistrs | 0.384 | 0.008 | 0.392 | |
| getIsland | 0.113 | 0.004 | 0.118 | |
| getNreads | 0 | 0 | 0 | |
| getReads | 0.001 | 0.000 | 0.000 | |
| getRoc | 0 | 0 | 0 | |
| hg19DB | 0.108 | 0.008 | 0.116 | |
| mergeBatches | 0.083 | 0.000 | 0.083 | |
| mergeExp | 0.000 | 0.000 | 0.001 | |
| modelPrior | 0.340 | 0.007 | 0.346 | |
| modelPriorAS-class | 0.001 | 0.000 | 0.001 | |
| pathCounts-class | 0.001 | 0.000 | 0.001 | |
| pathCounts | 0 | 0 | 0 | |
| plot-methods | 0 | 0 | 0 | |
| plotExpr | 0.000 | 0.000 | 0.001 | |
| plotPriorAS | 0 | 0 | 0 | |
| probNonEquiv | 0.095 | 0.000 | 0.096 | |
| procBam-class | 0.001 | 0.000 | 0.001 | |
| procBam | 0.001 | 0.000 | 0.001 | |
| procGenome | 0.001 | 0.000 | 0.001 | |
| qqnormGenomeWide | 0.048 | 0.000 | 0.048 | |
| quantileNorm | 0.022 | 0.000 | 0.022 | |
| relexprByGene | 0 | 0 | 0 | |
| rmShortInserts | 0 | 0 | 0 | |
| simMAE | 0 | 0 | 0 | |
| simMAEcheck | 0 | 0 | 0 | |
| simMultSamples | 0 | 0 | 0 | |
| simReads | 0.448 | 0.028 | 0.475 | |
| simulatedSamples-class | 0.001 | 0.000 | 0.001 | |
| splitGenomeByLength | 0.000 | 0.000 | 0.001 | |
| transcripts | 0.184 | 0.012 | 0.196 | |
| wrapDenovo | 0.000 | 0.000 | 0.001 | |
| wrapKnown | 0.001 | 0.000 | 0.001 | |