| Back to Multiple platform build/check report for BioC 3.17 |
|
This page was generated on 2023-04-12 10:55:22 -0400 (Wed, 12 Apr 2023).
| Hostname | OS | Arch (*) | R version | Installed pkgs |
|---|---|---|---|---|
| nebbiolo1 | Linux (Ubuntu 22.04.1 LTS) | x86_64 | 4.3.0 alpha (2023-04-03 r84154) | 4547 |
| nebbiolo2 | Linux (Ubuntu 20.04.5 LTS) | x86_64 | R Under development (unstable) (2023-02-14 r83833) -- "Unsuffered Consequences" | 4333 |
| Click on any hostname to see more info about the system (e.g. compilers) (*) as reported by 'uname -p', except on Windows and Mac OS X | ||||
|
To the developers/maintainers of the bnem package: - Allow up to 24 hours (and sometimes 48 hours) for your latest push to git@git.bioconductor.org:packages/bnem.git to reflect on this report. See Troubleshooting Build Report for more information. - Use the following Renviron settings to reproduce errors and warnings. Note: If "R CMD check" recently failed on the Linux builder over a missing dependency, add the missing dependency to "Suggests" in your DESCRIPTION file. See the Renviron.bioc for details. |
| Package 228/2207 | Hostname | OS / Arch | INSTALL | BUILD | CHECK | BUILD BIN | ||||||||
| bnem 1.7.0 (landing page) Martin Pirkl
| nebbiolo1 | Linux (Ubuntu 22.04.1 LTS) / x86_64 | OK | OK | ERROR | |||||||||
| nebbiolo2 | Linux (Ubuntu 20.04.5 LTS) / x86_64 | OK | OK | ERROR | ||||||||||
| Package: bnem |
| Version: 1.7.0 |
| Command: /home/biocbuild/bbs-3.17-bioc/R/bin/R CMD check --install=check:bnem.install-out.txt --library=/home/biocbuild/bbs-3.17-bioc/R/site-library --timings bnem_1.7.0.tar.gz |
| StartedAt: 2023-04-11 18:57:01 -0400 (Tue, 11 Apr 2023) |
| EndedAt: 2023-04-11 19:01:22 -0400 (Tue, 11 Apr 2023) |
| EllapsedTime: 260.9 seconds |
| RetCode: 1 |
| Status: ERROR |
| CheckDir: bnem.Rcheck |
| Warnings: NA |
##############################################################################
##############################################################################
###
### Running command:
###
### /home/biocbuild/bbs-3.17-bioc/R/bin/R CMD check --install=check:bnem.install-out.txt --library=/home/biocbuild/bbs-3.17-bioc/R/site-library --timings bnem_1.7.0.tar.gz
###
##############################################################################
##############################################################################
* using log directory ‘/home/biocbuild/bbs-3.17-bioc/meat/bnem.Rcheck’
* using R version 4.3.0 alpha (2023-04-03 r84154)
* using platform: x86_64-pc-linux-gnu (64-bit)
* R was compiled by
gcc (Ubuntu 11.3.0-1ubuntu1~22.04) 11.3.0
GNU Fortran (Ubuntu 11.3.0-1ubuntu1~22.04) 11.3.0
* running under: Ubuntu 22.04.2 LTS
* using session charset: UTF-8
* checking for file ‘bnem/DESCRIPTION’ ... OK
* checking extension type ... Package
* this is package ‘bnem’ version ‘1.7.0’
* package encoding: UTF-8
* checking package namespace information ... OK
* checking package dependencies ... OK
* checking if this is a source package ... OK
* checking if there is a namespace ... OK
* checking for hidden files and directories ... OK
* checking for portable file names ... OK
* checking for sufficient/correct file permissions ... OK
* checking whether package ‘bnem’ can be installed ... OK
* checking installed package size ... OK
* checking package directory ... OK
* checking ‘build’ directory ... OK
* checking DESCRIPTION meta-information ... OK
* checking top-level files ... OK
* checking for left-over files ... OK
* checking index information ... OK
* checking package subdirectories ... OK
* checking R files for non-ASCII characters ... OK
* checking R files for syntax errors ... OK
* checking whether the package can be loaded ... OK
* checking whether the package can be loaded with stated dependencies ... OK
* checking whether the package can be unloaded cleanly ... OK
* checking whether the namespace can be loaded with stated dependencies ... OK
* checking whether the namespace can be unloaded cleanly ... OK
* checking loading without being on the library search path ... OK
* checking dependencies in R code ... NOTE
Namespace in Imports field not imported from: ‘rmarkdown’
All declared Imports should be used.
* checking S3 generic/method consistency ... OK
* checking replacement functions ... OK
* checking foreign function calls ... OK
* checking R code for possible problems ... OK
* checking Rd files ... OK
* checking Rd metadata ... OK
* checking Rd cross-references ... OK
* checking for missing documentation entries ... OK
* checking for code/documentation mismatches ... OK
* checking Rd \usage sections ... OK
* checking Rd contents ... OK
* checking for unstated dependencies in examples ... OK
* checking contents of ‘data’ directory ... OK
* checking data for non-ASCII characters ... OK
* checking data for ASCII and uncompressed saves ... OK
* checking files in ‘vignettes’ ... OK
* checking examples ... OK
* checking for unstated dependencies in ‘tests’ ... OK
* checking tests ...
Running ‘runTests.R’
ERROR
Running the tests in ‘tests/runTests.R’ failed.
Complete output:
> BiocGenerics:::testPackage("bnem")
Error in library("RUnit", quietly = TRUE) :
there is no package called 'RUnit'
Calls: <Anonymous> -> library
Execution halted
* checking for unstated dependencies in vignettes ... OK
* checking package vignettes in ‘inst/doc’ ... OK
* checking running R code from vignettes ...
‘bnem.rmd’ using ‘UTF-8’... OK
NONE
* checking re-building of vignette outputs ... OK
* checking PDF version of manual ... OK
* DONE
Status: 1 ERROR, 1 NOTE
See
‘/home/biocbuild/bbs-3.17-bioc/meat/bnem.Rcheck/00check.log’
for details.
bnem.Rcheck/00install.out
############################################################################## ############################################################################## ### ### Running command: ### ### /home/biocbuild/bbs-3.17-bioc/R/bin/R CMD INSTALL bnem ### ############################################################################## ############################################################################## * installing to library ‘/home/biocbuild/bbs-3.17-bioc/R/site-library’ * installing *source* package ‘bnem’ ... ** using staged installation ** R ** data ** inst ** byte-compile and prepare package for lazy loading ** help *** installing help indices ** building package indices ** installing vignettes ** testing if installed package can be loaded from temporary location ** testing if installed package can be loaded from final location ** testing if installed package keeps a record of temporary installation path * DONE (bnem)
bnem.Rcheck/tests/runTests.Rout.fail
R version 4.3.0 alpha (2023-04-03 r84154)
Copyright (C) 2023 The R Foundation for Statistical Computing
Platform: x86_64-pc-linux-gnu (64-bit)
R is free software and comes with ABSOLUTELY NO WARRANTY.
You are welcome to redistribute it under certain conditions.
Type 'license()' or 'licence()' for distribution details.
R is a collaborative project with many contributors.
Type 'contributors()' for more information and
'citation()' on how to cite R or R packages in publications.
Type 'demo()' for some demos, 'help()' for on-line help, or
'help.start()' for an HTML browser interface to help.
Type 'q()' to quit R.
> BiocGenerics:::testPackage("bnem")
Error in library("RUnit", quietly = TRUE) :
there is no package called 'RUnit'
Calls: <Anonymous> -> library
Execution halted
bnem.Rcheck/bnem-Ex.timings
| name | user | system | elapsed | |
| absorption | 0.001 | 0.000 | 0.001 | |
| absorptionII | 0.001 | 0.000 | 0.001 | |
| addNoise | 1.276 | 0.071 | 1.349 | |
| bcr | 0.008 | 0.000 | 0.009 | |
| bnem | 0.064 | 0.003 | 0.069 | |
| bnemBs | 0.411 | 0.008 | 0.420 | |
| computeFc | 0.010 | 0.001 | 0.011 | |
| convertGraph | 0.001 | 0.000 | 0.002 | |
| dummyCNOlist | 0.004 | 0.000 | 0.005 | |
| epiNEM2Bg | 0.051 | 0.007 | 0.061 | |
| findResiduals | 0.180 | 0.035 | 0.215 | |
| plot.bnem | 0.453 | 0.032 | 0.486 | |
| plot.bnembs | 0.365 | 0.004 | 0.369 | |
| plot.bnemsim | 0.159 | 0.000 | 0.159 | |
| processDataBCR | 0.002 | 0.004 | 0.006 | |
| randomDnf | 0.003 | 0.000 | 0.002 | |
| reduceGraph | 0.009 | 0.000 | 0.009 | |
| scoreDnf | 0.029 | 0.000 | 0.029 | |
| simBoolGtn | 0.087 | 0.000 | 0.087 | |
| simulateStatesRecursive | 0.01 | 0.00 | 0.01 | |
| transClose | 0.006 | 0.012 | 0.018 | |
| transRed | 0.022 | 0.000 | 0.022 | |
| validateGraph | 0.130 | 0.016 | 0.146 | |