| Back to Multiple platform build/check report for BioC 3.17 |
|
This page was generated on 2023-04-12 10:55:22 -0400 (Wed, 12 Apr 2023).
| Hostname | OS | Arch (*) | R version | Installed pkgs |
|---|---|---|---|---|
| nebbiolo1 | Linux (Ubuntu 22.04.1 LTS) | x86_64 | 4.3.0 alpha (2023-04-03 r84154) | 4547 |
| nebbiolo2 | Linux (Ubuntu 20.04.5 LTS) | x86_64 | R Under development (unstable) (2023-02-14 r83833) -- "Unsuffered Consequences" | 4333 |
| Click on any hostname to see more info about the system (e.g. compilers) (*) as reported by 'uname -p', except on Windows and Mac OS X | ||||
|
To the developers/maintainers of the biocthis package: - Allow up to 24 hours (and sometimes 48 hours) for your latest push to git@git.bioconductor.org:packages/biocthis.git to reflect on this report. See Troubleshooting Build Report for more information. - Use the following Renviron settings to reproduce errors and warnings. Note: If "R CMD check" recently failed on the Linux builder over a missing dependency, add the missing dependency to "Suggests" in your DESCRIPTION file. See the Renviron.bioc for details. |
| Package 189/2207 | Hostname | OS / Arch | INSTALL | BUILD | CHECK | BUILD BIN | ||||||||
| biocthis 1.9.3 (landing page) Leonardo Collado-Torres
| nebbiolo1 | Linux (Ubuntu 22.04.1 LTS) / x86_64 | OK | OK | OK | |||||||||
| nebbiolo2 | Linux (Ubuntu 20.04.5 LTS) / x86_64 | OK | OK | OK | ||||||||||
| Package: biocthis |
| Version: 1.9.3 |
| Command: /home/biocbuild/bbs-3.17-bioc/R/bin/R CMD check --install=check:biocthis.install-out.txt --library=/home/biocbuild/bbs-3.17-bioc/R/site-library --timings biocthis_1.9.3.tar.gz |
| StartedAt: 2023-04-11 18:51:52 -0400 (Tue, 11 Apr 2023) |
| EndedAt: 2023-04-11 18:52:30 -0400 (Tue, 11 Apr 2023) |
| EllapsedTime: 37.9 seconds |
| RetCode: 0 |
| Status: OK |
| CheckDir: biocthis.Rcheck |
| Warnings: 0 |
##############################################################################
##############################################################################
###
### Running command:
###
### /home/biocbuild/bbs-3.17-bioc/R/bin/R CMD check --install=check:biocthis.install-out.txt --library=/home/biocbuild/bbs-3.17-bioc/R/site-library --timings biocthis_1.9.3.tar.gz
###
##############################################################################
##############################################################################
* using log directory ‘/home/biocbuild/bbs-3.17-bioc/meat/biocthis.Rcheck’
* using R version 4.3.0 alpha (2023-04-03 r84154)
* using platform: x86_64-pc-linux-gnu (64-bit)
* R was compiled by
gcc (Ubuntu 11.3.0-1ubuntu1~22.04) 11.3.0
GNU Fortran (Ubuntu 11.3.0-1ubuntu1~22.04) 11.3.0
* running under: Ubuntu 22.04.2 LTS
* using session charset: UTF-8
* checking for file ‘biocthis/DESCRIPTION’ ... OK
* this is package ‘biocthis’ version ‘1.9.3’
* package encoding: UTF-8
* checking package namespace information ... OK
* checking package dependencies ... OK
* checking if this is a source package ... OK
* checking if there is a namespace ... OK
* checking for hidden files and directories ... OK
* checking for portable file names ... OK
* checking for sufficient/correct file permissions ... OK
* checking whether package ‘biocthis’ can be installed ... OK
* checking installed package size ... OK
* checking package directory ... OK
* checking ‘build’ directory ... OK
* checking DESCRIPTION meta-information ... OK
* checking top-level files ... OK
* checking for left-over files ... OK
* checking index information ... OK
* checking package subdirectories ... OK
* checking R files for non-ASCII characters ... OK
* checking R files for syntax errors ... OK
* checking whether the package can be loaded ... OK
* checking whether the package can be loaded with stated dependencies ... OK
* checking whether the package can be unloaded cleanly ... OK
* checking whether the namespace can be loaded with stated dependencies ... OK
* checking whether the namespace can be unloaded cleanly ... OK
* checking loading without being on the library search path ... OK
* checking dependencies in R code ... NOTE
Unexported objects imported by ':::' calls:
‘BiocManager:::.version_map_get_online’ ‘BiocManager:::isDevel’
‘usethis:::asciify’ ‘usethis:::check_installed’
‘usethis:::check_is_package’ ‘usethis:::check_vignette_name’
‘usethis:::create_directory’ ‘usethis:::get_active_r_file’
‘usethis:::is_package’ ‘usethis:::package_data’
‘usethis:::project_name’ ‘usethis:::render_template’
‘usethis:::target_repo_spec’ ‘usethis:::use_description_field’
‘usethis:::use_dot_github’ ‘usethis:::uses_git’
See the note in ?`:::` about the use of this operator.
* checking S3 generic/method consistency ... OK
* checking replacement functions ... OK
* checking foreign function calls ... OK
* checking R code for possible problems ... NOTE
use_bioc_github_action: no visible global function definition for
‘browseURL’
Undefined global functions or variables:
browseURL
Consider adding
importFrom("utils", "browseURL")
to your NAMESPACE file.
* checking Rd files ... OK
* checking Rd metadata ... OK
* checking Rd cross-references ... OK
* checking for missing documentation entries ... OK
* checking for code/documentation mismatches ... OK
* checking Rd \usage sections ... OK
* checking Rd contents ... OK
* checking for unstated dependencies in examples ... OK
* checking files in ‘vignettes’ ... OK
* checking examples ... OK
* checking for unstated dependencies in ‘tests’ ... OK
* checking tests ...
Running ‘testthat.R’
OK
* checking for unstated dependencies in vignettes ... OK
* checking package vignettes in ‘inst/doc’ ... OK
* checking running R code from vignettes ...
‘biocthis.Rmd’ using ‘UTF-8’... OK
‘biocthis_dev_notes.Rmd’ using ‘UTF-8’... OK
NONE
* checking re-building of vignette outputs ... OK
* checking PDF version of manual ... OK
* DONE
Status: 2 NOTEs
See
‘/home/biocbuild/bbs-3.17-bioc/meat/biocthis.Rcheck/00check.log’
for details.
biocthis.Rcheck/00install.out
############################################################################## ############################################################################## ### ### Running command: ### ### /home/biocbuild/bbs-3.17-bioc/R/bin/R CMD INSTALL biocthis ### ############################################################################## ############################################################################## * installing to library ‘/home/biocbuild/bbs-3.17-bioc/R/site-library’ * installing *source* package ‘biocthis’ ... ** using staged installation ** R ** inst ** byte-compile and prepare package for lazy loading ** help *** installing help indices ** building package indices ** installing vignettes ** testing if installed package can be loaded from temporary location ** testing if installed package can be loaded from final location ** testing if installed package keeps a record of temporary installation path * DONE (biocthis)
biocthis.Rcheck/tests/testthat.Rout
R version 4.3.0 alpha (2023-04-03 r84154)
Copyright (C) 2023 The R Foundation for Statistical Computing
Platform: x86_64-pc-linux-gnu (64-bit)
R is free software and comes with ABSOLUTELY NO WARRANTY.
You are welcome to redistribute it under certain conditions.
Type 'license()' or 'licence()' for distribution details.
R is a collaborative project with many contributors.
Type 'contributors()' for more information and
'citation()' on how to cite R or R packages in publications.
Type 'demo()' for some demos, 'help()' for on-line help, or
'help.start()' for an HTML browser interface to help.
Type 'q()' to quit R.
> library(testthat)
> library(biocthis)
>
> test_check("biocthis")
[ FAIL 0 | WARN 0 | SKIP 0 | PASS 4 ]
>
> proc.time()
user system elapsed
1.332 0.047 1.973
biocthis.Rcheck/biocthis-Ex.timings
| name | user | system | elapsed | |
| bioc_badges | 0.001 | 0.000 | 0.001 | |
| bioc_style | 0.422 | 0.048 | 0.470 | |
| biocthis_example_pkg | 0.046 | 0.000 | 0.045 | |
| use_bioc_citation | 0.151 | 0.045 | 0.222 | |
| use_bioc_coc | 0.123 | 0.007 | 0.130 | |
| use_bioc_description | 0.125 | 0.005 | 0.130 | |
| use_bioc_feature_request_template | 0.078 | 0.004 | 0.082 | |
| use_bioc_github_action | 0.001 | 0.000 | 0.000 | |
| use_bioc_issue_template | 0.072 | 0.004 | 0.076 | |
| use_bioc_news_md | 0.064 | 0.003 | 0.069 | |
| use_bioc_pkg_templates | 0.166 | 0.013 | 0.178 | |
| use_bioc_pkgdown_css | 0.078 | 0.004 | 0.082 | |
| use_bioc_readme_rmd | 0.159 | 0.011 | 0.171 | |
| use_bioc_support | 0.146 | 0.000 | 0.145 | |
| use_bioc_vignette | 0.810 | 0.025 | 0.836 | |