| Back to Multiple platform build/check report for BioC 3.17 |
|
This page was generated on 2023-04-12 10:55:33 -0400 (Wed, 12 Apr 2023).
| Hostname | OS | Arch (*) | R version | Installed pkgs |
|---|---|---|---|---|
| nebbiolo1 | Linux (Ubuntu 22.04.1 LTS) | x86_64 | 4.3.0 alpha (2023-04-03 r84154) | 4547 |
| nebbiolo2 | Linux (Ubuntu 20.04.5 LTS) | x86_64 | R Under development (unstable) (2023-02-14 r83833) -- "Unsuffered Consequences" | 4333 |
| Click on any hostname to see more info about the system (e.g. compilers) (*) as reported by 'uname -p', except on Windows and Mac OS X | ||||
|
To the developers/maintainers of the amplican package: - Allow up to 24 hours (and sometimes 48 hours) for your latest push to git@git.bioconductor.org:packages/amplican.git to reflect on this report. See Troubleshooting Build Report for more information. - Use the following Renviron settings to reproduce errors and warnings. Note: If "R CMD check" recently failed on the Linux builder over a missing dependency, add the missing dependency to "Suggests" in your DESCRIPTION file. See the Renviron.bioc for details. |
| Package 59/2207 | Hostname | OS / Arch | INSTALL | BUILD | CHECK | BUILD BIN | ||||||||
| amplican 1.21.0 (landing page) Eivind Valen
| nebbiolo1 | Linux (Ubuntu 22.04.1 LTS) / x86_64 | ERROR | ERROR | skipped | |||||||||
| nebbiolo2 | Linux (Ubuntu 20.04.5 LTS) / x86_64 | OK | OK | OK | ||||||||||
| Package: amplican |
| Version: 1.21.0 |
| Command: /home/biocbuild/bbs-3.17-bioc/R/bin/R CMD check --install=check:amplican.install-out.txt --library=/home/biocbuild/bbs-3.17-bioc/R/site-library --timings amplican_1.21.0.tar.gz |
| StartedAt: 2023-04-12 04:38:46 -0400 (Wed, 12 Apr 2023) |
| EndedAt: 2023-04-12 04:42:44 -0400 (Wed, 12 Apr 2023) |
| EllapsedTime: 238.7 seconds |
| RetCode: 0 |
| Status: OK |
| CheckDir: amplican.Rcheck |
| Warnings: 0 |
##############################################################################
##############################################################################
###
### Running command:
###
### /home/biocbuild/bbs-3.17-bioc/R/bin/R CMD check --install=check:amplican.install-out.txt --library=/home/biocbuild/bbs-3.17-bioc/R/site-library --timings amplican_1.21.0.tar.gz
###
##############################################################################
##############################################################################
* using log directory ‘/home/biocbuild/bbs-3.17-bioc/meat/amplican.Rcheck’
* using R Under development (unstable) (2023-02-14 r83833)
* using platform: x86_64-pc-linux-gnu (64-bit)
* R was compiled by
gcc (Ubuntu 9.4.0-1ubuntu1~20.04.1) 9.4.0
GNU Fortran (Ubuntu 9.4.0-1ubuntu1~20.04.1) 9.4.0
* running under: Ubuntu 20.04.6 LTS
* using session charset: UTF-8
* checking for file ‘amplican/DESCRIPTION’ ... OK
* checking extension type ... Package
* this is package ‘amplican’ version ‘1.21.0’
* package encoding: UTF-8
* checking package namespace information ... OK
* checking package dependencies ... OK
* checking if this is a source package ... OK
* checking if there is a namespace ... OK
* checking for hidden files and directories ... OK
* checking for portable file names ... OK
* checking for sufficient/correct file permissions ... OK
* checking whether package ‘amplican’ can be installed ... OK
* used C++ compiler: ‘g++ (Ubuntu 9.4.0-1ubuntu1~20.04.1) 9.4.0’
* checking installed package size ... OK
* checking package directory ... OK
* checking ‘build’ directory ... OK
* checking DESCRIPTION meta-information ... OK
* checking top-level files ... OK
* checking for left-over files ... OK
* checking index information ... OK
* checking package subdirectories ... OK
* checking R files for non-ASCII characters ... OK
* checking R files for syntax errors ... OK
* checking whether the package can be loaded ... OK
* checking whether the package can be loaded with stated dependencies ... OK
* checking whether the package can be unloaded cleanly ... OK
* checking whether the namespace can be loaded with stated dependencies ... OK
* checking whether the namespace can be unloaded cleanly ... OK
* checking loading without being on the library search path ... OK
* checking dependencies in R code ... OK
* checking S3 generic/method consistency ... OK
* checking replacement functions ... OK
* checking foreign function calls ... OK
* checking R code for possible problems ... OK
* checking Rd files ... OK
* checking Rd metadata ... OK
* checking Rd cross-references ... OK
* checking for missing documentation entries ... OK
* checking for code/documentation mismatches ... OK
* checking Rd \usage sections ... OK
* checking Rd contents ... OK
* checking for unstated dependencies in examples ... OK
* checking line endings in C/C++/Fortran sources/headers ... OK
* checking compiled code ... NOTE
Note: information on .o files is not available
* checking files in ‘vignettes’ ... OK
* checking examples ... OK
Examples with CPU (user + system) or elapsed time > 5s
user system elapsed
amplicanAlign 7.078 0.44 7.519
* checking for unstated dependencies in ‘tests’ ... OK
* checking tests ...
Running ‘testthat.R’
OK
* checking for unstated dependencies in vignettes ... OK
* checking package vignettes in ‘inst/doc’ ... OK
* checking running R code from vignettes ...
‘amplicanFAQ.Rmd’ using ‘UTF-8’... OK
‘amplicanOverview.Rmd’ using ‘UTF-8’... OK
‘example_amplicon_report.Rmd’ using ‘UTF-8’... OK
‘example_barcode_report.Rmd’ using ‘UTF-8’... OK
‘example_group_report.Rmd’ using ‘UTF-8’... OK
‘example_guide_report.Rmd’ using ‘UTF-8’... OK
‘example_id_report.Rmd’ using ‘UTF-8’... OK
‘example_index.Rmd’ using ‘UTF-8’... OK
NONE
* checking re-building of vignette outputs ... OK
* checking PDF version of manual ... OK
* DONE
Status: 1 NOTE
See
‘/home/biocbuild/bbs-3.17-bioc/meat/amplican.Rcheck/00check.log’
for details.
amplican.Rcheck/00install.out
############################################################################## ############################################################################## ### ### Running command: ### ### /home/biocbuild/bbs-3.17-bioc/R/bin/R CMD INSTALL amplican ### ############################################################################## ############################################################################## * installing to library ‘/home/biocbuild/bbs-3.17-bioc/R/site-library’ * installing *source* package ‘amplican’ ... ** using staged installation ** libs using C++ compiler: ‘g++ (Ubuntu 9.4.0-1ubuntu1~20.04.1) 9.4.0’ g++ -std=gnu++17 -I"/home/biocbuild/bbs-3.17-bioc/R/include" -DNDEBUG -I'/home/biocbuild/bbs-3.17-bioc/R/site-library/Rcpp/include' -I/usr/local/include -fpic -g -O2 -Wall -c RcppExports.cpp -o RcppExports.o g++ -std=gnu++17 -I"/home/biocbuild/bbs-3.17-bioc/R/include" -DNDEBUG -I'/home/biocbuild/bbs-3.17-bioc/R/site-library/Rcpp/include' -I/usr/local/include -fpic -g -O2 -Wall -c bezier.cpp -o bezier.o g++ -std=gnu++17 -shared -L/home/biocbuild/bbs-3.17-bioc/R/lib -L/usr/local/lib -o amplican.so RcppExports.o bezier.o -L/home/biocbuild/bbs-3.17-bioc/R/lib -lR installing to /home/biocbuild/bbs-3.17-bioc/R/site-library/00LOCK-amplican/00new/amplican/libs ** R ** inst ** byte-compile and prepare package for lazy loading ** help *** installing help indices ** building package indices ** installing vignettes ** testing if installed package can be loaded from temporary location ** checking absolute paths in shared objects and dynamic libraries ** testing if installed package can be loaded from final location ** testing if installed package keeps a record of temporary installation path * DONE (amplican)
amplican.Rcheck/tests/testthat.Rout
R Under development (unstable) (2023-02-14 r83833) -- "Unsuffered Consequences"
Copyright (C) 2023 The R Foundation for Statistical Computing
Platform: x86_64-pc-linux-gnu (64-bit)
R is free software and comes with ABSOLUTELY NO WARRANTY.
You are welcome to redistribute it under certain conditions.
Type 'license()' or 'licence()' for distribution details.
R is a collaborative project with many contributors.
Type 'contributors()' for more information and
'citation()' on how to cite R or R packages in publications.
Type 'demo()' for some demos, 'help()' for on-line help, or
'help.start()' for an HTML browser interface to help.
Type 'q()' to quit R.
> library(testthat)
> library(amplican)
Loading required package: BiocGenerics
Attaching package: 'BiocGenerics'
The following objects are masked from 'package:stats':
IQR, mad, sd, var, xtabs
The following objects are masked from 'package:base':
Filter, Find, Map, Position, Reduce, anyDuplicated, aperm, append,
as.data.frame, basename, cbind, colnames, dirname, do.call,
duplicated, eval, evalq, get, grep, grepl, intersect, is.unsorted,
lapply, mapply, match, mget, order, paste, pmax, pmax.int, pmin,
pmin.int, rank, rbind, rownames, sapply, setdiff, sort, table,
tapply, union, unique, unsplit, which.max, which.min
Loading required package: Biostrings
Loading required package: S4Vectors
Loading required package: stats4
Attaching package: 'S4Vectors'
The following objects are masked from 'package:base':
I, expand.grid, unname
Loading required package: IRanges
Loading required package: XVector
Loading required package: GenomeInfoDb
Attaching package: 'Biostrings'
The following object is masked from 'package:base':
strsplit
Loading required package: data.table
Attaching package: 'data.table'
The following object is masked from 'package:IRanges':
shift
The following objects are masked from 'package:S4Vectors':
first, second
Please consider supporting this software by citing:
Labun et al. 2019
Accurate analysis of genuine CRISPR editing events with ampliCan.
Genome Res. 2019 Mar 8
doi: 10.1101/gr.244293.118
>
> test_check("amplican")
[ FAIL 0 | WARN 5 | SKIP 0 | PASS 57 ]
[ FAIL 0 | WARN 5 | SKIP 0 | PASS 57 ]
>
> proc.time()
user system elapsed
23.633 1.126 24.681
amplican.Rcheck/amplican-Ex.timings
| name | user | system | elapsed | |
| AlignmentsExperimentSet-class | 1.063 | 0.052 | 1.115 | |
| amplicanAlign | 7.078 | 0.440 | 7.519 | |
| amplicanConsensus | 0.103 | 0.000 | 0.103 | |
| amplicanFilter | 0.021 | 0.000 | 0.021 | |
| amplicanMap | 0.247 | 0.000 | 0.246 | |
| amplicanNormalize | 0.050 | 0.000 | 0.029 | |
| amplicanOverlap | 0.018 | 0.000 | 0.018 | |
| amplicanPipeline | 3.998 | 0.064 | 4.046 | |
| amplicanReport | 0.007 | 0.007 | 0.015 | |
| amplicanSummarize | 0.020 | 0.000 | 0.015 | |
| amplican_print_reads | 0.289 | 0.012 | 0.295 | |
| assignedCount | 0.044 | 0.004 | 0.084 | |
| barcodeData-set | 0.025 | 0.000 | 0.025 | |
| barcodeData | 0.025 | 0.000 | 0.025 | |
| comb_along | 0.019 | 0.000 | 0.019 | |
| experimentData-set | 0.025 | 0.000 | 0.025 | |
| experimentData | 0.028 | 0.000 | 0.028 | |
| extractEvents | 2.699 | 0.056 | 2.755 | |
| findEOP | 0.005 | 0.000 | 0.004 | |
| findLQR | 0.005 | 0.000 | 0.005 | |
| findPD | 0.004 | 0.000 | 0.004 | |
| fwdReads-set | 0.026 | 0.000 | 0.026 | |
| fwdReads | 0.355 | 0.000 | 0.355 | |
| fwdReadsType-set | 0.024 | 0.000 | 0.024 | |
| fwdReadsType | 0.023 | 0.000 | 0.023 | |
| geom_bezier | 0.352 | 0.004 | 0.355 | |
| lookupAlignment | 0.276 | 0.000 | 0.276 | |
| metaplot_deletions | 0.209 | 0.000 | 0.209 | |
| metaplot_insertions | 0.296 | 0.004 | 0.295 | |
| metaplot_mismatches | 0.274 | 0.000 | 0.269 | |
| plot_cuts | 0.419 | 0.004 | 0.417 | |
| plot_deletions | 0.234 | 0.004 | 0.239 | |
| plot_height | 0.001 | 0.000 | 0.001 | |
| plot_heterogeneity | 0.311 | 0.000 | 0.298 | |
| plot_insertions | 0.408 | 0.000 | 0.402 | |
| plot_mismatches | 0.494 | 0.004 | 0.493 | |
| plot_variants | 1.509 | 0.092 | 1.591 | |
| readCounts-set | 0.024 | 0.000 | 0.023 | |
| readCounts | 0.023 | 0.000 | 0.023 | |
| rveReads-set | 0.024 | 0.000 | 0.025 | |
| rveReads | 0.329 | 0.000 | 0.330 | |
| rveReadsType-set | 0.023 | 0.000 | 0.022 | |
| rveReadsType | 0.022 | 0.000 | 0.022 | |
| unassignedCount | 0.022 | 0.000 | 0.022 | |
| unassignedData-set | 0.023 | 0.000 | 0.023 | |
| unassignedData | 0.020 | 0.004 | 0.023 | |
| writeAlignments | 0.034 | 0.004 | 0.038 | |