| Back to Multiple platform build/check report for BioC 3.17 |
|
This page was generated on 2023-04-12 10:55:32 -0400 (Wed, 12 Apr 2023).
| Hostname | OS | Arch (*) | R version | Installed pkgs |
|---|---|---|---|---|
| nebbiolo1 | Linux (Ubuntu 22.04.1 LTS) | x86_64 | 4.3.0 alpha (2023-04-03 r84154) | 4547 |
| nebbiolo2 | Linux (Ubuntu 20.04.5 LTS) | x86_64 | R Under development (unstable) (2023-02-14 r83833) -- "Unsuffered Consequences" | 4333 |
| Click on any hostname to see more info about the system (e.g. compilers) (*) as reported by 'uname -p', except on Windows and Mac OS X | ||||
|
To the developers/maintainers of the TimiRGeN package: - Allow up to 24 hours (and sometimes 48 hours) for your latest push to git@git.bioconductor.org:packages/TimiRGeN.git to reflect on this report. See Troubleshooting Build Report for more information. - Use the following Renviron settings to reproduce errors and warnings. Note: If "R CMD check" recently failed on the Linux builder over a missing dependency, add the missing dependency to "Suggests" in your DESCRIPTION file. See the Renviron.bioc for details. |
| Package 2079/2207 | Hostname | OS / Arch | INSTALL | BUILD | CHECK | BUILD BIN | ||||||||
| TimiRGeN 1.9.0 (landing page) Krutik Patel
| nebbiolo1 | Linux (Ubuntu 22.04.1 LTS) / x86_64 | OK | OK | OK | |||||||||
| nebbiolo2 | Linux (Ubuntu 20.04.5 LTS) / x86_64 | OK | OK | OK | ||||||||||
| Package: TimiRGeN |
| Version: 1.9.0 |
| Command: /home/biocbuild/bbs-3.17-bioc/R/bin/R CMD check --install=check:TimiRGeN.install-out.txt --library=/home/biocbuild/bbs-3.17-bioc/R/site-library --timings TimiRGeN_1.9.0.tar.gz |
| StartedAt: 2023-04-12 00:07:46 -0400 (Wed, 12 Apr 2023) |
| EndedAt: 2023-04-12 00:14:45 -0400 (Wed, 12 Apr 2023) |
| EllapsedTime: 419.2 seconds |
| RetCode: 0 |
| Status: OK |
| CheckDir: TimiRGeN.Rcheck |
| Warnings: 0 |
##############################################################################
##############################################################################
###
### Running command:
###
### /home/biocbuild/bbs-3.17-bioc/R/bin/R CMD check --install=check:TimiRGeN.install-out.txt --library=/home/biocbuild/bbs-3.17-bioc/R/site-library --timings TimiRGeN_1.9.0.tar.gz
###
##############################################################################
##############################################################################
* using log directory ‘/home/biocbuild/bbs-3.17-bioc/meat/TimiRGeN.Rcheck’
* using R version 4.3.0 alpha (2023-04-03 r84154)
* using platform: x86_64-pc-linux-gnu (64-bit)
* R was compiled by
gcc (Ubuntu 11.3.0-1ubuntu1~22.04) 11.3.0
GNU Fortran (Ubuntu 11.3.0-1ubuntu1~22.04) 11.3.0
* running under: Ubuntu 22.04.2 LTS
* using session charset: UTF-8
* checking for file ‘TimiRGeN/DESCRIPTION’ ... OK
* checking extension type ... Package
* this is package ‘TimiRGeN’ version ‘1.9.0’
* package encoding: UTF-8
* checking package namespace information ... OK
* checking package dependencies ... OK
* checking if this is a source package ... OK
* checking if there is a namespace ... OK
* checking for hidden files and directories ... OK
* checking for portable file names ... OK
* checking for sufficient/correct file permissions ... OK
* checking whether package ‘TimiRGeN’ can be installed ... OK
* checking installed package size ... OK
* checking package directory ... OK
* checking ‘build’ directory ... OK
* checking DESCRIPTION meta-information ... OK
* checking top-level files ... OK
* checking for left-over files ... OK
* checking index information ... OK
* checking package subdirectories ... OK
* checking R files for non-ASCII characters ... OK
* checking R files for syntax errors ... OK
* checking whether the package can be loaded ... OK
* checking whether the package can be loaded with stated dependencies ... OK
* checking whether the package can be unloaded cleanly ... OK
* checking whether the namespace can be loaded with stated dependencies ... OK
* checking whether the namespace can be unloaded cleanly ... OK
* checking loading without being on the library search path ... OK
* checking dependencies in R code ... OK
* checking S3 generic/method consistency ... OK
* checking replacement functions ... OK
* checking foreign function calls ... OK
* checking R code for possible problems ... OK
* checking Rd files ... OK
* checking Rd metadata ... OK
* checking Rd cross-references ... OK
* checking for missing documentation entries ... OK
* checking for code/documentation mismatches ... OK
* checking Rd \usage sections ... OK
* checking Rd contents ... OK
* checking for unstated dependencies in examples ... OK
* checking contents of ‘data’ directory ... OK
* checking data for non-ASCII characters ... NOTE
Note: found 3 marked UTF-8 strings
* checking LazyData ... OK
* checking data for ASCII and uncompressed saves ... OK
* checking files in ‘vignettes’ ... OK
* checking examples ... OK
Examples with CPU (user + system) or elapsed time > 5s
user system elapsed
addIds 3.813 0.236 5.788
quickHClust 2.993 0.076 8.893
* checking for unstated dependencies in ‘tests’ ... OK
* checking tests ...
Running ‘testthat.R’
OK
* checking for unstated dependencies in vignettes ... OK
* checking package vignettes in ‘inst/doc’ ... OK
* checking running R code from vignettes ...
‘TimiRGeN_tutorial.Rmd’ using ‘UTF-8’... OK
NONE
* checking re-building of vignette outputs ... OK
* checking PDF version of manual ... OK
* DONE
Status: 1 NOTE
See
‘/home/biocbuild/bbs-3.17-bioc/meat/TimiRGeN.Rcheck/00check.log’
for details.
TimiRGeN.Rcheck/00install.out
############################################################################## ############################################################################## ### ### Running command: ### ### /home/biocbuild/bbs-3.17-bioc/R/bin/R CMD INSTALL TimiRGeN ### ############################################################################## ############################################################################## * installing to library ‘/home/biocbuild/bbs-3.17-bioc/R/site-library’ * installing *source* package ‘TimiRGeN’ ... ** using staged installation ** R ** data *** moving datasets to lazyload DB ** inst ** byte-compile and prepare package for lazy loading ** help *** installing help indices ** building package indices ** installing vignettes ** testing if installed package can be loaded from temporary location ** testing if installed package can be loaded from final location ** testing if installed package keeps a record of temporary installation path * DONE (TimiRGeN)
TimiRGeN.Rcheck/tests/testthat.Rout
R version 4.3.0 alpha (2023-04-03 r84154)
Copyright (C) 2023 The R Foundation for Statistical Computing
Platform: x86_64-pc-linux-gnu (64-bit)
R is free software and comes with ABSOLUTELY NO WARRANTY.
You are welcome to redistribute it under certain conditions.
Type 'license()' or 'licence()' for distribution details.
R is a collaborative project with many contributors.
Type 'contributors()' for more information and
'citation()' on how to cite R or R packages in publications.
Type 'demo()' for some demos, 'help()' for on-line help, or
'help.start()' for an HTML browser interface to help.
Type 'q()' to quit R.
> #unit test check
> library(testthat)
> library(TimiRGeN)
Loading required package: Mfuzz
Loading required package: Biobase
Loading required package: BiocGenerics
Attaching package: 'BiocGenerics'
The following objects are masked from 'package:stats':
IQR, mad, sd, var, xtabs
The following objects are masked from 'package:base':
Filter, Find, Map, Position, Reduce, anyDuplicated, aperm, append,
as.data.frame, basename, cbind, colnames, dirname, do.call,
duplicated, eval, evalq, get, grep, grepl, intersect, is.unsorted,
lapply, mapply, match, mget, order, paste, pmax, pmax.int, pmin,
pmin.int, rank, rbind, rownames, sapply, setdiff, sort, table,
tapply, union, unique, unsplit, which.max, which.min
Welcome to Bioconductor
Vignettes contain introductory material; view with
'browseVignettes()'. To cite Bioconductor, see
'citation("Biobase")', and for packages 'citation("pkgname")'.
Loading required package: e1071
Attaching package: 'DynDoc'
The following object is masked from 'package:BiocGenerics':
path
Loading required package: MultiAssayExperiment
Loading required package: SummarizedExperiment
Loading required package: MatrixGenerics
Loading required package: matrixStats
Attaching package: 'matrixStats'
The following objects are masked from 'package:Biobase':
anyMissing, rowMedians
Attaching package: 'MatrixGenerics'
The following objects are masked from 'package:matrixStats':
colAlls, colAnyNAs, colAnys, colAvgsPerRowSet, colCollapse,
colCounts, colCummaxs, colCummins, colCumprods, colCumsums,
colDiffs, colIQRDiffs, colIQRs, colLogSumExps, colMadDiffs,
colMads, colMaxs, colMeans2, colMedians, colMins, colOrderStats,
colProds, colQuantiles, colRanges, colRanks, colSdDiffs, colSds,
colSums2, colTabulates, colVarDiffs, colVars, colWeightedMads,
colWeightedMeans, colWeightedMedians, colWeightedSds,
colWeightedVars, rowAlls, rowAnyNAs, rowAnys, rowAvgsPerColSet,
rowCollapse, rowCounts, rowCummaxs, rowCummins, rowCumprods,
rowCumsums, rowDiffs, rowIQRDiffs, rowIQRs, rowLogSumExps,
rowMadDiffs, rowMads, rowMaxs, rowMeans2, rowMedians, rowMins,
rowOrderStats, rowProds, rowQuantiles, rowRanges, rowRanks,
rowSdDiffs, rowSds, rowSums2, rowTabulates, rowVarDiffs, rowVars,
rowWeightedMads, rowWeightedMeans, rowWeightedMedians,
rowWeightedSds, rowWeightedVars
The following object is masked from 'package:Biobase':
rowMedians
Loading required package: GenomicRanges
Loading required package: stats4
Loading required package: S4Vectors
Attaching package: 'S4Vectors'
The following objects are masked from 'package:base':
I, expand.grid, unname
Loading required package: IRanges
Loading required package: GenomeInfoDb
> test_check(package = "TimiRGeN")
[ FAIL 0 | WARN 49 | SKIP 0 | PASS 124 ]
[ FAIL 0 | WARN 49 | SKIP 0 | PASS 124 ]
>
> proc.time()
user system elapsed
21.743 1.400 23.133
TimiRGeN.Rcheck/TimiRGeN-Ex.timings
| name | user | system | elapsed | |
| UUO_data | 0.005 | 0.000 | 0.005 | |
| addIds | 3.813 | 0.236 | 5.788 | |
| addPrefix | 0.443 | 0.020 | 0.462 | |
| clusterCheck | 0.735 | 0.049 | 1.513 | |
| clusterList | 3.200 | 0.128 | 4.050 | |
| combineGenes | 0.277 | 0.008 | 0.285 | |
| createClusters | 0.627 | 0.020 | 1.153 | |
| createClusters2 | 0.496 | 0.016 | 0.512 | |
| cytoMake | 0 | 0 | 0 | |
| diffExpressRes | 2.265 | 0.100 | 2.910 | |
| dloadGmt | 1.454 | 0.032 | 2.372 | |
| dloadMirdb | 0.000 | 0.000 | 0.001 | |
| dloadMirtarbase | 0.208 | 0.012 | 0.221 | |
| dloadTargetscan | 0 | 0 | 0 | |
| eNames | 2.254 | 0.096 | 3.667 | |
| e_list_mouse | 0.002 | 0.000 | 0.001 | |
| enrichWiki | 2.758 | 0.143 | 3.536 | |
| genesList | 0.565 | 0.034 | 0.599 | |
| getIdsMir | 0.676 | 0.012 | 0.687 | |
| getIdsMrna | 1.601 | 0.068 | 4.132 | |
| gmtEnsembl | 1.383 | 0.032 | 2.085 | |
| hs_mRNA | 0.000 | 0.001 | 0.001 | |
| hs_miR | 0.000 | 0.001 | 0.001 | |
| hs_probes | 0.000 | 0.001 | 0.001 | |
| linearRegr | 2.933 | 0.139 | 3.603 | |
| long_data | 0.004 | 0.000 | 0.004 | |
| makeDynamic | 2.842 | 0.187 | 3.605 | |
| makeMapp | 2.211 | 0.208 | 2.991 | |
| makeNet | 0.051 | 0.004 | 0.056 | |
| matrixFilter | 0.246 | 0.020 | 0.266 | |
| miRTarBase | 0.002 | 0.000 | 0.002 | |
| mirMrnaInt | 0.203 | 0.016 | 0.219 | |
| mm_mRNA | 0.001 | 0.000 | 0.001 | |
| mm_miR | 0.002 | 0.000 | 0.001 | |
| multiReg | 2.754 | 0.168 | 3.500 | |
| quickBar | 2.002 | 0.136 | 2.621 | |
| quickCrossCorr | 2.628 | 0.112 | 3.375 | |
| quickDMap | 2.898 | 0.152 | 3.608 | |
| quickDendro | 2.844 | 0.156 | 3.847 | |
| quickFuzz | 0.719 | 0.037 | 1.362 | |
| quickHClust | 2.993 | 0.076 | 8.893 | |
| quickMap | 0.238 | 0.004 | 0.242 | |
| quickNet | 0.155 | 0.012 | 0.166 | |
| quickPathwayTC | 2.897 | 0.068 | 3.613 | |
| quickReg | 3.115 | 0.144 | 4.179 | |
| quickTC | 2.935 | 0.056 | 4.552 | |
| quickTCPred | 3.176 | 0.080 | 3.786 | |
| reduceWiki | 0.319 | 0.008 | 0.326 | |
| returnCluster | 1.010 | 0.068 | 1.710 | |
| significantVals | 0.265 | 0.016 | 0.281 | |
| startObject | 0.096 | 0.012 | 0.107 | |
| turnPercent | 0.374 | 0.004 | 0.378 | |
| w_list_mouse | 0.000 | 0.001 | 0.001 | |
| wikiMatrix | 0.249 | 0.002 | 0.251 | |
| wikiMrna | 3.667 | 0.175 | 4.928 | |