| Back to Multiple platform build/check report for BioC 3.17 |
|
This page was generated on 2023-04-12 10:55:32 -0400 (Wed, 12 Apr 2023).
| Hostname | OS | Arch (*) | R version | Installed pkgs |
|---|---|---|---|---|
| nebbiolo1 | Linux (Ubuntu 22.04.1 LTS) | x86_64 | 4.3.0 alpha (2023-04-03 r84154) | 4547 |
| nebbiolo2 | Linux (Ubuntu 20.04.5 LTS) | x86_64 | R Under development (unstable) (2023-02-14 r83833) -- "Unsuffered Consequences" | 4333 |
| Click on any hostname to see more info about the system (e.g. compilers) (*) as reported by 'uname -p', except on Windows and Mac OS X | ||||
|
To the developers/maintainers of the TPP package: - Allow up to 24 hours (and sometimes 48 hours) for your latest push to git@git.bioconductor.org:packages/TPP.git to reflect on this report. See Troubleshooting Build Report for more information. - Use the following Renviron settings to reproduce errors and warnings. Note: If "R CMD check" recently failed on the Linux builder over a missing dependency, add the missing dependency to "Suggests" in your DESCRIPTION file. See the Renviron.bioc for details. |
| Package 2095/2207 | Hostname | OS / Arch | INSTALL | BUILD | CHECK | BUILD BIN | ||||||||
| TPP 3.27.1 (landing page) Dorothee Childs
| nebbiolo1 | Linux (Ubuntu 22.04.1 LTS) / x86_64 | OK | OK | OK | |||||||||
| nebbiolo2 | Linux (Ubuntu 20.04.5 LTS) / x86_64 | OK | OK | OK | ||||||||||
| Package: TPP |
| Version: 3.27.1 |
| Command: /home/biocbuild/bbs-3.17-bioc/R/bin/R CMD check --install=check:TPP.install-out.txt --library=/home/biocbuild/bbs-3.17-bioc/R/site-library --timings TPP_3.27.1.tar.gz |
| StartedAt: 2023-04-12 00:10:40 -0400 (Wed, 12 Apr 2023) |
| EndedAt: 2023-04-12 00:20:05 -0400 (Wed, 12 Apr 2023) |
| EllapsedTime: 565.1 seconds |
| RetCode: 0 |
| Status: OK |
| CheckDir: TPP.Rcheck |
| Warnings: 0 |
##############################################################################
##############################################################################
###
### Running command:
###
### /home/biocbuild/bbs-3.17-bioc/R/bin/R CMD check --install=check:TPP.install-out.txt --library=/home/biocbuild/bbs-3.17-bioc/R/site-library --timings TPP_3.27.1.tar.gz
###
##############################################################################
##############################################################################
* using log directory ‘/home/biocbuild/bbs-3.17-bioc/meat/TPP.Rcheck’
* using R version 4.3.0 alpha (2023-04-03 r84154)
* using platform: x86_64-pc-linux-gnu (64-bit)
* R was compiled by
gcc (Ubuntu 11.3.0-1ubuntu1~22.04) 11.3.0
GNU Fortran (Ubuntu 11.3.0-1ubuntu1~22.04) 11.3.0
* running under: Ubuntu 22.04.2 LTS
* using session charset: UTF-8
* checking for file ‘TPP/DESCRIPTION’ ... OK
* checking extension type ... Package
* this is package ‘TPP’ version ‘3.27.1’
* checking package namespace information ... OK
* checking package dependencies ... OK
* checking if this is a source package ... OK
* checking if there is a namespace ... OK
* checking for hidden files and directories ... OK
* checking for portable file names ... OK
* checking for sufficient/correct file permissions ... OK
* checking whether package ‘TPP’ can be installed ... OK
* checking installed package size ... NOTE
installed size is 11.2Mb
sub-directories of 1Mb or more:
data 1.9Mb
example_data 6.3Mb
test_data 2.0Mb
* checking package directory ... OK
* checking ‘build’ directory ... OK
* checking DESCRIPTION meta-information ... OK
* checking top-level files ... OK
* checking for left-over files ... OK
* checking index information ... OK
* checking package subdirectories ... NOTE
Problems with news in ‘NEWS’:
Cannot process chunk/lines:
Updated package vignette.
Cannot process chunk/lines:
Removed unit test that causes R CMD check to crash since the latest update of package 'testthat'.
Cannot process chunk/lines:
Fixed bug in plotColors for the case when no comparisons are specified
* checking R files for non-ASCII characters ... OK
* checking R files for syntax errors ... OK
* checking whether the package can be loaded ... OK
* checking whether the package can be loaded with stated dependencies ... OK
* checking whether the package can be unloaded cleanly ... OK
* checking whether the namespace can be loaded with stated dependencies ... OK
* checking whether the namespace can be unloaded cleanly ... OK
* checking loading without being on the library search path ... OK
* checking startup messages can be suppressed ... OK
* checking dependencies in R code ... NOTE
Namespace in Imports field not imported from: ‘broom’
All declared Imports should be used.
Unexported objects imported by ':::' calls:
‘doParallel:::.options’ ‘mefa:::rep.data.frame’
See the note in ?`:::` about the use of this operator.
* checking S3 generic/method consistency ... OK
* checking replacement functions ... OK
* checking foreign function calls ... OK
* checking R code for possible problems ... NOTE
File ‘TPP/R/TPP.R’:
.onLoad calls:
packageStartupMessage(msgText, "\n")
See section ‘Good practice’ in '?.onAttach'.
fitSigmoidCCR: no visible global function definition for
‘capture.output’
modelSelector: no visible binding for global variable ‘testHypothesis’
modelSelector: no visible binding for global variable ‘fitMetric’
modelSelector: no visible binding for global variable ‘minMetric’
plot_fSta_distribution: no visible binding for global variable
‘density’
plot_pVal_distribution: no visible binding for global variable
‘..density..’
tpp2dCreateTPPTRreference: no visible binding for global variable
‘meltcurve_plot’
tpp2dCreateTPPTRreference: no visible binding for global variable
‘Protein_ID’
tpp2dExport: no visible binding for global variable ‘temperature’
tpp2dImport: no visible binding for global variable ‘temperature’
tpp2dNormalize: no visible binding for global variable ‘temperature’
Undefined global functions or variables:
..density.. Protein_ID capture.output density fitMetric
meltcurve_plot minMetric temperature testHypothesis
Consider adding
importFrom("stats", "density")
importFrom("utils", "capture.output")
to your NAMESPACE file.
* checking Rd files ... OK
* checking Rd metadata ... OK
* checking Rd cross-references ... OK
* checking for missing documentation entries ... OK
* checking for code/documentation mismatches ... OK
* checking Rd \usage sections ... OK
* checking Rd contents ... OK
* checking for unstated dependencies in examples ... OK
* checking contents of ‘data’ directory ... OK
* checking data for non-ASCII characters ... OK
* checking data for ASCII and uncompressed saves ... OK
* checking files in ‘vignettes’ ... OK
* checking examples ... OK
Examples with CPU (user + system) or elapsed time > 5s
user system elapsed
analyzeTPPTR 38.057 0.196 38.276
tpptrSplineFitAndTest 16.973 0.186 17.195
tpptrPlotSplines 11.293 0.238 11.544
tppQCPlotsCorrelateExperiments 10.733 0.212 10.946
tpp2dSplineFitAndTest 10.635 0.024 10.679
tpptrFTest 10.157 0.221 10.394
tpp2dCreateDRplots 9.913 0.038 9.971
tpp2dMerge2dRef 5.340 0.032 5.390
tppccrPlotCurves 5.245 0.056 5.342
analyze2DTPP 5.049 0.149 5.215
* checking for unstated dependencies in ‘tests’ ... OK
* checking tests ...
Running ‘testthat.R’
OK
* checking for unstated dependencies in vignettes ... OK
* checking package vignettes in ‘inst/doc’ ... OK
* checking running R code from vignettes ...
‘NPARC_analysis_of_TPP_TR_data.Rnw’ using ‘UTF-8’... OK
‘TPP_introduction_1D.Rnw’ using ‘UTF-8’... OK
‘TPP_introduction_2D.Rnw’ using ‘UTF-8’... OK
NONE
* checking re-building of vignette outputs ... OK
* checking PDF version of manual ... OK
* DONE
Status: 4 NOTEs
See
‘/home/biocbuild/bbs-3.17-bioc/meat/TPP.Rcheck/00check.log’
for details.
TPP.Rcheck/00install.out
############################################################################## ############################################################################## ### ### Running command: ### ### /home/biocbuild/bbs-3.17-bioc/R/bin/R CMD INSTALL TPP ### ############################################################################## ############################################################################## * installing to library ‘/home/biocbuild/bbs-3.17-bioc/R/site-library’ * installing *source* package ‘TPP’ ... ** using staged installation ** R ** data ** inst ** byte-compile and prepare package for lazy loading ** help *** installing help indices ** building package indices ** installing vignettes ** testing if installed package can be loaded from temporary location ** testing if installed package can be loaded from final location ** testing if installed package keeps a record of temporary installation path * DONE (TPP)
TPP.Rcheck/tests/testthat.Rout
R version 4.3.0 alpha (2023-04-03 r84154)
Copyright (C) 2023 The R Foundation for Statistical Computing
Platform: x86_64-pc-linux-gnu (64-bit)
R is free software and comes with ABSOLUTELY NO WARRANTY.
You are welcome to redistribute it under certain conditions.
Type 'license()' or 'licence()' for distribution details.
R is a collaborative project with many contributors.
Type 'contributors()' for more information and
'citation()' on how to cite R or R packages in publications.
Type 'demo()' for some demos, 'help()' for on-line help, or
'help.start()' for an HTML browser interface to help.
Type 'q()' to quit R.
> library(testthat)
> library(TPP)
Loading required package: Biobase
Loading required package: BiocGenerics
Attaching package: 'BiocGenerics'
The following objects are masked from 'package:stats':
IQR, mad, sd, var, xtabs
The following objects are masked from 'package:base':
Filter, Find, Map, Position, Reduce, anyDuplicated, aperm, append,
as.data.frame, basename, cbind, colnames, dirname, do.call,
duplicated, eval, evalq, get, grep, grepl, intersect, is.unsorted,
lapply, mapply, match, mget, order, paste, pmax, pmax.int, pmin,
pmin.int, rank, rbind, rownames, sapply, setdiff, sort, table,
tapply, union, unique, unsplit, which.max, which.min
Welcome to Bioconductor
Vignettes contain introductory material; view with
'browseVignettes()'. To cite Bioconductor, see
'citation("Biobase")', and for packages 'citation("pkgname")'.
Loading required package: dplyr
Attaching package: 'dplyr'
The following object is masked from 'package:Biobase':
combine
The following objects are masked from 'package:BiocGenerics':
combine, intersect, setdiff, union
The following object is masked from 'package:testthat':
matches
The following objects are masked from 'package:stats':
filter, lag
The following objects are masked from 'package:base':
intersect, setdiff, setequal, union
Loading required package: magrittr
Attaching package: 'magrittr'
The following objects are masked from 'package:testthat':
equals, is_less_than, not
Loading required package: tidyr
Attaching package: 'tidyr'
The following object is masked from 'package:magrittr':
extract
The following object is masked from 'package:testthat':
matches
>
> test_check("TPP")
[[1]]
[[2]]
[[3]]
[[1]]
[[2]]
[[3]]
[[1]]
[[2]]
[[3]]
[[1]]
[[2]]
[[3]]
[[1]]
[[2]]
[[3]]
[[1]]
[ FAIL 0 | WARN 3 | SKIP 0 | PASS 303 ]
[ FAIL 0 | WARN 3 | SKIP 0 | PASS 303 ]
>
> proc.time()
user system elapsed
247.904 5.430 259.376
TPP.Rcheck/TPP-Ex.timings
| name | user | system | elapsed | |
| analyze2DTPP | 5.049 | 0.149 | 5.215 | |
| analyzeTPPCCR | 3.378 | 0.037 | 3.436 | |
| analyzeTPPTR | 38.057 | 0.196 | 38.276 | |
| tpp2dAddAdditionalInfo | 0.025 | 0.000 | 0.027 | |
| tpp2dCalcFractAbundance | 2.142 | 0.020 | 2.162 | |
| tpp2dComputeFoldChanges | 0.393 | 0.000 | 0.393 | |
| tpp2dCreateDRplots | 9.913 | 0.038 | 9.971 | |
| tpp2dCurveFit | 4.892 | 0.084 | 4.996 | |
| tpp2dExport | 0.039 | 0.004 | 0.045 | |
| tpp2dImport | 0.358 | 0.004 | 0.363 | |
| tpp2dMerge2dRef | 5.340 | 0.032 | 5.390 | |
| tpp2dNormalize | 0.530 | 0.016 | 0.547 | |
| tpp2dSplineFitAndTest | 10.635 | 0.024 | 10.679 | |
| tpp2dSplinePlot | 0.004 | 0.004 | 0.008 | |
| tpp2dTRReferenceObject | 0.018 | 0.000 | 0.019 | |
| tppDefaultTheme | 0.407 | 0.000 | 0.407 | |
| tppExport | 0.312 | 0.007 | 0.320 | |
| tppQCPlotsCorrelateExperiments | 10.733 | 0.212 | 10.946 | |
| tppccrCurveFit | 3.505 | 0.059 | 3.578 | |
| tppccrImport | 0.101 | 0.001 | 0.100 | |
| tppccrNormalize | 0.119 | 0.000 | 0.120 | |
| tppccrNormalizeToReference | 0.165 | 0.000 | 0.166 | |
| tppccrPlotCurves | 5.245 | 0.056 | 5.342 | |
| tppccrResultTable | 3.287 | 0.070 | 3.376 | |
| tppccrTransform | 0.163 | 0.012 | 0.175 | |
| tpptrAnalyzeMeltingCurves | 0.379 | 0.004 | 0.382 | |
| tpptrCurveFit | 0.878 | 0.016 | 0.913 | |
| tpptrDefaultNormReqs | 0.353 | 0.023 | 0.378 | |
| tpptrFTest | 10.157 | 0.221 | 10.394 | |
| tpptrFitSplines | 1.463 | 0.031 | 1.508 | |
| tpptrImport | 0.168 | 0.000 | 0.169 | |
| tpptrNormalize | 0.388 | 0.040 | 0.428 | |
| tpptrPlotSplines | 11.293 | 0.238 | 11.544 | |
| tpptrSplineFitAndTest | 16.973 | 0.186 | 17.195 | |
| tpptrTidyUpESets | 0.384 | 0.000 | 0.371 | |