| Back to Multiple platform build/check report for BioC 3.17 |
|
This page was generated on 2023-04-12 10:55:41 -0400 (Wed, 12 Apr 2023).
| Hostname | OS | Arch (*) | R version | Installed pkgs |
|---|---|---|---|---|
| nebbiolo1 | Linux (Ubuntu 22.04.1 LTS) | x86_64 | 4.3.0 alpha (2023-04-03 r84154) | 4547 |
| nebbiolo2 | Linux (Ubuntu 20.04.5 LTS) | x86_64 | R Under development (unstable) (2023-02-14 r83833) -- "Unsuffered Consequences" | 4333 |
| Click on any hostname to see more info about the system (e.g. compilers) (*) as reported by 'uname -p', except on Windows and Mac OS X | ||||
|
To the developers/maintainers of the Sconify package: - Allow up to 24 hours (and sometimes 48 hours) for your latest push to git@git.bioconductor.org:packages/Sconify.git to reflect on this report. See Troubleshooting Build Report for more information. - Use the following Renviron settings to reproduce errors and warnings. Note: If "R CMD check" recently failed on the Linux builder over a missing dependency, add the missing dependency to "Suggests" in your DESCRIPTION file. See the Renviron.bioc for details. |
| Package 1831/2207 | Hostname | OS / Arch | INSTALL | BUILD | CHECK | BUILD BIN | ||||||||
| Sconify 1.19.0 (landing page) Tyler J Burns
| nebbiolo1 | Linux (Ubuntu 22.04.1 LTS) / x86_64 | OK | OK | OK | |||||||||
| nebbiolo2 | Linux (Ubuntu 20.04.5 LTS) / x86_64 | OK | OK | OK | ||||||||||
| Package: Sconify |
| Version: 1.19.0 |
| Command: /home/biocbuild/bbs-3.17-bioc/R/bin/R CMD check --install=check:Sconify.install-out.txt --library=/home/biocbuild/bbs-3.17-bioc/R/site-library --timings Sconify_1.19.0.tar.gz |
| StartedAt: 2023-04-12 09:12:06 -0400 (Wed, 12 Apr 2023) |
| EndedAt: 2023-04-12 09:14:43 -0400 (Wed, 12 Apr 2023) |
| EllapsedTime: 157.3 seconds |
| RetCode: 0 |
| Status: OK |
| CheckDir: Sconify.Rcheck |
| Warnings: 0 |
##############################################################################
##############################################################################
###
### Running command:
###
### /home/biocbuild/bbs-3.17-bioc/R/bin/R CMD check --install=check:Sconify.install-out.txt --library=/home/biocbuild/bbs-3.17-bioc/R/site-library --timings Sconify_1.19.0.tar.gz
###
##############################################################################
##############################################################################
* using log directory ‘/home/biocbuild/bbs-3.17-bioc/meat/Sconify.Rcheck’
* using R Under development (unstable) (2023-02-14 r83833)
* using platform: x86_64-pc-linux-gnu (64-bit)
* R was compiled by
gcc (Ubuntu 9.4.0-1ubuntu1~20.04.1) 9.4.0
GNU Fortran (Ubuntu 9.4.0-1ubuntu1~20.04.1) 9.4.0
* running under: Ubuntu 20.04.6 LTS
* using session charset: UTF-8
* checking for file ‘Sconify/DESCRIPTION’ ... OK
* checking extension type ... Package
* this is package ‘Sconify’ version ‘1.19.0’
* package encoding: UTF-8
* checking package namespace information ... OK
* checking package dependencies ... OK
* checking if this is a source package ... OK
* checking if there is a namespace ... OK
* checking for hidden files and directories ... OK
* checking for portable file names ... OK
* checking for sufficient/correct file permissions ... OK
* checking whether package ‘Sconify’ can be installed ... OK
* checking installed package size ... OK
* checking package directory ... OK
* checking ‘build’ directory ... OK
* checking DESCRIPTION meta-information ... OK
* checking top-level files ... OK
* checking for left-over files ... OK
* checking index information ... OK
* checking package subdirectories ... OK
* checking R files for non-ASCII characters ... OK
* checking R files for syntax errors ... OK
* checking whether the package can be loaded ... OK
* checking whether the package can be loaded with stated dependencies ... OK
* checking whether the package can be unloaded cleanly ... OK
* checking whether the namespace can be loaded with stated dependencies ... OK
* checking whether the namespace can be unloaded cleanly ... OK
* checking loading without being on the library search path ... OK
* checking dependencies in R code ... OK
* checking S3 generic/method consistency ... OK
* checking replacement functions ... OK
* checking foreign function calls ... OK
* checking R code for possible problems ... OK
* checking Rd files ... OK
* checking Rd metadata ... OK
* checking Rd cross-references ... OK
* checking for missing documentation entries ... OK
* checking for code/documentation mismatches ... OK
* checking Rd \usage sections ... OK
* checking Rd contents ... OK
* checking for unstated dependencies in examples ... OK
* checking contents of ‘data’ directory ... OK
* checking data for non-ASCII characters ... OK
* checking LazyData ... OK
* checking data for ASCII and uncompressed saves ... OK
* checking files in ‘vignettes’ ... OK
* checking examples ... OK
Examples with CPU (user + system) or elapsed time > 5s
user system elapsed
SconeValues 14.311 0.128 14.439
* checking for unstated dependencies in ‘tests’ ... OK
* checking tests ...
Running ‘testthat.R’
OK
* checking for unstated dependencies in vignettes ... OK
* checking package vignettes in ‘inst/doc’ ... OK
* checking running R code from vignettes ...
‘DataQuality.Rmd’ using ‘UTF-8’... OK
‘FindingIdealK.Rmd’ using ‘UTF-8’... OK
‘Step1.PreProcessing.Rmd’ using ‘UTF-8’... OK
‘Step2.TheSconeWorkflow.Rmd’ using ‘UTF-8’... OK
‘Step3.PostProcessing.Rmd’ using ‘UTF-8’... OK
NONE
* checking re-building of vignette outputs ... OK
* checking PDF version of manual ... OK
* DONE
Status: OK
Sconify.Rcheck/00install.out
############################################################################## ############################################################################## ### ### Running command: ### ### /home/biocbuild/bbs-3.17-bioc/R/bin/R CMD INSTALL Sconify ### ############################################################################## ############################################################################## * installing to library ‘/home/biocbuild/bbs-3.17-bioc/R/site-library’ * installing *source* package ‘Sconify’ ... ** using staged installation ** R ** data *** moving datasets to lazyload DB ** inst ** byte-compile and prepare package for lazy loading Note: wrong number of arguments to '/' Note: wrong number of arguments to 'asinh' ** help *** installing help indices ** building package indices ** installing vignettes ** testing if installed package can be loaded from temporary location ** testing if installed package can be loaded from final location ** testing if installed package keeps a record of temporary installation path * DONE (Sconify)
Sconify.Rcheck/tests/testthat.Rout
R Under development (unstable) (2023-02-14 r83833) -- "Unsuffered Consequences"
Copyright (C) 2023 The R Foundation for Statistical Computing
Platform: x86_64-pc-linux-gnu (64-bit)
R is free software and comes with ABSOLUTELY NO WARRANTY.
You are welcome to redistribute it under certain conditions.
Type 'license()' or 'licence()' for distribution details.
R is a collaborative project with many contributors.
Type 'contributors()' for more information and
'citation()' on how to cite R or R packages in publications.
Type 'demo()' for some demos, 'help()' for on-line help, or
'help.start()' for an HTML browser interface to help.
Type 'q()' to quit R.
> library(testthat)
> library(Sconify)
>
> test_check("Sconify")
Read the 100 x 27 data matrix successfully!
OpenMP is working. 1 threads.
Using no_dims = 2, perplexity = 30.000000, and theta = 0.500000
Computing input similarities...
Building tree...
Done in 0.01 seconds (sparsity = 0.969400)!
Learning embedding...
Iteration 50: error is 51.217907 (50 iterations in 0.01 seconds)
Iteration 100: error is 51.138182 (50 iterations in 0.01 seconds)
Iteration 150: error is 51.813289 (50 iterations in 0.01 seconds)
Iteration 200: error is 48.176293 (50 iterations in 0.01 seconds)
Iteration 250: error is 52.002895 (50 iterations in 0.01 seconds)
Iteration 300: error is 1.151402 (50 iterations in 0.01 seconds)
Iteration 350: error is 0.450955 (50 iterations in 0.01 seconds)
Iteration 400: error is 0.211828 (50 iterations in 0.01 seconds)
Iteration 450: error is 0.176743 (50 iterations in 0.01 seconds)
Iteration 500: error is 0.169255 (50 iterations in 0.01 seconds)
Iteration 550: error is 0.167376 (50 iterations in 0.01 seconds)
Iteration 600: error is 0.158652 (50 iterations in 0.01 seconds)
Iteration 650: error is 0.158630 (50 iterations in 0.01 seconds)
Iteration 700: error is 0.159730 (50 iterations in 0.01 seconds)
Iteration 750: error is 0.159124 (50 iterations in 0.01 seconds)
Iteration 800: error is 0.158149 (50 iterations in 0.01 seconds)
Iteration 850: error is 0.159059 (50 iterations in 0.01 seconds)
Iteration 900: error is 0.159441 (50 iterations in 0.01 seconds)
Iteration 950: error is 0.160077 (50 iterations in 0.01 seconds)
Iteration 1000: error is 0.158607 (50 iterations in 0.01 seconds)
Fitting performed in 0.18 seconds.
Read the 1000 x 27 data matrix successfully!
OpenMP is working. 1 threads.
Using no_dims = 2, perplexity = 30.000000, and theta = 0.500000
Computing input similarities...
Building tree...
Done in 0.12 seconds (sparsity = 0.129120)!
Learning embedding...
Iteration 50: error is 66.251653 (50 iterations in 0.24 seconds)
Iteration 100: error is 60.749924 (50 iterations in 0.20 seconds)
Iteration 150: error is 60.354230 (50 iterations in 0.20 seconds)
Iteration 200: error is 60.216001 (50 iterations in 0.20 seconds)
Iteration 250: error is 60.152694 (50 iterations in 0.23 seconds)
Iteration 300: error is 1.337144 (50 iterations in 0.16 seconds)
Iteration 350: error is 1.229724 (50 iterations in 0.14 seconds)
Iteration 400: error is 1.197815 (50 iterations in 0.14 seconds)
Iteration 450: error is 1.186509 (50 iterations in 0.14 seconds)
Iteration 500: error is 1.180094 (50 iterations in 0.14 seconds)
Iteration 550: error is 1.175949 (50 iterations in 0.15 seconds)
Iteration 600: error is 1.172860 (50 iterations in 0.15 seconds)
Iteration 650: error is 1.169917 (50 iterations in 0.14 seconds)
Iteration 700: error is 1.165685 (50 iterations in 0.14 seconds)
Iteration 750: error is 1.162461 (50 iterations in 0.14 seconds)
Iteration 800: error is 1.159774 (50 iterations in 0.15 seconds)
Iteration 850: error is 1.158031 (50 iterations in 0.14 seconds)
Iteration 900: error is 1.156082 (50 iterations in 0.14 seconds)
Iteration 950: error is 1.154882 (50 iterations in 0.14 seconds)
Iteration 1000: error is 1.153088 (50 iterations in 0.15 seconds)
Fitting performed in 3.25 seconds.
[ FAIL 0 | WARN 4 | SKIP 0 | PASS 72 ]
[ FAIL 0 | WARN 4 | SKIP 0 | PASS 72 ]
>
> proc.time()
user system elapsed
23.238 0.484 23.724
Sconify.Rcheck/Sconify-Ex.timings
| name | user | system | elapsed | |
| FcsToTibble | 0.156 | 0.004 | 0.160 | |
| Fnn | 0.302 | 0.215 | 0.518 | |
| GetKnnDe | 0.069 | 0.007 | 0.076 | |
| GetMarkerNames | 0.025 | 0.004 | 0.030 | |
| ImputeTesting | 3.565 | 0.035 | 3.601 | |
| MakeHist | 0.457 | 0.000 | 0.457 | |
| MakeKnnList | 0.351 | 0.003 | 0.356 | |
| MeaningOfLife | 0.000 | 0.000 | 0.001 | |
| ParseMarkers | 0.285 | 0.020 | 0.324 | |
| PostProcessing | 0.138 | 0.028 | 0.165 | |
| ProcessMultipleFiles | 0.527 | 0.020 | 0.546 | |
| QuantNormalizeElements | 0.241 | 0.008 | 0.249 | |
| SconeValues | 14.311 | 0.128 | 14.439 | |
| SplitFile | 0.103 | 0.004 | 0.107 | |
| StringToNumbers | 0.001 | 0.000 | 0.001 | |
| SubsampleAndTsne | 1.675 | 0.024 | 1.699 | |
| TsneVis | 0.243 | 0.019 | 0.263 | |