| Back to Multiple platform build/check report for BioC 3.17 | 
 | 
This page was generated on 2023-04-12 10:55:32 -0400 (Wed, 12 Apr 2023).
| Hostname | OS | Arch (*) | R version | Installed pkgs | 
|---|---|---|---|---|
| nebbiolo1 | Linux (Ubuntu 22.04.1 LTS) | x86_64 | 4.3.0 alpha (2023-04-03 r84154) | 4547 | 
| nebbiolo2 | Linux (Ubuntu 20.04.5 LTS) | x86_64 | R Under development (unstable) (2023-02-14 r83833) -- "Unsuffered Consequences" | 4333 | 
| Click on any hostname to see more info about the system (e.g. compilers) (*) as reported by 'uname -p', except on Windows and Mac OS X | ||||
| To the developers/maintainers of the SWATH2stats package: - Allow up to 24 hours (and sometimes 48 hours) for your latest push to git@git.bioconductor.org:packages/SWATH2stats.git to reflect on this report. See Troubleshooting Build Report for more information. - Use the following Renviron settings to reproduce errors and warnings. Note: If "R CMD check" recently failed on the Linux builder over a missing dependency, add the missing dependency to "Suggests" in your DESCRIPTION file. See the Renviron.bioc for details. | 
| Package 2029/2207 | Hostname | OS / Arch | INSTALL | BUILD | CHECK | BUILD BIN | ||||||||
| SWATH2stats 1.29.0  (landing page) Peter Blattmann 
 | nebbiolo1 | Linux (Ubuntu 22.04.1 LTS) / x86_64 | OK | OK | OK | |||||||||
| nebbiolo2 | Linux (Ubuntu 20.04.5 LTS) / x86_64 | OK | OK | OK | ||||||||||
| Package: SWATH2stats | 
| Version: 1.29.0 | 
| Command: /home/biocbuild/bbs-3.17-bioc/R/bin/R CMD check --install=check:SWATH2stats.install-out.txt --library=/home/biocbuild/bbs-3.17-bioc/R/site-library --timings SWATH2stats_1.29.0.tar.gz | 
| StartedAt: 2023-04-12 00:00:33 -0400 (Wed, 12 Apr 2023) | 
| EndedAt: 2023-04-12 00:03:48 -0400 (Wed, 12 Apr 2023) | 
| EllapsedTime: 195.0 seconds | 
| RetCode: 0 | 
| Status: OK | 
| CheckDir: SWATH2stats.Rcheck | 
| Warnings: 0 | 
##############################################################################
##############################################################################
###
### Running command:
###
###   /home/biocbuild/bbs-3.17-bioc/R/bin/R CMD check --install=check:SWATH2stats.install-out.txt --library=/home/biocbuild/bbs-3.17-bioc/R/site-library --timings SWATH2stats_1.29.0.tar.gz
###
##############################################################################
##############################################################################
* using log directory ‘/home/biocbuild/bbs-3.17-bioc/meat/SWATH2stats.Rcheck’
* using R version 4.3.0 alpha (2023-04-03 r84154)
* using platform: x86_64-pc-linux-gnu (64-bit)
* R was compiled by
    gcc (Ubuntu 11.3.0-1ubuntu1~22.04) 11.3.0
    GNU Fortran (Ubuntu 11.3.0-1ubuntu1~22.04) 11.3.0
* running under: Ubuntu 22.04.2 LTS
* using session charset: UTF-8
* checking for file ‘SWATH2stats/DESCRIPTION’ ... OK
* checking extension type ... Package
* this is package ‘SWATH2stats’ version ‘1.29.0’
* package encoding: UTF-8
* checking package namespace information ... OK
* checking package dependencies ... NOTE
Package which this enhances but not available for checking: ‘aLFQ’
* checking if this is a source package ... OK
* checking if there is a namespace ... OK
* checking for hidden files and directories ... OK
* checking for portable file names ... OK
* checking for sufficient/correct file permissions ... OK
* checking whether package ‘SWATH2stats’ can be installed ... OK
* checking installed package size ... OK
* checking package directory ... OK
* checking ‘build’ directory ... OK
* checking DESCRIPTION meta-information ... OK
* checking top-level files ... OK
* checking for left-over files ... OK
* checking index information ... OK
* checking package subdirectories ... OK
* checking R files for non-ASCII characters ... OK
* checking R files for syntax errors ... OK
* checking whether the package can be loaded ... OK
* checking whether the package can be loaded with stated dependencies ... OK
* checking whether the package can be unloaded cleanly ... OK
* checking whether the namespace can be loaded with stated dependencies ... OK
* checking whether the namespace can be unloaded cleanly ... OK
* checking loading without being on the library search path ... OK
* checking dependencies in R code ... OK
* checking S3 generic/method consistency ... OK
* checking replacement functions ... OK
* checking foreign function calls ... OK
* checking R code for possible problems ... OK
* checking Rd files ... NOTE
checkRd: (-1) sample_annotation.Rd:29: Escaped LaTeX specials: \_
* checking Rd metadata ... OK
* checking Rd cross-references ... OK
* checking for missing documentation entries ... OK
* checking for code/documentation mismatches ... OK
* checking Rd \usage sections ... OK
* checking Rd contents ... OK
* checking for unstated dependencies in examples ... OK
* checking contents of ‘data’ directory ... OK
* checking data for non-ASCII characters ... OK
* checking data for ASCII and uncompressed saves ... OK
* checking files in ‘vignettes’ ... OK
* checking examples ... OK
Examples with CPU (user + system) or elapsed time > 5s
           user system elapsed
load_mart 0.757  0.088   7.317
* checking for unstated dependencies in ‘tests’ ... OK
* checking tests ...
  Running ‘test-all.R’
 OK
* checking for unstated dependencies in vignettes ... OK
* checking package vignettes in ‘inst/doc’ ... OK
* checking running R code from vignettes ...
  ‘SWATH2stats_example_script.Rmd’ using ‘UTF-8’... OK
  ‘SWATH2stats_vignette.Rnw’ using ‘UTF-8’... OK
 OK
* checking re-building of vignette outputs ... OK
* checking PDF version of manual ... OK
* DONE
Status: 2 NOTEs
See
  ‘/home/biocbuild/bbs-3.17-bioc/meat/SWATH2stats.Rcheck/00check.log’
for details.
SWATH2stats.Rcheck/00install.out
############################################################################## ############################################################################## ### ### Running command: ### ### /home/biocbuild/bbs-3.17-bioc/R/bin/R CMD INSTALL SWATH2stats ### ############################################################################## ############################################################################## * installing to library ‘/home/biocbuild/bbs-3.17-bioc/R/site-library’ * installing *source* package ‘SWATH2stats’ ... ** using staged installation ** R ** data ** inst ** byte-compile and prepare package for lazy loading ** help *** installing help indices ** building package indices ** installing vignettes ** testing if installed package can be loaded from temporary location ** testing if installed package can be loaded from final location ** testing if installed package keeps a record of temporary installation path * DONE (SWATH2stats)
SWATH2stats.Rcheck/tests/test-all.Rout
R version 4.3.0 alpha (2023-04-03 r84154)
Copyright (C) 2023 The R Foundation for Statistical Computing
Platform: x86_64-pc-linux-gnu (64-bit)
R is free software and comes with ABSOLUTELY NO WARRANTY.
You are welcome to redistribute it under certain conditions.
Type 'license()' or 'licence()' for distribution details.
R is a collaborative project with many contributors.
Type 'contributors()' for more information and
'citation()' on how to cite R or R packages in publications.
Type 'demo()' for some demos, 'help()' for on-line help, or
'help.start()' for an HTML browser interface to help.
Type 'q()' to quit R.
> library(testthat)
> test_check("SWATH2stats")
Loading required package: SWATH2stats
[1] "peterb_J131223_054"
[1] "peterb_L150425_011_SW"
[1] "peterb_L150514_002_SW"
[ FAIL 0 | WARN 74 | SKIP 0 | PASS 113 ]
[ FAIL 0 | WARN 74 | SKIP 0 | PASS 113 ]
> 
> proc.time()
   user  system elapsed 
 12.238   0.761  17.994 
SWATH2stats.Rcheck/SWATH2stats-Ex.timings
| name | user | system | elapsed | |
| JPP_update | 0.113 | 0.004 | 0.117 | |
| add_genesymbol | 0.008 | 0.000 | 0.008 | |
| assess_decoy_rate | 0.104 | 0.005 | 0.108 | |
| assess_fdr_byrun | 0.184 | 0.007 | 0.192 | |
| assess_fdr_overall | 0.149 | 0.004 | 0.153 | |
| convert4MSstats | 0.739 | 0.036 | 0.776 | |
| convert4PECA | 0.171 | 0.011 | 0.183 | |
| convert4aLFQ | 0.956 | 0.016 | 0.972 | |
| convert4mapDIA | 0.379 | 0.023 | 0.403 | |
| convert4pythonscript | 0.126 | 0.008 | 0.134 | |
| convert_protein_ids | 0 | 0 | 0 | |
| count_analytes | 0.153 | 0.000 | 0.153 | |
| disaggregate | 0.226 | 0.019 | 0.246 | |
| filter_all_peptides | 0.145 | 0.000 | 0.145 | |
| filter_mscore | 0.186 | 0.000 | 0.172 | |
| filter_mscore_condition | 0.183 | 0.000 | 0.170 | |
| filter_mscore_fdr | 0.356 | 0.015 | 0.372 | |
| filter_mscore_freqobs | 0.169 | 0.000 | 0.154 | |
| filter_on_max_peptides | 0.181 | 0.001 | 0.169 | |
| filter_on_min_peptides | 0.174 | 0.000 | 0.162 | |
| filter_proteotypic_peptides | 0.136 | 0.000 | 0.135 | |
| import_data | 0.477 | 0.007 | 0.486 | |
| load_mart | 0.757 | 0.088 | 7.317 | |
| mscore4assayfdr | 0.361 | 0.052 | 0.413 | |
| mscore4pepfdr | 0.276 | 0.008 | 0.284 | |
| mscore4protfdr | 0.207 | 0.000 | 0.206 | |
| plot.fdr_cube | 0.136 | 0.008 | 0.144 | |
| plot.fdr_table | 0.138 | 0.008 | 0.145 | |
| plot_correlation_between_samples | 0.405 | 0.008 | 0.412 | |
| plot_variation | 0.424 | 0.020 | 0.444 | |
| plot_variation_vs_total | 0.358 | 0.020 | 0.377 | |
| reduce_OpenSWATH_output | 0.138 | 0.012 | 0.149 | |
| removeDecoyProteins | 0.119 | 0.004 | 0.123 | |
| sample_annotation | 0.144 | 0.004 | 0.148 | |
| transform_MSstats_OpenSWATH | 0.000 | 0.003 | 0.003 | |
| unifyProteinGroupLabels | 0.120 | 0.012 | 0.132 | |
| validate_columns | 0.001 | 0.000 | 0.001 | |
| write_matrix_peptides | 0.140 | 0.004 | 0.144 | |
| write_matrix_proteins | 0.119 | 0.008 | 0.128 | |