| Back to Multiple platform build/check report for BioC 3.17 |
|
This page was generated on 2023-04-12 10:55:32 -0400 (Wed, 12 Apr 2023).
| Hostname | OS | Arch (*) | R version | Installed pkgs |
|---|---|---|---|---|
| nebbiolo1 | Linux (Ubuntu 22.04.1 LTS) | x86_64 | 4.3.0 alpha (2023-04-03 r84154) | 4547 |
| nebbiolo2 | Linux (Ubuntu 20.04.5 LTS) | x86_64 | R Under development (unstable) (2023-02-14 r83833) -- "Unsuffered Consequences" | 4333 |
| Click on any hostname to see more info about the system (e.g. compilers) (*) as reported by 'uname -p', except on Windows and Mac OS X | ||||
|
To the developers/maintainers of the SPIAT package: - Allow up to 24 hours (and sometimes 48 hours) for your latest push to git@git.bioconductor.org:packages/SPIAT.git to reflect on this report. See Troubleshooting Build Report for more information. - Use the following Renviron settings to reproduce errors and warnings. Note: If "R CMD check" recently failed on the Linux builder over a missing dependency, add the missing dependency to "Suggests" in your DESCRIPTION file. See the Renviron.bioc for details. |
| Package 1965/2207 | Hostname | OS / Arch | INSTALL | BUILD | CHECK | BUILD BIN | ||||||||
| SPIAT 1.1.5 (landing page) Yuzhou Feng
| nebbiolo1 | Linux (Ubuntu 22.04.1 LTS) / x86_64 | OK | OK | OK | |||||||||
| nebbiolo2 | Linux (Ubuntu 20.04.5 LTS) / x86_64 | OK | OK | OK | ||||||||||
| Package: SPIAT |
| Version: 1.1.5 |
| Command: /home/biocbuild/bbs-3.17-bioc/R/bin/R CMD check --install=check:SPIAT.install-out.txt --library=/home/biocbuild/bbs-3.17-bioc/R/site-library --timings SPIAT_1.1.5.tar.gz |
| StartedAt: 2023-04-11 23:48:44 -0400 (Tue, 11 Apr 2023) |
| EndedAt: 2023-04-11 23:58:43 -0400 (Tue, 11 Apr 2023) |
| EllapsedTime: 599.1 seconds |
| RetCode: 0 |
| Status: OK |
| CheckDir: SPIAT.Rcheck |
| Warnings: 0 |
##############################################################################
##############################################################################
###
### Running command:
###
### /home/biocbuild/bbs-3.17-bioc/R/bin/R CMD check --install=check:SPIAT.install-out.txt --library=/home/biocbuild/bbs-3.17-bioc/R/site-library --timings SPIAT_1.1.5.tar.gz
###
##############################################################################
##############################################################################
* using log directory ‘/home/biocbuild/bbs-3.17-bioc/meat/SPIAT.Rcheck’
* using R version 4.3.0 alpha (2023-04-03 r84154)
* using platform: x86_64-pc-linux-gnu (64-bit)
* R was compiled by
gcc (Ubuntu 11.3.0-1ubuntu1~22.04) 11.3.0
GNU Fortran (Ubuntu 11.3.0-1ubuntu1~22.04) 11.3.0
* running under: Ubuntu 22.04.2 LTS
* using session charset: UTF-8
* checking for file ‘SPIAT/DESCRIPTION’ ... OK
* checking extension type ... Package
* this is package ‘SPIAT’ version ‘1.1.5’
* package encoding: UTF-8
* checking package namespace information ... OK
* checking package dependencies ... OK
* checking if this is a source package ... OK
* checking if there is a namespace ... OK
* checking for hidden files and directories ... OK
* checking for portable file names ... OK
* checking for sufficient/correct file permissions ... OK
* checking whether package ‘SPIAT’ can be installed ... OK
* checking installed package size ... OK
* checking package directory ... OK
* checking ‘build’ directory ... OK
* checking DESCRIPTION meta-information ... OK
* checking top-level files ... OK
* checking for left-over files ... OK
* checking index information ... OK
* checking package subdirectories ... OK
* checking R files for non-ASCII characters ... OK
* checking R files for syntax errors ... OK
* checking whether the package can be loaded ... OK
* checking whether the package can be loaded with stated dependencies ... OK
* checking whether the package can be unloaded cleanly ... OK
* checking whether the namespace can be loaded with stated dependencies ... OK
* checking whether the namespace can be unloaded cleanly ... OK
* checking loading without being on the library search path ... OK
* checking dependencies in R code ... OK
* checking S3 generic/method consistency ... OK
* checking replacement functions ... OK
* checking foreign function calls ... OK
* checking R code for possible problems ... OK
* checking Rd files ... OK
* checking Rd metadata ... OK
* checking Rd cross-references ... OK
* checking for missing documentation entries ... OK
* checking for code/documentation mismatches ... OK
* checking Rd \usage sections ... OK
* checking Rd contents ... OK
* checking for unstated dependencies in examples ... OK
* checking contents of ‘data’ directory ... OK
* checking data for non-ASCII characters ... OK
* checking LazyData ... OK
* checking data for ASCII and uncompressed saves ... OK
* checking files in ‘vignettes’ ... OK
* checking examples ... OK
Examples with CPU (user + system) or elapsed time > 5s
user system elapsed
dimensionality_reduction_plot 21.198 0.072 21.270
calculate_percentage_of_grids 9.242 0.188 9.430
calculate_pairwise_distances_between_celltypes 5.175 0.784 5.958
calculate_spatial_autocorrelation 5.062 0.048 5.110
* checking for unstated dependencies in ‘tests’ ... OK
* checking tests ...
Running ‘testthat.R’
OK
* checking for unstated dependencies in vignettes ... OK
* checking package vignettes in ‘inst/doc’ ... OK
* checking running R code from vignettes ...
‘SPIAT.Rmd’ using ‘UTF-8’... OK
‘basic_analysis.Rmd’ using ‘UTF-8’... OK
‘cell-colocalisation.Rmd’ using ‘UTF-8’... OK
‘data_reading-formatting.Rmd’ using ‘UTF-8’... OK
‘neighborhood.Rmd’ using ‘UTF-8’... OK
‘quality-control_visualisation.Rmd’ using ‘UTF-8’... OK
‘spatial-heterogeneity.Rmd’ using ‘UTF-8’... OK
‘tissue-structure.Rmd’ using ‘UTF-8’... OK
NONE
* checking re-building of vignette outputs ... OK
* checking PDF version of manual ... OK
* DONE
Status: OK
SPIAT.Rcheck/00install.out
############################################################################## ############################################################################## ### ### Running command: ### ### /home/biocbuild/bbs-3.17-bioc/R/bin/R CMD INSTALL SPIAT ### ############################################################################## ############################################################################## * installing to library ‘/home/biocbuild/bbs-3.17-bioc/R/site-library’ * installing *source* package ‘SPIAT’ ... ** using staged installation ** R ** data *** moving datasets to lazyload DB ** inst ** byte-compile and prepare package for lazy loading ** help *** installing help indices ** building package indices ** installing vignettes ** testing if installed package can be loaded from temporary location ** testing if installed package can be loaded from final location ** testing if installed package keeps a record of temporary installation path * DONE (SPIAT)
SPIAT.Rcheck/tests/testthat.Rout
R version 4.3.0 alpha (2023-04-03 r84154)
Copyright (C) 2023 The R Foundation for Statistical Computing
Platform: x86_64-pc-linux-gnu (64-bit)
R is free software and comes with ABSOLUTELY NO WARRANTY.
You are welcome to redistribute it under certain conditions.
Type 'license()' or 'licence()' for distribution details.
R is a collaborative project with many contributors.
Type 'contributors()' for more information and
'citation()' on how to cite R or R packages in publications.
Type 'demo()' for some demos, 'help()' for on-line help, or
'help.start()' for an HTML browser interface to help.
Type 'q()' to quit R.
> library(testthat)
> library(SPIAT)
Loading required package: SpatialExperiment
Loading required package: SingleCellExperiment
Loading required package: SummarizedExperiment
Loading required package: MatrixGenerics
Loading required package: matrixStats
Attaching package: 'MatrixGenerics'
The following objects are masked from 'package:matrixStats':
colAlls, colAnyNAs, colAnys, colAvgsPerRowSet, colCollapse,
colCounts, colCummaxs, colCummins, colCumprods, colCumsums,
colDiffs, colIQRDiffs, colIQRs, colLogSumExps, colMadDiffs,
colMads, colMaxs, colMeans2, colMedians, colMins, colOrderStats,
colProds, colQuantiles, colRanges, colRanks, colSdDiffs, colSds,
colSums2, colTabulates, colVarDiffs, colVars, colWeightedMads,
colWeightedMeans, colWeightedMedians, colWeightedSds,
colWeightedVars, rowAlls, rowAnyNAs, rowAnys, rowAvgsPerColSet,
rowCollapse, rowCounts, rowCummaxs, rowCummins, rowCumprods,
rowCumsums, rowDiffs, rowIQRDiffs, rowIQRs, rowLogSumExps,
rowMadDiffs, rowMads, rowMaxs, rowMeans2, rowMedians, rowMins,
rowOrderStats, rowProds, rowQuantiles, rowRanges, rowRanks,
rowSdDiffs, rowSds, rowSums2, rowTabulates, rowVarDiffs, rowVars,
rowWeightedMads, rowWeightedMeans, rowWeightedMedians,
rowWeightedSds, rowWeightedVars
Loading required package: GenomicRanges
Loading required package: stats4
Loading required package: BiocGenerics
Attaching package: 'BiocGenerics'
The following objects are masked from 'package:stats':
IQR, mad, sd, var, xtabs
The following objects are masked from 'package:base':
Filter, Find, Map, Position, Reduce, anyDuplicated, aperm, append,
as.data.frame, basename, cbind, colnames, dirname, do.call,
duplicated, eval, evalq, get, grep, grepl, intersect, is.unsorted,
lapply, mapply, match, mget, order, paste, pmax, pmax.int, pmin,
pmin.int, rank, rbind, rownames, sapply, setdiff, sort, table,
tapply, union, unique, unsplit, which.max, which.min
Loading required package: S4Vectors
Attaching package: 'S4Vectors'
The following objects are masked from 'package:base':
I, expand.grid, unname
Loading required package: IRanges
Loading required package: GenomeInfoDb
Loading required package: Biobase
Welcome to Bioconductor
Vignettes contain introductory material; view with
'browseVignettes()'. To cite Bioconductor, see
'citation("Biobase")', and for packages 'citation("pkgname")'.
Attaching package: 'Biobase'
The following object is masked from 'package:MatrixGenerics':
rowMedians
The following objects are masked from 'package:matrixStats':
anyMissing, rowMedians
>
> test_check("SPIAT")
[1] "Markers had been selected in minimum distance calculation: "
[1] "Immune1" "Tumour"
[1] "Crossing of cross K function is detected for this image, indicating a potential immune ring."
[1] "The crossing happens at the 50% of the specified distance."
[1] "The alpha of Polygon is: 63.24375"
[1] "Markers had been selected in minimum distance calculation: "
[1] "Non-border" "Border"
[1] "Tumour_marker"
[1] "Immune_marker1"
[1] "Immune_marker2"
[1] "Immune_marker3"
[1] "Immune_marker4"
[1] "Tumour_marker"
[1] "Immune_marker1"
[1] "Immune_marker2"
[1] "Immune_marker3"
[1] "Immune_marker4"
[1] "Tumour_marker threshold intensity: 0.445450443784465"
[1] "Immune_marker1 threshold intensity: 0.116980867970434"
[1] "Immune_marker2 threshold intensity: 0.124283809517202"
[1] "Immune_marker3 threshold intensity: 0.0166413130263845"
[1] "Immune_marker4 threshold intensity: 0.00989731350898589"
[ FAIL 0 | WARN 1 | SKIP 0 | PASS 80 ]
[ FAIL 0 | WARN 1 | SKIP 0 | PASS 80 ]
>
> proc.time()
user system elapsed
70.598 2.528 73.055
SPIAT.Rcheck/SPIAT-Ex.timings
| name | user | system | elapsed | |
| AUC_of_cross_function | 0.352 | 0.016 | 0.368 | |
| R_BC | 1.802 | 0.120 | 1.923 | |
| average_marker_intensity_within_radius | 0.055 | 0.004 | 0.059 | |
| average_minimum_distance | 0.024 | 0.000 | 0.024 | |
| average_nearest_neighbor_index | 0.303 | 0.016 | 0.319 | |
| average_percentage_of_cells_within_radius | 1.233 | 0.019 | 1.253 | |
| calculate_cell_proportions | 0.015 | 0.000 | 0.015 | |
| calculate_cross_functions | 0.167 | 0.008 | 0.176 | |
| calculate_distance_to_margin | 1.296 | 0.040 | 1.336 | |
| calculate_entropy | 0.010 | 0.000 | 0.011 | |
| calculate_minimum_distances_between_celltypes | 0.016 | 0.000 | 0.016 | |
| calculate_pairwise_distances_between_celltypes | 5.175 | 0.784 | 5.958 | |
| calculate_percentage_of_grids | 9.242 | 0.188 | 9.430 | |
| calculate_proportions_of_cells_in_structure | 1.381 | 0.008 | 1.389 | |
| calculate_spatial_autocorrelation | 5.062 | 0.048 | 5.110 | |
| calculate_summary_distances_between_celltypes | 3.028 | 0.276 | 3.304 | |
| calculate_summary_distances_of_cells_to_borders | 1.231 | 0.080 | 1.312 | |
| composition_of_neighborhoods | 1.987 | 0.212 | 2.199 | |
| compute_gradient | 0.049 | 0.003 | 0.053 | |
| crossing_of_crossK | 0.120 | 0.000 | 0.121 | |
| define_celltypes | 0.857 | 0.004 | 0.861 | |
| define_structure | 1.624 | 0.008 | 1.632 | |
| dimensionality_reduction_plot | 21.198 | 0.072 | 21.270 | |
| entropy_gradient_aggregated | 0.504 | 0.028 | 0.532 | |
| format_cellprofiler_to_spe | 0.219 | 0.016 | 0.235 | |
| format_codex_to_spe | 0.165 | 0.004 | 0.169 | |
| format_colData_to_spe | 0.194 | 0.031 | 0.225 | |
| format_halo_to_spe | 0.445 | 0.094 | 0.512 | |
| format_image_to_spe | 0.16 | 0.00 | 0.16 | |
| format_inform_to_spe | 0.247 | 0.052 | 0.280 | |
| format_spe_to_ppp | 0.017 | 0.000 | 0.017 | |
| grid_metrics | 4.652 | 0.168 | 4.820 | |
| identify_bordering_cells | 0.623 | 0.092 | 0.715 | |
| identify_neighborhoods | 0.872 | 0.160 | 1.032 | |
| image_splitter | 1.575 | 0.108 | 1.683 | |
| marker_intensity_boxplot | 0.307 | 0.004 | 0.310 | |
| marker_prediction_plot | 1.394 | 0.088 | 1.481 | |
| marker_surface_plot | 0.198 | 0.051 | 0.250 | |
| marker_surface_plot_stack | 0.212 | 0.020 | 0.232 | |
| measure_association_to_cell_properties | 0.444 | 0.020 | 0.465 | |
| mixing_score_summary | 0.021 | 0.000 | 0.021 | |
| number_of_cells_within_radius | 0.013 | 0.004 | 0.017 | |
| plot_average_intensity | 0.295 | 0.015 | 0.311 | |
| plot_cell_categories | 0.309 | 0.012 | 0.322 | |
| plot_cell_distances_violin | 1.009 | 0.068 | 1.077 | |
| plot_cell_marker_levels | 0.182 | 0.000 | 0.182 | |
| plot_cell_percentages | 0.711 | 0.028 | 0.740 | |
| plot_composition_heatmap | 4.178 | 0.292 | 4.470 | |
| plot_distance_heatmap | 1.055 | 0.104 | 1.159 | |
| plot_marker_level_heatmap | 0.425 | 0.020 | 0.445 | |
| predict_phenotypes | 1.583 | 0.084 | 1.666 | |
| select_celltypes | 0.052 | 0.000 | 0.051 | |