| Back to Multiple platform build/check report for BioC 3.17 |
|
This page was generated on 2023-04-12 10:55:42 -0400 (Wed, 12 Apr 2023).
| Hostname | OS | Arch (*) | R version | Installed pkgs |
|---|---|---|---|---|
| nebbiolo1 | Linux (Ubuntu 22.04.1 LTS) | x86_64 | 4.3.0 alpha (2023-04-03 r84154) | 4547 |
| nebbiolo2 | Linux (Ubuntu 20.04.5 LTS) | x86_64 | R Under development (unstable) (2023-02-14 r83833) -- "Unsuffered Consequences" | 4333 |
| Click on any hostname to see more info about the system (e.g. compilers) (*) as reported by 'uname -p', except on Windows and Mac OS X | ||||
|
To the developers/maintainers of the SGCP package: - Allow up to 24 hours (and sometimes 48 hours) for your latest push to git@git.bioconductor.org:packages/SGCP.git to reflect on this report. See Troubleshooting Build Report for more information. - Use the following Renviron settings to reproduce errors and warnings. Note: If "R CMD check" recently failed on the Linux builder over a missing dependency, add the missing dependency to "Suggests" in your DESCRIPTION file. See the Renviron.bioc for details. |
| Package 1881/2207 | Hostname | OS / Arch | INSTALL | BUILD | CHECK | BUILD BIN | ||||||||
| SGCP 0.99.10 (landing page) Niloofar AghaieAbiane
| nebbiolo1 | Linux (Ubuntu 22.04.1 LTS) / x86_64 | OK | OK | OK | |||||||||
| nebbiolo2 | Linux (Ubuntu 20.04.5 LTS) / x86_64 | OK | OK | OK | ||||||||||
| Package: SGCP |
| Version: 0.99.10 |
| Command: /home/biocbuild/bbs-3.17-bioc/R/bin/R CMD check --install=check:SGCP.install-out.txt --library=/home/biocbuild/bbs-3.17-bioc/R/site-library --timings SGCP_0.99.10.tar.gz |
| StartedAt: 2023-04-12 09:21:49 -0400 (Wed, 12 Apr 2023) |
| EndedAt: 2023-04-12 09:27:28 -0400 (Wed, 12 Apr 2023) |
| EllapsedTime: 339.0 seconds |
| RetCode: 0 |
| Status: OK |
| CheckDir: SGCP.Rcheck |
| Warnings: 0 |
##############################################################################
##############################################################################
###
### Running command:
###
### /home/biocbuild/bbs-3.17-bioc/R/bin/R CMD check --install=check:SGCP.install-out.txt --library=/home/biocbuild/bbs-3.17-bioc/R/site-library --timings SGCP_0.99.10.tar.gz
###
##############################################################################
##############################################################################
* using log directory ‘/home/biocbuild/bbs-3.17-bioc/meat/SGCP.Rcheck’
* using R Under development (unstable) (2023-02-14 r83833)
* using platform: x86_64-pc-linux-gnu (64-bit)
* R was compiled by
gcc (Ubuntu 9.4.0-1ubuntu1~20.04.1) 9.4.0
GNU Fortran (Ubuntu 9.4.0-1ubuntu1~20.04.1) 9.4.0
* running under: Ubuntu 20.04.6 LTS
* using session charset: UTF-8
* checking for file ‘SGCP/DESCRIPTION’ ... OK
* checking extension type ... Package
* this is package ‘SGCP’ version ‘0.99.10’
* package encoding: UTF-8
* checking package namespace information ... OK
* checking package dependencies ... OK
* checking if this is a source package ... OK
* checking if there is a namespace ... OK
* checking for hidden files and directories ... OK
* checking for portable file names ... OK
* checking for sufficient/correct file permissions ... OK
* checking whether package ‘SGCP’ can be installed ... OK
* checking installed package size ... OK
* checking package directory ... OK
* checking ‘build’ directory ... OK
* checking DESCRIPTION meta-information ... OK
* checking top-level files ... OK
* checking for left-over files ... OK
* checking index information ... OK
* checking package subdirectories ... OK
* checking R files for non-ASCII characters ... OK
* checking R files for syntax errors ... OK
* checking whether the package can be loaded ... OK
* checking whether the package can be loaded with stated dependencies ... OK
* checking whether the package can be unloaded cleanly ... OK
* checking whether the namespace can be loaded with stated dependencies ... OK
* checking whether the namespace can be unloaded cleanly ... OK
* checking loading without being on the library search path ... OK
* checking dependencies in R code ... OK
* checking S3 generic/method consistency ... OK
* checking replacement functions ... OK
* checking foreign function calls ... OK
* checking R code for possible problems ... OK
* checking Rd files ... OK
* checking Rd metadata ... OK
* checking Rd cross-references ... OK
* checking for missing documentation entries ... OK
* checking for code/documentation mismatches ... OK
* checking Rd \usage sections ... OK
* checking Rd contents ... OK
* checking for unstated dependencies in examples ... OK
* checking contents of ‘data’ directory ... OK
* checking data for non-ASCII characters ... OK
* checking data for ASCII and uncompressed saves ... OK
* checking files in ‘vignettes’ ... OK
* checking examples ... OK
* checking for unstated dependencies in vignettes ... OK
* checking package vignettes in ‘inst/doc’ ... OK
* checking running R code from vignettes ...
‘SGCP.Rmd’ using ‘UTF-8’... OK
NONE
* checking re-building of vignette outputs ... OK
* checking PDF version of manual ... OK
* DONE
Status: OK
SGCP.Rcheck/00install.out
############################################################################## ############################################################################## ### ### Running command: ### ### /home/biocbuild/bbs-3.17-bioc/R/bin/R CMD INSTALL SGCP ### ############################################################################## ############################################################################## * installing to library ‘/home/biocbuild/bbs-3.17-bioc/R/site-library’ * installing *source* package ‘SGCP’ ... ** using staged installation ** R ** data ** inst ** byte-compile and prepare package for lazy loading ** help *** installing help indices ** building package indices ** installing vignettes ** testing if installed package can be loaded from temporary location ** testing if installed package can be loaded from final location ** testing if installed package keeps a record of temporary installation path * DONE (SGCP)
SGCP.Rcheck/SGCP-Ex.timings
| name | user | system | elapsed | |
| SGCP_adjacencyMatrix | 0.156 | 0.008 | 0.164 | |
| SGCP_clustering | 0.292 | 0.008 | 0.299 | |
| SGCP_ezPLOT | 0.399 | 0.008 | 0.406 | |
| SGCP_ezSGCP | 0.213 | 0.000 | 0.213 | |
| SGCP_go | 0.141 | 0.000 | 0.140 | |
| SGCP_plot_bar | 0.346 | 0.000 | 0.345 | |
| SGCP_plot_conductance | 0.256 | 0.020 | 0.276 | |
| SGCP_plot_density | 0.286 | 0.052 | 0.339 | |
| SGCP_plot_heatMap | 0.601 | 0.052 | 0.653 | |
| SGCP_plot_jitter | 0.235 | 0.028 | 0.263 | |
| SGCP_plot_pca | 0.115 | 0.020 | 0.136 | |
| SGCP_plot_pie | 1.328 | 0.216 | 1.544 | |
| SGCP_plot_silhouette | 0.544 | 0.000 | 0.544 | |
| SGCP_semiLabeling | 0.072 | 0.000 | 0.072 | |
| SGCP_semiSupervised | 2.163 | 0.116 | 2.279 | |
| cheng | 0.232 | 0.008 | 0.240 | |
| resClus | 0.612 | 0.072 | 0.684 | |
| resFinalGO | 0.026 | 0.007 | 0.033 | |
| resInitialGO | 0.033 | 0.000 | 0.032 | |
| resSemiLabel | 0.006 | 0.000 | 0.006 | |
| resSemiSupervised | 0.035 | 0.000 | 0.035 | |
| sgcp | 0.089 | 0.008 | 0.097 | |