| Back to Multiple platform build/check report for BioC 3.17 |
|
This page was generated on 2023-04-12 10:55:41 -0400 (Wed, 12 Apr 2023).
| Hostname | OS | Arch (*) | R version | Installed pkgs |
|---|---|---|---|---|
| nebbiolo1 | Linux (Ubuntu 22.04.1 LTS) | x86_64 | 4.3.0 alpha (2023-04-03 r84154) | 4547 |
| nebbiolo2 | Linux (Ubuntu 20.04.5 LTS) | x86_64 | R Under development (unstable) (2023-02-14 r83833) -- "Unsuffered Consequences" | 4333 |
| Click on any hostname to see more info about the system (e.g. compilers) (*) as reported by 'uname -p', except on Windows and Mac OS X | ||||
|
To the developers/maintainers of the Rtpca package: - Allow up to 24 hours (and sometimes 48 hours) for your latest push to git@git.bioconductor.org:packages/Rtpca.git to reflect on this report. See Troubleshooting Build Report for more information. - Use the following Renviron settings to reproduce errors and warnings. Note: If "R CMD check" recently failed on the Linux builder over a missing dependency, add the missing dependency to "Suggests" in your DESCRIPTION file. See the Renviron.bioc for details. |
| Package 1768/2207 | Hostname | OS / Arch | INSTALL | BUILD | CHECK | BUILD BIN | ||||||||
| Rtpca 1.9.0 (landing page) Nils Kurzawa
| nebbiolo1 | Linux (Ubuntu 22.04.1 LTS) / x86_64 | OK | OK | OK | |||||||||
| nebbiolo2 | Linux (Ubuntu 20.04.5 LTS) / x86_64 | OK | OK | OK | ||||||||||
| Package: Rtpca |
| Version: 1.9.0 |
| Command: /home/biocbuild/bbs-3.17-bioc/R/bin/R CMD check --install=check:Rtpca.install-out.txt --library=/home/biocbuild/bbs-3.17-bioc/R/site-library --timings Rtpca_1.9.0.tar.gz |
| StartedAt: 2023-04-12 09:02:45 -0400 (Wed, 12 Apr 2023) |
| EndedAt: 2023-04-12 09:03:58 -0400 (Wed, 12 Apr 2023) |
| EllapsedTime: 72.2 seconds |
| RetCode: 0 |
| Status: OK |
| CheckDir: Rtpca.Rcheck |
| Warnings: 0 |
##############################################################################
##############################################################################
###
### Running command:
###
### /home/biocbuild/bbs-3.17-bioc/R/bin/R CMD check --install=check:Rtpca.install-out.txt --library=/home/biocbuild/bbs-3.17-bioc/R/site-library --timings Rtpca_1.9.0.tar.gz
###
##############################################################################
##############################################################################
* using log directory ‘/home/biocbuild/bbs-3.17-bioc/meat/Rtpca.Rcheck’
* using R Under development (unstable) (2023-02-14 r83833)
* using platform: x86_64-pc-linux-gnu (64-bit)
* R was compiled by
gcc (Ubuntu 9.4.0-1ubuntu1~20.04.1) 9.4.0
GNU Fortran (Ubuntu 9.4.0-1ubuntu1~20.04.1) 9.4.0
* running under: Ubuntu 20.04.6 LTS
* using session charset: UTF-8
* checking for file ‘Rtpca/DESCRIPTION’ ... OK
* this is package ‘Rtpca’ version ‘1.9.0’
* package encoding: UTF-8
* checking package namespace information ... OK
* checking package dependencies ... OK
* checking if this is a source package ... OK
* checking if there is a namespace ... OK
* checking for hidden files and directories ... OK
* checking for portable file names ... OK
* checking for sufficient/correct file permissions ... OK
* checking whether package ‘Rtpca’ can be installed ... OK
* checking installed package size ... OK
* checking package directory ... OK
* checking ‘build’ directory ... OK
* checking DESCRIPTION meta-information ... OK
* checking top-level files ... OK
* checking for left-over files ... OK
* checking index information ... OK
* checking package subdirectories ... OK
* checking R files for non-ASCII characters ... OK
* checking R files for syntax errors ... OK
* checking whether the package can be loaded ... OK
* checking whether the package can be loaded with stated dependencies ... OK
* checking whether the package can be unloaded cleanly ... OK
* checking whether the namespace can be loaded with stated dependencies ... OK
* checking whether the namespace can be unloaded cleanly ... OK
* checking loading without being on the library search path ... OK
* checking dependencies in R code ... NOTE
Namespace in Imports field not imported from: ‘tibble’
All declared Imports should be used.
* checking S3 generic/method consistency ... OK
* checking replacement functions ... OK
* checking foreign function calls ... OK
* checking R code for possible problems ... NOTE
.getRandomProteinPairs: no visible binding for global variable ‘pair’
Undefined global functions or variables:
pair
* checking Rd files ... OK
* checking Rd metadata ... OK
* checking Rd cross-references ... OK
* checking for missing documentation entries ... OK
* checking for code/documentation mismatches ... OK
* checking Rd \usage sections ... OK
* checking Rd contents ... OK
* checking for unstated dependencies in examples ... OK
* checking contents of ‘data’ directory ... OK
* checking data for non-ASCII characters ... OK
* checking data for ASCII and uncompressed saves ... OK
* checking files in ‘vignettes’ ... OK
* checking examples ... OK
* checking for unstated dependencies in ‘tests’ ... OK
* checking tests ...
Running ‘testthat.R’
OK
* checking for unstated dependencies in vignettes ... OK
* checking package vignettes in ‘inst/doc’ ... OK
* checking running R code from vignettes ...
‘Rtpca.Rmd’ using ‘UTF-8’... OK
NONE
* checking re-building of vignette outputs ... OK
* checking PDF version of manual ... OK
* DONE
Status: 2 NOTEs
See
‘/home/biocbuild/bbs-3.17-bioc/meat/Rtpca.Rcheck/00check.log’
for details.
Rtpca.Rcheck/00install.out
############################################################################## ############################################################################## ### ### Running command: ### ### /home/biocbuild/bbs-3.17-bioc/R/bin/R CMD INSTALL Rtpca ### ############################################################################## ############################################################################## * installing to library ‘/home/biocbuild/bbs-3.17-bioc/R/site-library’ * installing *source* package ‘Rtpca’ ... ** using staged installation ** R ** data ** inst ** byte-compile and prepare package for lazy loading ** help *** installing help indices ** building package indices ** installing vignettes ** testing if installed package can be loaded from temporary location ** testing if installed package can be loaded from final location ** testing if installed package keeps a record of temporary installation path * DONE (Rtpca)
Rtpca.Rcheck/tests/testthat.Rout
R Under development (unstable) (2023-02-14 r83833) -- "Unsuffered Consequences"
Copyright (C) 2023 The R Foundation for Statistical Computing
Platform: x86_64-pc-linux-gnu (64-bit)
R is free software and comes with ABSOLUTELY NO WARRANTY.
You are welcome to redistribute it under certain conditions.
Type 'license()' or 'licence()' for distribution details.
R is a collaborative project with many contributors.
Type 'contributors()' for more information and
'citation()' on how to cite R or R packages in publications.
Type 'demo()' for some demos, 'help()' for on-line help, or
'help.start()' for an HTML browser interface to help.
Type 'q()' to quit R.
> library(testthat)
> library(Rtpca)
Loading required package: dplyr
Attaching package: 'dplyr'
The following object is masked from 'package:testthat':
matches
The following objects are masked from 'package:stats':
filter, lag
The following objects are masked from 'package:base':
intersect, setdiff, setequal, union
Loading required package: tidyr
Attaching package: 'tidyr'
The following object is masked from 'package:testthat':
matches
>
> test_check("Rtpca")
[ FAIL 0 | WARN 1 | SKIP 0 | PASS 38 ]
[ FAIL 0 | WARN 1 | SKIP 0 | PASS 38 ]
>
> proc.time()
user system elapsed
5.230 0.138 5.352
Rtpca.Rcheck/Rtpca-Ex.timings
| name | user | system | elapsed | |
| CommonFeatures-tpcaResult-method | 0.491 | 0.121 | 0.611 | |
| ComplexAnnotation-tpcaResult-method | 0.003 | 0.000 | 0.002 | |
| ComplexBackgroundDistributionList-tpcaResult-method | 0.001 | 0.000 | 0.001 | |
| ComplexRocTable-tpcaResult-method | 0.001 | 0.000 | 0.001 | |
| ContrastCondName-tpcaResult-method | 0 | 0 | 0 | |
| ContrastDistMat-tpcaResult-method | 0.001 | 0.000 | 0.001 | |
| ContrastList-tpcaResult-method | 0.001 | 0.000 | 0.001 | |
| CtrlCondName-tpcaResult-method | 0 | 0 | 0 | |
| DistMat-tpcaResult-method | 0.001 | 0.000 | 0.001 | |
| DistMethod-tpcaResult-method | 0 | 0 | 0 | |
| ObjList-tpcaResult-method | 0.001 | 0.000 | 0.001 | |
| PPiAnnotation-tpcaResult-method | 0.001 | 0.000 | 0.001 | |
| PPiRocTable-tpcaResult-method | 0.000 | 0.000 | 0.001 | |
| PPiRocTableAnno-tpcaResult-method | 0.001 | 0.000 | 0.001 | |
| SetCommonFeatures-tpcaResult-method | 0.002 | 0.000 | 0.001 | |
| SetComplexAnnotation-tpcaResult-method | 0.000 | 0.003 | 0.002 | |
| SetComplexBackgroundDistributionList-tpcaResult-method | 0.001 | 0.001 | 0.001 | |
| SetComplexRocTable-tpcaResult-method | 0.002 | 0.000 | 0.001 | |
| SetContrastCondName-tpcaResult-method | 0.001 | 0.000 | 0.001 | |
| SetContrastDistMat-tpcaResult-method | 0.002 | 0.000 | 0.001 | |
| SetCtrlCondName-tpcaResult-method | 0.001 | 0.000 | 0.000 | |
| SetDiffTpcaResultTable-tpcaResult-method | 0.002 | 0.000 | 0.001 | |
| SetDistMat-tpcaResult-method | 0.001 | 0.000 | 0.002 | |
| SetDistMethod-tpcaResult-method | 0.000 | 0.000 | 0.001 | |
| SetPPiRocTable-tpcaResult-method | 0.001 | 0.000 | 0.002 | |
| SetPPiRocTableAnno-tpcaResult-method | 0.001 | 0.000 | 0.001 | |
| SetSummaryMethod-tpcaResult-method | 0 | 0 | 0 | |
| SetTpcaResultTable-tpcaResult-method | 0.000 | 0.001 | 0.001 | |
| SummaryMethod-tpcaResult-method | 0 | 0 | 0 | |
| createDistMat | 0.160 | 0.001 | 0.161 | |
| diffTpcaResultTable-tpcaResult-method | 0.001 | 0.000 | 0.001 | |
| ori_et_al_complex_ppis | 0.043 | 0.004 | 0.047 | |
| ori_et_al_complexes_df | 0.011 | 0.000 | 0.011 | |
| plotComplexRoc | 0.231 | 0.000 | 0.230 | |
| plotDiffTpcaVolcano | 0.232 | 0.000 | 0.231 | |
| plotPPiProfiles | 1.572 | 0.056 | 1.627 | |
| plotPPiRoc | 0.125 | 0.000 | 0.125 | |
| plotTpcaVolcano | 0.865 | 0.000 | 0.866 | |
| runDiffTPCA | 0.116 | 0.000 | 0.116 | |
| runTPCA | 0.330 | 0.027 | 0.357 | |
| string_ppi_df | 1.301 | 0.009 | 1.309 | |
| tpcaResult-class | 0.000 | 0.000 | 0.001 | |
| tpcaResultTable-tpcaResult-method | 0.001 | 0.000 | 0.002 | |