| Back to Multiple platform build/check report for BioC 3.17 |
|
This page was generated on 2023-04-12 10:55:41 -0400 (Wed, 12 Apr 2023).
| Hostname | OS | Arch (*) | R version | Installed pkgs |
|---|---|---|---|---|
| nebbiolo1 | Linux (Ubuntu 22.04.1 LTS) | x86_64 | 4.3.0 alpha (2023-04-03 r84154) | 4547 |
| nebbiolo2 | Linux (Ubuntu 20.04.5 LTS) | x86_64 | R Under development (unstable) (2023-02-14 r83833) -- "Unsuffered Consequences" | 4333 |
| Click on any hostname to see more info about the system (e.g. compilers) (*) as reported by 'uname -p', except on Windows and Mac OS X | ||||
|
To the developers/maintainers of the Rmagpie package: - Allow up to 24 hours (and sometimes 48 hours) for your latest push to git@git.bioconductor.org:packages/Rmagpie.git to reflect on this report. See Troubleshooting Build Report for more information. - Use the following Renviron settings to reproduce errors and warnings. Note: If "R CMD check" recently failed on the Linux builder over a missing dependency, add the missing dependency to "Suggests" in your DESCRIPTION file. See the Renviron.bioc for details. |
| Package 1715/2207 | Hostname | OS / Arch | INSTALL | BUILD | CHECK | BUILD BIN | ||||||||
| Rmagpie 1.55.0 (landing page) Camille Maumet
| nebbiolo1 | Linux (Ubuntu 22.04.1 LTS) / x86_64 | OK | OK | OK | |||||||||
| nebbiolo2 | Linux (Ubuntu 20.04.5 LTS) / x86_64 | OK | OK | OK | ||||||||||
| Package: Rmagpie |
| Version: 1.55.0 |
| Command: /home/biocbuild/bbs-3.17-bioc/R/bin/R CMD check --install=check:Rmagpie.install-out.txt --library=/home/biocbuild/bbs-3.17-bioc/R/site-library --timings Rmagpie_1.55.0.tar.gz |
| StartedAt: 2023-04-12 08:53:36 -0400 (Wed, 12 Apr 2023) |
| EndedAt: 2023-04-12 08:55:42 -0400 (Wed, 12 Apr 2023) |
| EllapsedTime: 126.3 seconds |
| RetCode: 0 |
| Status: OK |
| CheckDir: Rmagpie.Rcheck |
| Warnings: 0 |
##############################################################################
##############################################################################
###
### Running command:
###
### /home/biocbuild/bbs-3.17-bioc/R/bin/R CMD check --install=check:Rmagpie.install-out.txt --library=/home/biocbuild/bbs-3.17-bioc/R/site-library --timings Rmagpie_1.55.0.tar.gz
###
##############################################################################
##############################################################################
* using log directory ‘/home/biocbuild/bbs-3.17-bioc/meat/Rmagpie.Rcheck’
* using R Under development (unstable) (2023-02-14 r83833)
* using platform: x86_64-pc-linux-gnu (64-bit)
* R was compiled by
gcc (Ubuntu 9.4.0-1ubuntu1~20.04.1) 9.4.0
GNU Fortran (Ubuntu 9.4.0-1ubuntu1~20.04.1) 9.4.0
* running under: Ubuntu 20.04.6 LTS
* using session charset: UTF-8
* checking for file ‘Rmagpie/DESCRIPTION’ ... OK
* this is package ‘Rmagpie’ version ‘1.55.0’
* checking package namespace information ... OK
* checking package dependencies ... OK
* checking if this is a source package ... OK
* checking if there is a namespace ... OK
* checking for hidden files and directories ... OK
* checking for portable file names ... OK
* checking for sufficient/correct file permissions ... OK
* checking whether package ‘Rmagpie’ can be installed ... OK
* checking installed package size ... OK
* checking package directory ... OK
* checking ‘build’ directory ... OK
* checking DESCRIPTION meta-information ... NOTE
Package listed in more than one of Depends, Imports, Suggests, Enhances:
‘Biobase’
A package should be listed in only one of these fields.
* checking top-level files ... OK
* checking for left-over files ... OK
* checking index information ... OK
* checking package subdirectories ... OK
* checking R files for non-ASCII characters ... OK
* checking R files for syntax errors ... OK
* checking whether the package can be loaded ... OK
* checking whether the package can be loaded with stated dependencies ... OK
* checking whether the package can be unloaded cleanly ... OK
* checking whether the namespace can be loaded with stated dependencies ... OK
* checking whether the namespace can be unloaded cleanly ... OK
* checking loading without being on the library search path ... OK
* checking dependencies in R code ... OK
* checking S3 generic/method consistency ... OK
* checking replacement functions ... OK
* checking foreign function calls ... OK
* checking R code for possible problems ... NOTE
twoLayerExtCV: warning in performAValidation(data = eset, trainIndices
= extInds[[i]], noGenes = upToBestSelectedFeature, classes = classes,
classifierName = classifierName, verbose = verbose, kernel = kernel,
featureSelectionFun = featureSelectionFun, trainTestFun =
trainTestFun): partial argument match of 'data' to 'dataset'
getFeatureSelectionOptions<-,assessment: no visible global function
definition for ‘getNoOfOptions<-’
getFeatureSelectionOptions<-,assessment: no visible global function
definition for ‘getNoModels<-’
Undefined global functions or variables:
getNoModels<- getNoOfOptions<-
* checking Rd files ... OK
* checking Rd metadata ... OK
* checking Rd cross-references ... OK
* checking for missing documentation entries ... OK
* checking for code/documentation mismatches ... OK
* checking Rd \usage sections ... OK
* checking Rd contents ... OK
* checking for unstated dependencies in examples ... OK
* checking contents of ‘data’ directory ... OK
* checking data for non-ASCII characters ... OK
* checking data for ASCII and uncompressed saves ... OK
* checking files in ‘vignettes’ ... OK
* checking examples ... OK
Examples with CPU (user + system) or elapsed time > 5s
user system elapsed
runTwoLayerExtCV-methods 5.906 0.017 5.922
* checking for unstated dependencies in vignettes ... OK
* checking package vignettes in ‘inst/doc’ ... OK
* checking running R code from vignettes ...
‘Magpie_examples.Rnw’ using ‘latin1’... OK
OK
* checking re-building of vignette outputs ... OK
* checking PDF version of manual ... OK
* DONE
Status: 2 NOTEs
See
‘/home/biocbuild/bbs-3.17-bioc/meat/Rmagpie.Rcheck/00check.log’
for details.
Rmagpie.Rcheck/00install.out
############################################################################## ############################################################################## ### ### Running command: ### ### /home/biocbuild/bbs-3.17-bioc/R/bin/R CMD INSTALL Rmagpie ### ############################################################################## ############################################################################## * installing to library ‘/home/biocbuild/bbs-3.17-bioc/R/site-library’ * installing *source* package ‘Rmagpie’ ... ** using staged installation ** R ** data ** demo ** inst ** byte-compile and prepare package for lazy loading ** help *** installing help indices ** building package indices ** installing vignettes ** testing if installed package can be loaded from temporary location ** testing if installed package can be loaded from final location ** testing if installed package keeps a record of temporary installation path * DONE (Rmagpie)
Rmagpie.Rcheck/Rmagpie-Ex.timings
| name | user | system | elapsed | |
| classifyNewSamples-methods | 1.019 | 0.060 | 1.080 | |
| experiment-class | 0.062 | 0.000 | 0.062 | |
| finalClassifier-class | 0.038 | 0.004 | 0.042 | |
| findFinalClassifier-methods | 0.079 | 0.015 | 0.093 | |
| geneSubsets-class | 0.004 | 0.000 | 0.003 | |
| getDataset-methods | 0.008 | 0.000 | 0.007 | |
| getFeatureSelectionOptions-methods | 0.005 | 0.000 | 0.004 | |
| getFinalClassifier | 0.069 | 0.008 | 0.077 | |
| getResults-methods | 2.858 | 0.024 | 2.883 | |
| plotErrorsFoldTwoLayerCV-methods | 3.109 | 0.012 | 3.121 | |
| plotErrorsRepeatedOneLayerCV | 0.527 | 0.000 | 0.527 | |
| plotErrorsSummaryOneLayerCV-methods | 0.495 | 0.000 | 0.495 | |
| rankedGenesImg-methods | 0.001 | 0.000 | 0.000 | |
| runOneLayerExtCV-methods | 0.438 | 0.003 | 0.442 | |
| runTwoLayerExtCV-methods | 5.906 | 0.017 | 5.922 | |
| setDataset-methods | 0.000 | 0.000 | 0.001 | |
| setFeatureSelectionOptions-methods | 0.004 | 0.000 | 0.005 | |
| thresholds-class | 0.001 | 0.000 | 0.000 | |
| vV70genes | 0.003 | 0.000 | 0.002 | |