| Back to Multiple platform build/check report for BioC 3.17 |
|
This page was generated on 2023-04-12 10:55:41 -0400 (Wed, 12 Apr 2023).
| Hostname | OS | Arch (*) | R version | Installed pkgs |
|---|---|---|---|---|
| nebbiolo1 | Linux (Ubuntu 22.04.1 LTS) | x86_64 | 4.3.0 alpha (2023-04-03 r84154) | 4547 |
| nebbiolo2 | Linux (Ubuntu 20.04.5 LTS) | x86_64 | R Under development (unstable) (2023-02-14 r83833) -- "Unsuffered Consequences" | 4333 |
| Click on any hostname to see more info about the system (e.g. compilers) (*) as reported by 'uname -p', except on Windows and Mac OS X | ||||
|
To the developers/maintainers of the RiboCrypt package: - Allow up to 24 hours (and sometimes 48 hours) for your latest push to git@git.bioconductor.org:packages/RiboCrypt.git to reflect on this report. See Troubleshooting Build Report for more information. - Use the following Renviron settings to reproduce errors and warnings. Note: If "R CMD check" recently failed on the Linux builder over a missing dependency, add the missing dependency to "Suggests" in your DESCRIPTION file. See the Renviron.bioc for details. |
| Package 1697/2207 | Hostname | OS / Arch | INSTALL | BUILD | CHECK | BUILD BIN | ||||||||
| RiboCrypt 1.5.0 (landing page) Michal Swirski
| nebbiolo1 | Linux (Ubuntu 22.04.1 LTS) / x86_64 | OK | OK | OK | |||||||||
| nebbiolo2 | Linux (Ubuntu 20.04.5 LTS) / x86_64 | OK | OK | OK | ||||||||||
| Package: RiboCrypt |
| Version: 1.5.0 |
| Command: /home/biocbuild/bbs-3.17-bioc/R/bin/R CMD check --install=check:RiboCrypt.install-out.txt --library=/home/biocbuild/bbs-3.17-bioc/R/site-library --timings RiboCrypt_1.5.0.tar.gz |
| StartedAt: 2023-04-12 08:50:32 -0400 (Wed, 12 Apr 2023) |
| EndedAt: 2023-04-12 08:57:04 -0400 (Wed, 12 Apr 2023) |
| EllapsedTime: 391.2 seconds |
| RetCode: 0 |
| Status: OK |
| CheckDir: RiboCrypt.Rcheck |
| Warnings: 0 |
##############################################################################
##############################################################################
###
### Running command:
###
### /home/biocbuild/bbs-3.17-bioc/R/bin/R CMD check --install=check:RiboCrypt.install-out.txt --library=/home/biocbuild/bbs-3.17-bioc/R/site-library --timings RiboCrypt_1.5.0.tar.gz
###
##############################################################################
##############################################################################
* using log directory ‘/home/biocbuild/bbs-3.17-bioc/meat/RiboCrypt.Rcheck’
* using R Under development (unstable) (2023-02-14 r83833)
* using platform: x86_64-pc-linux-gnu (64-bit)
* R was compiled by
gcc (Ubuntu 9.4.0-1ubuntu1~20.04.1) 9.4.0
GNU Fortran (Ubuntu 9.4.0-1ubuntu1~20.04.1) 9.4.0
* running under: Ubuntu 20.04.6 LTS
* using session charset: UTF-8
* checking for file ‘RiboCrypt/DESCRIPTION’ ... OK
* checking extension type ... Package
* this is package ‘RiboCrypt’ version ‘1.5.0’
* package encoding: UTF-8
* checking package namespace information ... OK
* checking package dependencies ... OK
* checking if this is a source package ... OK
* checking if there is a namespace ... OK
* checking for hidden files and directories ... OK
* checking for portable file names ... OK
* checking for sufficient/correct file permissions ... OK
* checking whether package ‘RiboCrypt’ can be installed ... OK
* checking installed package size ... OK
* checking package directory ... OK
* checking ‘build’ directory ... OK
* checking DESCRIPTION meta-information ... OK
* checking top-level files ... OK
* checking for left-over files ... OK
* checking index information ... OK
* checking package subdirectories ... OK
* checking R files for non-ASCII characters ... OK
* checking R files for syntax errors ... OK
* checking whether the package can be loaded ... OK
* checking whether the package can be loaded with stated dependencies ... OK
* checking whether the package can be unloaded cleanly ... OK
* checking whether the namespace can be loaded with stated dependencies ... OK
* checking whether the namespace can be unloaded cleanly ... OK
* checking loading without being on the library search path ... OK
* checking dependencies in R code ... OK
* checking S3 generic/method consistency ... OK
* checking replacement functions ... OK
* checking foreign function calls ... OK
* checking R code for possible problems ... NOTE
createSinglePlot: no visible binding for global variable ‘position’
createSinglePlot: no visible binding for global variable ‘frame’
getIndexes: no visible global function definition for ‘nrun’
getPlotAnimate: no visible binding for global variable ‘position’
getPlotAnimate: no visible binding for global variable ‘frame’
getRelativeFrames: no visible binding for global variable ‘cum_width’
getRelativeFrames: no visible binding for global variable ‘rel_frame’
getRiboProfile: no visible binding for global variable ‘frame’
getStackProfile: no visible global function definition for ‘.’
getStackProfile: no visible binding for global variable ‘position’
getStackProfile: no visible binding for global variable ‘frame’
multiOmicsPlot_animate: no visible global function definition for
‘wmsg’
multiOmicsPlot_animate: no visible global function definition for ‘is’
multiOmicsPlot_list: no visible global function definition for ‘wmsg’
multiOmicsPlot_list: no visible global function definition for ‘is’
nt_bar: no visible binding for global variable ‘y’
Undefined global functions or variables:
. cum_width frame is nrun position rel_frame wmsg y
Consider adding
importFrom("graphics", "frame")
importFrom("methods", "is")
to your NAMESPACE file (and ensure that your DESCRIPTION Imports field
contains 'methods').
* checking Rd files ... OK
* checking Rd metadata ... OK
* checking Rd cross-references ... OK
* checking for missing documentation entries ... OK
* checking for code/documentation mismatches ... OK
* checking Rd \usage sections ... OK
* checking Rd contents ... OK
* checking for unstated dependencies in examples ... OK
* checking files in ‘vignettes’ ... OK
* checking examples ... OK
Examples with CPU (user + system) or elapsed time > 5s
user system elapsed
multiOmicsPlot_ORFikExp 8 0.854 8.752
* checking for unstated dependencies in vignettes ... OK
* checking package vignettes in ‘inst/doc’ ... OK
* checking running R code from vignettes ...
‘RiboCrypt_overview.rmd’ using ‘UTF-8’... OK
NONE
* checking re-building of vignette outputs ... OK
* checking PDF version of manual ... OK
* DONE
Status: 1 NOTE
See
‘/home/biocbuild/bbs-3.17-bioc/meat/RiboCrypt.Rcheck/00check.log’
for details.
RiboCrypt.Rcheck/00install.out
############################################################################## ############################################################################## ### ### Running command: ### ### /home/biocbuild/bbs-3.17-bioc/R/bin/R CMD INSTALL RiboCrypt ### ############################################################################## ############################################################################## * installing to library ‘/home/biocbuild/bbs-3.17-bioc/R/site-library’ * installing *source* package ‘RiboCrypt’ ... ** using staged installation ** R ** inst ** byte-compile and prepare package for lazy loading ** help *** installing help indices ** building package indices ** installing vignettes ** testing if installed package can be loaded from temporary location ** testing if installed package can be loaded from final location ** testing if installed package keeps a record of temporary installation path * DONE (RiboCrypt)
RiboCrypt.Rcheck/RiboCrypt-Ex.timings
| name | user | system | elapsed | |
| RiboCrypt.template.experiment | 0.433 | 0.073 | 0.506 | |
| multiOmicsPlot_ORFikExp | 8.000 | 0.854 | 8.752 | |
| multiOmicsPlot_animate | 2.631 | 0.631 | 3.159 | |
| multiOmicsPlot_list | 2.451 | 0.670 | 3.001 | |