| Back to Multiple platform build/check report for BioC 3.17 |
|
This page was generated on 2023-04-12 10:55:40 -0400 (Wed, 12 Apr 2023).
| Hostname | OS | Arch (*) | R version | Installed pkgs |
|---|---|---|---|---|
| nebbiolo1 | Linux (Ubuntu 22.04.1 LTS) | x86_64 | 4.3.0 alpha (2023-04-03 r84154) | 4547 |
| nebbiolo2 | Linux (Ubuntu 20.04.5 LTS) | x86_64 | R Under development (unstable) (2023-02-14 r83833) -- "Unsuffered Consequences" | 4333 |
| Click on any hostname to see more info about the system (e.g. compilers) (*) as reported by 'uname -p', except on Windows and Mac OS X | ||||
|
To the developers/maintainers of the RgnTX package: - Allow up to 24 hours (and sometimes 48 hours) for your latest push to git@git.bioconductor.org:packages/RgnTX.git to reflect on this report. See Troubleshooting Build Report for more information. - Use the following Renviron settings to reproduce errors and warnings. Note: If "R CMD check" recently failed on the Linux builder over a missing dependency, add the missing dependency to "Suggests" in your DESCRIPTION file. See the Renviron.bioc for details. |
| Package 1684/2207 | Hostname | OS / Arch | INSTALL | BUILD | CHECK | BUILD BIN | ||||||||
| RgnTX 1.1.0 (landing page) Yue Wang
| nebbiolo1 | Linux (Ubuntu 22.04.1 LTS) / x86_64 | OK | OK | OK | |||||||||
| nebbiolo2 | Linux (Ubuntu 20.04.5 LTS) / x86_64 | OK | OK | OK | ||||||||||
| Package: RgnTX |
| Version: 1.1.0 |
| Command: /home/biocbuild/bbs-3.17-bioc/R/bin/R CMD check --install=check:RgnTX.install-out.txt --library=/home/biocbuild/bbs-3.17-bioc/R/site-library --timings RgnTX_1.1.0.tar.gz |
| StartedAt: 2023-04-12 08:49:17 -0400 (Wed, 12 Apr 2023) |
| EndedAt: 2023-04-12 09:00:47 -0400 (Wed, 12 Apr 2023) |
| EllapsedTime: 690.0 seconds |
| RetCode: 0 |
| Status: OK |
| CheckDir: RgnTX.Rcheck |
| Warnings: 0 |
##############################################################################
##############################################################################
###
### Running command:
###
### /home/biocbuild/bbs-3.17-bioc/R/bin/R CMD check --install=check:RgnTX.install-out.txt --library=/home/biocbuild/bbs-3.17-bioc/R/site-library --timings RgnTX_1.1.0.tar.gz
###
##############################################################################
##############################################################################
* using log directory ‘/home/biocbuild/bbs-3.17-bioc/meat/RgnTX.Rcheck’
* using R Under development (unstable) (2023-02-14 r83833)
* using platform: x86_64-pc-linux-gnu (64-bit)
* R was compiled by
gcc (Ubuntu 9.4.0-1ubuntu1~20.04.1) 9.4.0
GNU Fortran (Ubuntu 9.4.0-1ubuntu1~20.04.1) 9.4.0
* running under: Ubuntu 20.04.6 LTS
* using session charset: UTF-8
* checking for file ‘RgnTX/DESCRIPTION’ ... OK
* this is package ‘RgnTX’ version ‘1.1.0’
* package encoding: UTF-8
* checking package namespace information ... OK
* checking package dependencies ... OK
* checking if this is a source package ... OK
* checking if there is a namespace ... OK
* checking for hidden files and directories ... OK
* checking for portable file names ... OK
* checking for sufficient/correct file permissions ... OK
* checking whether package ‘RgnTX’ can be installed ... OK
* checking installed package size ... OK
* checking package directory ... OK
* checking ‘build’ directory ... OK
* checking DESCRIPTION meta-information ... OK
* checking top-level files ... OK
* checking for left-over files ... OK
* checking index information ... OK
* checking package subdirectories ... OK
* checking R files for non-ASCII characters ... OK
* checking R files for syntax errors ... OK
* checking whether the package can be loaded ... OK
* checking whether the package can be loaded with stated dependencies ... OK
* checking whether the package can be unloaded cleanly ... OK
* checking whether the namespace can be loaded with stated dependencies ... OK
* checking whether the namespace can be unloaded cleanly ... OK
* checking loading without being on the library search path ... OK
* checking dependencies in R code ... OK
* checking S3 generic/method consistency ... OK
* checking replacement functions ... OK
* checking foreign function calls ... OK
* checking R code for possible problems ... OK
* checking Rd files ... OK
* checking Rd metadata ... OK
* checking Rd cross-references ... OK
* checking for missing documentation entries ... OK
* checking for code/documentation mismatches ... OK
* checking Rd \usage sections ... OK
* checking Rd contents ... OK
* checking for unstated dependencies in examples ... OK
* checking files in ‘vignettes’ ... OK
* checking examples ... OK
Examples with CPU (user + system) or elapsed time > 5s
user system elapsed
shiftedZScoreTx 44.023 0.312 44.336
permTestTxIA_customPick 21.656 0.155 21.813
permTestTxIA 20.594 0.064 20.659
permTestTx 19.489 0.104 19.594
permTestTx_customAll 17.707 0.172 17.880
permTestTx_customPick 17.603 0.120 17.724
overlapCountsTxIA 7.736 0.116 7.851
overlapWidthTx 7.611 0.107 7.719
getStopCodon 7.380 0.108 7.489
randomizeFeaturesTx 7.348 0.024 7.372
distanceTx 6.838 0.127 6.966
GRangesList2GRanges 5.323 0.292 5.615
* checking for unstated dependencies in ‘tests’ ... OK
* checking tests ...
Running ‘testthat.R’
OK
* checking for unstated dependencies in vignettes ... OK
* checking package vignettes in ‘inst/doc’ ... OK
* checking running R code from vignettes ...
‘RgnTX.Rmd’ using ‘UTF-8’... OK
NONE
* checking re-building of vignette outputs ... OK
* checking PDF version of manual ... OK
* DONE
Status: OK
RgnTX.Rcheck/00install.out
############################################################################## ############################################################################## ### ### Running command: ### ### /home/biocbuild/bbs-3.17-bioc/R/bin/R CMD INSTALL RgnTX ### ############################################################################## ############################################################################## * installing to library ‘/home/biocbuild/bbs-3.17-bioc/R/site-library’ * installing *source* package ‘RgnTX’ ... ** using staged installation ** R ** inst ** byte-compile and prepare package for lazy loading ** help *** installing help indices ** building package indices ** installing vignettes ** testing if installed package can be loaded from temporary location ** testing if installed package can be loaded from final location ** testing if installed package keeps a record of temporary installation path * DONE (RgnTX)
RgnTX.Rcheck/tests/testthat.Rout
R Under development (unstable) (2023-02-14 r83833) -- "Unsuffered Consequences"
Copyright (C) 2023 The R Foundation for Statistical Computing
Platform: x86_64-pc-linux-gnu (64-bit)
R is free software and comes with ABSOLUTELY NO WARRANTY.
You are welcome to redistribute it under certain conditions.
Type 'license()' or 'licence()' for distribution details.
R is a collaborative project with many contributors.
Type 'contributors()' for more information and
'citation()' on how to cite R or R packages in publications.
Type 'demo()' for some demos, 'help()' for on-line help, or
'help.start()' for an HTML browser interface to help.
Type 'q()' to quit R.
> library(testthat)
> library(RgnTX)
>
> test_check("RgnTX")
Loading required package: GenomicFeatures
Loading required package: BiocGenerics
Attaching package: 'BiocGenerics'
The following objects are masked from 'package:stats':
IQR, mad, sd, var, xtabs
The following objects are masked from 'package:base':
Filter, Find, Map, Position, Reduce, anyDuplicated, aperm, append,
as.data.frame, basename, cbind, colnames, dirname, do.call,
duplicated, eval, evalq, get, grep, grepl, intersect, is.unsorted,
lapply, mapply, match, mget, order, paste, pmax, pmax.int, pmin,
pmin.int, rank, rbind, rownames, sapply, setdiff, sort, table,
tapply, union, unique, unsplit, which.max, which.min
Loading required package: S4Vectors
Loading required package: stats4
Attaching package: 'S4Vectors'
The following objects are masked from 'package:base':
I, expand.grid, unname
Loading required package: IRanges
Loading required package: GenomeInfoDb
Loading required package: GenomicRanges
Loading required package: AnnotationDbi
Loading required package: Biobase
Welcome to Bioconductor
Vignettes contain introductory material; view with
'browseVignettes()'. To cite Bioconductor, see
'citation("Biobase")', and for packages 'citation("pkgname")'.
[ FAIL 0 | WARN 0 | SKIP 0 | PASS 42 ]
>
> proc.time()
user system elapsed
56.564 2.661 59.210
RgnTX.Rcheck/RgnTX-Ex.timings
| name | user | system | elapsed | |
| GRanges2GRangesList | 1.166 | 0.068 | 1.234 | |
| GRangesList2GRanges | 5.323 | 0.292 | 5.615 | |
| calculateShift | 3.159 | 0.116 | 3.275 | |
| distanceTx | 6.838 | 0.127 | 6.966 | |
| extractRegions | 3.231 | 0.080 | 3.310 | |
| getPermSpaceByFeatures | 3.104 | 0.031 | 3.137 | |
| getPermSpaceByTxID | 3.502 | 0.071 | 3.574 | |
| getPermSpaceByType | 1.967 | 0.048 | 2.014 | |
| getStopCodon | 7.380 | 0.108 | 7.489 | |
| getTransInfo | 0.723 | 0.035 | 0.759 | |
| overlapCountsTx | 4.300 | 0.036 | 4.336 | |
| overlapCountsTxIA | 7.736 | 0.116 | 7.851 | |
| overlapWidthTx | 7.611 | 0.107 | 7.719 | |
| permTestTx | 19.489 | 0.104 | 19.594 | |
| permTestTxIA | 20.594 | 0.064 | 20.659 | |
| permTestTxIA_customPick | 21.656 | 0.155 | 21.813 | |
| permTestTx_customAll | 17.707 | 0.172 | 17.880 | |
| permTestTx_customPick | 17.603 | 0.120 | 17.724 | |
| plotPermResults | 0.624 | 0.012 | 0.636 | |
| plotShiftedZScoreTx | 0.239 | 0.000 | 0.239 | |
| randomizeFeaturesTx | 7.348 | 0.024 | 7.372 | |
| randomizeFeaturesTxIA | 4.545 | 0.012 | 4.557 | |
| randomizeTransByOrder | 4.226 | 0.012 | 4.238 | |
| randomizeTx | 4.587 | 0.052 | 4.639 | |
| shiftTx | 2.349 | 0.008 | 2.357 | |
| shiftedZScoreTx | 44.023 | 0.312 | 44.336 | |