| Back to Multiple platform build/check report for BioC 3.17 |
|
This page was generated on 2023-04-12 10:55:40 -0400 (Wed, 12 Apr 2023).
| Hostname | OS | Arch (*) | R version | Installed pkgs |
|---|---|---|---|---|
| nebbiolo1 | Linux (Ubuntu 22.04.1 LTS) | x86_64 | 4.3.0 alpha (2023-04-03 r84154) | 4547 |
| nebbiolo2 | Linux (Ubuntu 20.04.5 LTS) | x86_64 | R Under development (unstable) (2023-02-14 r83833) -- "Unsuffered Consequences" | 4333 |
| Click on any hostname to see more info about the system (e.g. compilers) (*) as reported by 'uname -p', except on Windows and Mac OS X | ||||
|
To the developers/maintainers of the Rbec package: - Allow up to 24 hours (and sometimes 48 hours) for your latest push to git@git.bioconductor.org:packages/Rbec.git to reflect on this report. See Troubleshooting Build Report for more information. - Use the following Renviron settings to reproduce errors and warnings. Note: If "R CMD check" recently failed on the Linux builder over a missing dependency, add the missing dependency to "Suggests" in your DESCRIPTION file. See the Renviron.bioc for details. |
| Package 1619/2207 | Hostname | OS / Arch | INSTALL | BUILD | CHECK | BUILD BIN | ||||||||
| Rbec 1.7.0 (landing page) Pengfan Zhang
| nebbiolo1 | Linux (Ubuntu 22.04.1 LTS) / x86_64 | OK | OK | OK | |||||||||
| nebbiolo2 | Linux (Ubuntu 20.04.5 LTS) / x86_64 | OK | OK | OK | ||||||||||
| Package: Rbec |
| Version: 1.7.0 |
| Command: /home/biocbuild/bbs-3.17-bioc/R/bin/R CMD INSTALL Rbec |
| StartedAt: 2023-04-12 01:47:37 -0400 (Wed, 12 Apr 2023) |
| EndedAt: 2023-04-12 01:48:47 -0400 (Wed, 12 Apr 2023) |
| EllapsedTime: 69.8 seconds |
| RetCode: 0 |
| Status: OK |
##############################################################################
##############################################################################
###
### Running command:
###
### /home/biocbuild/bbs-3.17-bioc/R/bin/R CMD INSTALL Rbec
###
##############################################################################
##############################################################################
* installing to library ‘/home/biocbuild/bbs-3.17-bioc/R/site-library’
* installing *source* package ‘Rbec’ ...
** using staged installation
** libs
using C++ compiler: ‘g++ (Ubuntu 9.4.0-1ubuntu1~20.04.1) 9.4.0’
g++ -std=gnu++17 -I"/home/biocbuild/bbs-3.17-bioc/R/include" -DNDEBUG -I'/home/biocbuild/bbs-3.17-bioc/R/site-library/Rcpp/include' -I/usr/local/include -fpic -g -O2 -Wall -c RcppExports.cpp -o RcppExports.o
In file included from ../inst/include/Rbec.h:7,
from RcppExports.cpp:4:
../inst/include/Rbec_RcppExports.h:14:14: warning: ‘void Rbec::{anonymous}::validateSignature(const char*)’ defined but not used [-Wunused-function]
14 | void validateSignature(const char* sig) {
| ^~~~~~~~~~~~~~~~~
g++ -std=gnu++17 -I"/home/biocbuild/bbs-3.17-bioc/R/include" -DNDEBUG -I'/home/biocbuild/bbs-3.17-bioc/R/site-library/Rcpp/include' -I/usr/local/include -fpic -g -O2 -Wall -c kmer_dist.cpp -o kmer_dist.o
kmer_dist.cpp: In function ‘Rcpp::NumericVector kmer_dist(std::vector<std::__cxx11::basic_string<char> >, std::vector<std::__cxx11::basic_string<char> >, int)’:
kmer_dist.cpp:33:16: warning: comparison of integer expressions of different signedness: ‘int’ and ‘size_t’ {aka ‘long unsigned int’} [-Wsign-compare]
33 | for(int i=0;i<nseqs;i++) {
| ~^~~~~~
g++ -std=gnu++17 -I"/home/biocbuild/bbs-3.17-bioc/R/include" -DNDEBUG -I'/home/biocbuild/bbs-3.17-bioc/R/site-library/Rcpp/include' -I/usr/local/include -fpic -g -O2 -Wall -c rcpp_test.cpp -o rcpp_test.o
rcpp_test.cpp: In function ‘void assign_kmer(uint16_t*, const char*, int)’:
rcpp_test.cpp:71:8: warning: comparison of integer expressions of different signedness: ‘int’ and ‘size_t’ {aka ‘long unsigned int’} [-Wsign-compare]
71 | if(k >= len || k < 3 || k > 8) { Rcpp::stop("Invalid kmer-size."); }
| ~~^~~~~~
rcpp_test.cpp:81:13: warning: comparison of integer expressions of different signedness: ‘int’ and ‘size_t’ {aka ‘long unsigned int’} [-Wsign-compare]
81 | for(i=0; i<klen; i++) {
| ~^~~~~
g++ -std=gnu++17 -shared -L/home/biocbuild/bbs-3.17-bioc/R/lib -L/usr/local/lib -o Rbec.so RcppExports.o kmer_dist.o rcpp_test.o -L/home/biocbuild/bbs-3.17-bioc/R/lib -lR
installing to /home/biocbuild/bbs-3.17-bioc/R/site-library/00LOCK-Rbec/00new/Rbec/libs
** R
** inst
** byte-compile and prepare package for lazy loading
** help
*** installing help indices
** building package indices
** installing vignettes
** testing if installed package can be loaded from temporary location
** checking absolute paths in shared objects and dynamic libraries
** testing if installed package can be loaded from final location
** testing if installed package keeps a record of temporary installation path
* DONE (Rbec)