| Back to Multiple platform build/check report for BioC 3.17 |
|
This page was generated on 2023-04-12 10:55:41 -0400 (Wed, 12 Apr 2023).
| Hostname | OS | Arch (*) | R version | Installed pkgs |
|---|---|---|---|---|
| nebbiolo1 | Linux (Ubuntu 22.04.1 LTS) | x86_64 | 4.3.0 alpha (2023-04-03 r84154) | 4547 |
| nebbiolo2 | Linux (Ubuntu 20.04.5 LTS) | x86_64 | R Under development (unstable) (2023-02-14 r83833) -- "Unsuffered Consequences" | 4333 |
| Click on any hostname to see more info about the system (e.g. compilers) (*) as reported by 'uname -p', except on Windows and Mac OS X | ||||
|
To the developers/maintainers of the RNAmodR package: - Allow up to 24 hours (and sometimes 48 hours) for your latest push to git@git.bioconductor.org:packages/RNAmodR.git to reflect on this report. See Troubleshooting Build Report for more information. - Use the following Renviron settings to reproduce errors and warnings. Note: If "R CMD check" recently failed on the Linux builder over a missing dependency, add the missing dependency to "Suggests" in your DESCRIPTION file. See the Renviron.bioc for details. |
| Package 1724/2207 | Hostname | OS / Arch | INSTALL | BUILD | CHECK | BUILD BIN | ||||||||
| RNAmodR 1.13.0 (landing page) Felix G.M. Ernst
| nebbiolo1 | Linux (Ubuntu 22.04.1 LTS) / x86_64 | OK | OK | OK | |||||||||
| nebbiolo2 | Linux (Ubuntu 20.04.5 LTS) / x86_64 | OK | OK | OK | ||||||||||
| Package: RNAmodR |
| Version: 1.13.0 |
| Command: /home/biocbuild/bbs-3.17-bioc/R/bin/R CMD check --install=check:RNAmodR.install-out.txt --library=/home/biocbuild/bbs-3.17-bioc/R/site-library --timings RNAmodR_1.13.0.tar.gz |
| StartedAt: 2023-04-12 08:54:54 -0400 (Wed, 12 Apr 2023) |
| EndedAt: 2023-04-12 09:07:24 -0400 (Wed, 12 Apr 2023) |
| EllapsedTime: 750.0 seconds |
| RetCode: 0 |
| Status: OK |
| CheckDir: RNAmodR.Rcheck |
| Warnings: 0 |
##############################################################################
##############################################################################
###
### Running command:
###
### /home/biocbuild/bbs-3.17-bioc/R/bin/R CMD check --install=check:RNAmodR.install-out.txt --library=/home/biocbuild/bbs-3.17-bioc/R/site-library --timings RNAmodR_1.13.0.tar.gz
###
##############################################################################
##############################################################################
* using log directory ‘/home/biocbuild/bbs-3.17-bioc/meat/RNAmodR.Rcheck’
* using R Under development (unstable) (2023-02-14 r83833)
* using platform: x86_64-pc-linux-gnu (64-bit)
* R was compiled by
gcc (Ubuntu 9.4.0-1ubuntu1~20.04.1) 9.4.0
GNU Fortran (Ubuntu 9.4.0-1ubuntu1~20.04.1) 9.4.0
* running under: Ubuntu 20.04.6 LTS
* using session charset: UTF-8
* checking for file ‘RNAmodR/DESCRIPTION’ ... OK
* checking extension type ... Package
* this is package ‘RNAmodR’ version ‘1.13.0’
* package encoding: UTF-8
* checking package namespace information ... OK
* checking package dependencies ... OK
* checking if this is a source package ... OK
* checking if there is a namespace ... OK
* checking for hidden files and directories ... OK
* checking for portable file names ... OK
* checking for sufficient/correct file permissions ... OK
* checking whether package ‘RNAmodR’ can be installed ... OK
* checking installed package size ... OK
* checking package directory ... OK
* checking ‘build’ directory ... OK
* checking DESCRIPTION meta-information ... OK
* checking top-level files ... OK
* checking for left-over files ... OK
* checking index information ... OK
* checking package subdirectories ... OK
* checking R files for non-ASCII characters ... OK
* checking R files for syntax errors ... OK
* checking whether the package can be loaded ... OK
* checking whether the package can be loaded with stated dependencies ... OK
* checking whether the package can be unloaded cleanly ... OK
* checking whether the namespace can be loaded with stated dependencies ... OK
* checking whether the namespace can be unloaded cleanly ... OK
* checking loading without being on the library search path ... OK
* checking dependencies in R code ... NOTE
Unexported objects imported by ':::' calls:
'BiocGenerics:::replaceSlots' 'Biostrings:::XString'
'IRanges:::.valid.CompressedList' 'IRanges:::coerceToCompressedList'
'S4Vectors:::.valid.DataFrame' 'S4Vectors:::labeledLine'
'S4Vectors:::make_zero_col_DataFrame'
'S4Vectors:::prepare_objects_to_bind'
See the note in ?`:::` about the use of this operator.
There are ::: calls to the package's namespace in its code. A package
almost never needs to use ::: for its own objects:
'.get_inosine_score'
* checking S3 generic/method consistency ... OK
* checking replacement functions ... OK
* checking foreign function calls ... OK
* checking R code for possible problems ... OK
* checking Rd files ... OK
* checking Rd metadata ... OK
* checking Rd cross-references ... OK
* checking for missing documentation entries ... OK
* checking for code/documentation mismatches ... OK
* checking Rd \usage sections ... OK
* checking Rd contents ... OK
* checking for unstated dependencies in examples ... OK
* checking contents of ‘data’ directory ... OK
* checking data for non-ASCII characters ... OK
* checking data for ASCII and uncompressed saves ... OK
* checking files in ‘vignettes’ ... OK
* checking examples ... OK
Examples with CPU (user + system) or elapsed time > 5s
user system elapsed
stats 51.418 4.840 45.389
CoverageSequenceData-class 13.279 1.173 15.212
ModInosine 10.568 0.908 11.958
ProtectedEndSequenceData-class 7.849 0.704 8.996
EndSequenceData-class 6.778 0.596 7.889
PileupSequenceData-class 5.727 0.328 6.524
* checking for unstated dependencies in ‘tests’ ... OK
* checking tests ...
Running ‘testthat.R’
OK
* checking for unstated dependencies in vignettes ... OK
* checking package vignettes in ‘inst/doc’ ... OK
* checking running R code from vignettes ...
‘RNAmodR.Rmd’ using ‘UTF-8’... OK
‘RNAmodR.creation.Rmd’ using ‘UTF-8’... OK
NONE
* checking re-building of vignette outputs ... OK
* checking PDF version of manual ... OK
* DONE
Status: 1 NOTE
See
‘/home/biocbuild/bbs-3.17-bioc/meat/RNAmodR.Rcheck/00check.log’
for details.
RNAmodR.Rcheck/00install.out
############################################################################## ############################################################################## ### ### Running command: ### ### /home/biocbuild/bbs-3.17-bioc/R/bin/R CMD INSTALL RNAmodR ### ############################################################################## ############################################################################## * installing to library ‘/home/biocbuild/bbs-3.17-bioc/R/site-library’ * installing *source* package ‘RNAmodR’ ... ** using staged installation ** R ** data ** inst ** byte-compile and prepare package for lazy loading ** help *** installing help indices ** building package indices ** installing vignettes ** testing if installed package can be loaded from temporary location ** testing if installed package can be loaded from final location ** testing if installed package keeps a record of temporary installation path * DONE (RNAmodR)
RNAmodR.Rcheck/tests/testthat.Rout
R Under development (unstable) (2023-02-14 r83833) -- "Unsuffered Consequences"
Copyright (C) 2023 The R Foundation for Statistical Computing
Platform: x86_64-pc-linux-gnu (64-bit)
R is free software and comes with ABSOLUTELY NO WARRANTY.
You are welcome to redistribute it under certain conditions.
Type 'license()' or 'licence()' for distribution details.
R is a collaborative project with many contributors.
Type 'contributors()' for more information and
'citation()' on how to cite R or R packages in publications.
Type 'demo()' for some demos, 'help()' for on-line help, or
'help.start()' for an HTML browser interface to help.
Type 'q()' to quit R.
> library(testthat)
> library(RNAmodR)
Loading required package: S4Vectors
Loading required package: stats4
Loading required package: BiocGenerics
Attaching package: 'BiocGenerics'
The following objects are masked from 'package:stats':
IQR, mad, sd, var, xtabs
The following objects are masked from 'package:base':
Filter, Find, Map, Position, Reduce, anyDuplicated, aperm, append,
as.data.frame, basename, cbind, colnames, dirname, do.call,
duplicated, eval, evalq, get, grep, grepl, intersect, is.unsorted,
lapply, mapply, match, mget, order, paste, pmax, pmax.int, pmin,
pmin.int, rank, rbind, rownames, sapply, setdiff, sort, table,
tapply, union, unique, unsplit, which.max, which.min
Attaching package: 'S4Vectors'
The following objects are masked from 'package:base':
I, expand.grid, unname
Loading required package: IRanges
Loading required package: GenomicRanges
Loading required package: GenomeInfoDb
Loading required package: Modstrings
Loading required package: Biostrings
Loading required package: XVector
Attaching package: 'Biostrings'
The following object is masked from 'package:base':
strsplit
Attaching package: 'RNAmodR'
The following object is masked from 'package:testthat':
compare
>
> test_check("RNAmodR")
[E::idx_find_and_load] Could not retrieve index file for '/home/biocbuild/.cache/R/ExperimentHub/3ea905c299ba6_2547'
[E::idx_find_and_load] Could not retrieve index file for '/home/biocbuild/.cache/R/ExperimentHub/3ea905c299ba6_2547'
[E::idx_find_and_load] Could not retrieve index file for '/home/biocbuild/.cache/R/ExperimentHub/3ea905c299ba6_2547'
[E::idx_find_and_load] Could not retrieve index file for '/home/biocbuild/.cache/R/ExperimentHub/3ea905c299ba6_2547'
[E::idx_find_and_load] Could not retrieve index file for '/home/biocbuild/.cache/R/ExperimentHub/3ea905c299ba6_2547'
[E::idx_find_and_load] Could not retrieve index file for '/home/biocbuild/.cache/R/ExperimentHub/3ea905c299ba6_2547'
Error in x$.self$finalize() : attempt to apply non-function
[ FAIL 0 | WARN 1 | SKIP 9 | PASS 192 ]
══ Skipped tests ═══════════════════════════════════════════════════════════════
• On Bioconductor (9)
[ FAIL 0 | WARN 1 | SKIP 9 | PASS 192 ]
Warning message:
call dbDisconnect() when finished working with a connection
>
> proc.time()
user system elapsed
50.637 3.189 54.721
RNAmodR.Rcheck/RNAmodR-Ex.timings
| name | user | system | elapsed | |
| CoverageSequenceData-class | 13.279 | 1.173 | 15.212 | |
| EndSequenceData-class | 6.778 | 0.596 | 7.889 | |
| ModInosine-functions | 0.728 | 0.029 | 0.757 | |
| ModInosine | 10.568 | 0.908 | 11.958 | |
| Modifier-functions | 0.205 | 0.008 | 0.213 | |
| NormEndSequenceData-class | 0 | 0 | 0 | |
| PileupSequenceData-class | 5.727 | 0.328 | 6.524 | |
| ProtectedEndSequenceData-class | 7.849 | 0.704 | 8.996 | |
| RNAmodR-development | 0.075 | 0.004 | 0.079 | |
| SequenceData-functions | 0.077 | 0.003 | 0.081 | |
| SequenceDataFrame-class | 0.062 | 0.013 | 0.074 | |
| SequenceDataList-class | 0.122 | 0.012 | 0.134 | |
| SequenceDataSet-class | 0.079 | 0.004 | 0.084 | |
| SequenceModDNAStringSetTrack-class | 1.865 | 0.299 | 2.165 | |
| SequenceModRNAStringSetTrack-class | 0.120 | 0.001 | 0.120 | |
| aggregate | 0.503 | 0.000 | 0.503 | |
| compareByCoord | 1.903 | 0.076 | 1.979 | |
| modify | 0.517 | 0.023 | 0.541 | |
| plotData | 2.187 | 0.128 | 2.315 | |
| plotROC | 1.373 | 0.013 | 1.386 | |
| settings | 0.105 | 0.000 | 0.105 | |
| stats | 51.418 | 4.840 | 45.389 | |
| subsetByCoord | 0.633 | 0.056 | 0.689 | |