| Back to Multiple platform build/check report for BioC 3.17 |
|
This page was generated on 2023-04-12 10:55:30 -0400 (Wed, 12 Apr 2023).
| Hostname | OS | Arch (*) | R version | Installed pkgs |
|---|---|---|---|---|
| nebbiolo1 | Linux (Ubuntu 22.04.1 LTS) | x86_64 | 4.3.0 alpha (2023-04-03 r84154) | 4547 |
| nebbiolo2 | Linux (Ubuntu 20.04.5 LTS) | x86_64 | R Under development (unstable) (2023-02-14 r83833) -- "Unsuffered Consequences" | 4333 |
| Click on any hostname to see more info about the system (e.g. compilers) (*) as reported by 'uname -p', except on Windows and Mac OS X | ||||
|
To the developers/maintainers of the RLassoCox package: - Allow up to 24 hours (and sometimes 48 hours) for your latest push to git@git.bioconductor.org:packages/RLassoCox.git to reflect on this report. See Troubleshooting Build Report for more information. - Use the following Renviron settings to reproduce errors and warnings. Note: If "R CMD check" recently failed on the Linux builder over a missing dependency, add the missing dependency to "Suggests" in your DESCRIPTION file. See the Renviron.bioc for details. |
| Package 1712/2207 | Hostname | OS / Arch | INSTALL | BUILD | CHECK | BUILD BIN | ||||||||
| RLassoCox 1.7.0 (landing page) Wei Liu
| nebbiolo1 | Linux (Ubuntu 22.04.1 LTS) / x86_64 | OK | OK | OK | |||||||||
| nebbiolo2 | Linux (Ubuntu 20.04.5 LTS) / x86_64 | OK | OK | OK | ||||||||||
| Package: RLassoCox |
| Version: 1.7.0 |
| Command: /home/biocbuild/bbs-3.17-bioc/R/bin/R CMD check --install=check:RLassoCox.install-out.txt --library=/home/biocbuild/bbs-3.17-bioc/R/site-library --timings RLassoCox_1.7.0.tar.gz |
| StartedAt: 2023-04-11 23:02:17 -0400 (Tue, 11 Apr 2023) |
| EndedAt: 2023-04-11 23:07:17 -0400 (Tue, 11 Apr 2023) |
| EllapsedTime: 300.2 seconds |
| RetCode: 0 |
| Status: OK |
| CheckDir: RLassoCox.Rcheck |
| Warnings: 0 |
##############################################################################
##############################################################################
###
### Running command:
###
### /home/biocbuild/bbs-3.17-bioc/R/bin/R CMD check --install=check:RLassoCox.install-out.txt --library=/home/biocbuild/bbs-3.17-bioc/R/site-library --timings RLassoCox_1.7.0.tar.gz
###
##############################################################################
##############################################################################
* using log directory ‘/home/biocbuild/bbs-3.17-bioc/meat/RLassoCox.Rcheck’
* using R version 4.3.0 alpha (2023-04-03 r84154)
* using platform: x86_64-pc-linux-gnu (64-bit)
* R was compiled by
gcc (Ubuntu 11.3.0-1ubuntu1~22.04) 11.3.0
GNU Fortran (Ubuntu 11.3.0-1ubuntu1~22.04) 11.3.0
* running under: Ubuntu 22.04.2 LTS
* using session charset: UTF-8
* checking for file ‘RLassoCox/DESCRIPTION’ ... OK
* checking extension type ... Package
* this is package ‘RLassoCox’ version ‘1.7.0’
* checking package namespace information ... OK
* checking package dependencies ... OK
* checking if this is a source package ... OK
* checking if there is a namespace ... OK
* checking for hidden files and directories ... OK
* checking for portable file names ... OK
* checking for sufficient/correct file permissions ... OK
* checking whether package ‘RLassoCox’ can be installed ... OK
* checking installed package size ... OK
* checking package directory ... OK
* checking ‘build’ directory ... OK
* checking DESCRIPTION meta-information ... OK
* checking top-level files ... OK
* checking for left-over files ... OK
* checking index information ... OK
* checking package subdirectories ... OK
* checking R files for non-ASCII characters ... OK
* checking R files for syntax errors ... OK
* checking whether the package can be loaded ... OK
* checking whether the package can be loaded with stated dependencies ... OK
* checking whether the package can be unloaded cleanly ... OK
* checking whether the namespace can be loaded with stated dependencies ... OK
* checking whether the namespace can be unloaded cleanly ... OK
* checking loading without being on the library search path ... OK
* checking dependencies in R code ... OK
* checking S3 generic/method consistency ... OK
* checking replacement functions ... OK
* checking foreign function calls ... OK
* checking R code for possible problems ... OK
* checking Rd files ... OK
* checking Rd metadata ... OK
* checking Rd cross-references ... OK
* checking for missing documentation entries ... OK
* checking for code/documentation mismatches ... OK
* checking Rd \usage sections ... OK
* checking Rd contents ... OK
* checking for unstated dependencies in examples ... OK
* checking contents of ‘data’ directory ... OK
* checking data for non-ASCII characters ... OK
* checking data for ASCII and uncompressed saves ... OK
* checking files in ‘vignettes’ ... OK
* checking examples ... OK
Examples with CPU (user + system) or elapsed time > 5s
user system elapsed
RLassoCox-package 45.229 20.704 65.943
predict.cvRLassoCox 26.941 4.095 31.041
cvRLassoCox 25.623 3.296 28.919
RLassoCox 21.271 3.443 24.716
predict.RLassoCox 21.016 3.320 24.338
* checking for unstated dependencies in vignettes ... OK
* checking package vignettes in ‘inst/doc’ ... OK
* checking running R code from vignettes ...
‘RLassoCox.Rnw’... OK
NONE
* checking re-building of vignette outputs ... OK
* checking PDF version of manual ... OK
* DONE
Status: OK
RLassoCox.Rcheck/00install.out
############################################################################## ############################################################################## ### ### Running command: ### ### /home/biocbuild/bbs-3.17-bioc/R/bin/R CMD INSTALL RLassoCox ### ############################################################################## ############################################################################## * installing to library ‘/home/biocbuild/bbs-3.17-bioc/R/site-library’ * installing *source* package ‘RLassoCox’ ... ** using staged installation ** R ** data ** byte-compile and prepare package for lazy loading ** help *** installing help indices ** building package indices ** installing vignettes ** testing if installed package can be loaded from temporary location ** testing if installed package can be loaded from final location ** testing if installed package keeps a record of temporary installation path * DONE (RLassoCox)
RLassoCox.Rcheck/RLassoCox-Ex.timings
| name | user | system | elapsed | |
| RLassoCox-package | 45.229 | 20.704 | 65.943 | |
| RLassoCox | 21.271 | 3.443 | 24.716 | |
| cvRLassoCox | 25.623 | 3.296 | 28.919 | |
| dGMMirGraph | 0.018 | 0.004 | 0.022 | |
| mRNA_matrix | 0.015 | 0.000 | 0.015 | |
| predict.RLassoCox | 21.016 | 3.320 | 24.338 | |
| predict.cvRLassoCox | 26.941 | 4.095 | 31.041 | |
| survData | 0.001 | 0.000 | 0.001 | |