| Back to Multiple platform build/check report for BioC 3.17 |
|
This page was generated on 2023-04-12 10:55:40 -0400 (Wed, 12 Apr 2023).
| Hostname | OS | Arch (*) | R version | Installed pkgs |
|---|---|---|---|---|
| nebbiolo1 | Linux (Ubuntu 22.04.1 LTS) | x86_64 | 4.3.0 alpha (2023-04-03 r84154) | 4547 |
| nebbiolo2 | Linux (Ubuntu 20.04.5 LTS) | x86_64 | R Under development (unstable) (2023-02-14 r83833) -- "Unsuffered Consequences" | 4333 |
| Click on any hostname to see more info about the system (e.g. compilers) (*) as reported by 'uname -p', except on Windows and Mac OS X | ||||
|
To the developers/maintainers of the RESOLVE package: - Allow up to 24 hours (and sometimes 48 hours) for your latest push to git@git.bioconductor.org:packages/RESOLVE.git to reflect on this report. See Troubleshooting Build Report for more information. - Use the following Renviron settings to reproduce errors and warnings. Note: If "R CMD check" recently failed on the Linux builder over a missing dependency, add the missing dependency to "Suggests" in your DESCRIPTION file. See the Renviron.bioc for details. |
| Package 1674/2207 | Hostname | OS / Arch | INSTALL | BUILD | CHECK | BUILD BIN | ||||||||
| RESOLVE 1.1.2 (landing page) Luca De Sano
| nebbiolo1 | Linux (Ubuntu 22.04.1 LTS) / x86_64 | OK | OK | OK | |||||||||
| nebbiolo2 | Linux (Ubuntu 20.04.5 LTS) / x86_64 | OK | OK | OK | ||||||||||
| Package: RESOLVE |
| Version: 1.1.2 |
| Command: /home/biocbuild/bbs-3.17-bioc/R/bin/R CMD check --install=check:RESOLVE.install-out.txt --library=/home/biocbuild/bbs-3.17-bioc/R/site-library --timings RESOLVE_1.1.2.tar.gz |
| StartedAt: 2023-04-12 08:46:34 -0400 (Wed, 12 Apr 2023) |
| EndedAt: 2023-04-12 09:03:12 -0400 (Wed, 12 Apr 2023) |
| EllapsedTime: 997.8 seconds |
| RetCode: 0 |
| Status: OK |
| CheckDir: RESOLVE.Rcheck |
| Warnings: 0 |
##############################################################################
##############################################################################
###
### Running command:
###
### /home/biocbuild/bbs-3.17-bioc/R/bin/R CMD check --install=check:RESOLVE.install-out.txt --library=/home/biocbuild/bbs-3.17-bioc/R/site-library --timings RESOLVE_1.1.2.tar.gz
###
##############################################################################
##############################################################################
* using log directory ‘/home/biocbuild/bbs-3.17-bioc/meat/RESOLVE.Rcheck’
* using R Under development (unstable) (2023-02-14 r83833)
* using platform: x86_64-pc-linux-gnu (64-bit)
* R was compiled by
gcc (Ubuntu 9.4.0-1ubuntu1~20.04.1) 9.4.0
GNU Fortran (Ubuntu 9.4.0-1ubuntu1~20.04.1) 9.4.0
* running under: Ubuntu 20.04.6 LTS
* using session charset: UTF-8
* checking for file ‘RESOLVE/DESCRIPTION’ ... OK
* this is package ‘RESOLVE’ version ‘1.1.2’
* package encoding: UTF-8
* checking package namespace information ... OK
* checking package dependencies ... OK
* checking if this is a source package ... OK
* checking if there is a namespace ... OK
* checking for hidden files and directories ... OK
* checking for portable file names ... OK
* checking for sufficient/correct file permissions ... OK
* checking whether package ‘RESOLVE’ can be installed ... OK
* checking installed package size ... OK
* checking package directory ... OK
* checking ‘build’ directory ... OK
* checking DESCRIPTION meta-information ... OK
* checking top-level files ... OK
* checking for left-over files ... OK
* checking index information ... OK
* checking package subdirectories ... OK
* checking R files for non-ASCII characters ... OK
* checking R files for syntax errors ... OK
* checking whether the package can be loaded ... OK
* checking whether the package can be loaded with stated dependencies ... OK
* checking whether the package can be unloaded cleanly ... OK
* checking whether the namespace can be loaded with stated dependencies ... OK
* checking whether the namespace can be unloaded cleanly ... OK
* checking loading without being on the library search path ... OK
* checking dependencies in R code ... OK
* checking S3 generic/method consistency ... OK
* checking replacement functions ... OK
* checking foreign function calls ... OK
* checking R code for possible problems ... OK
* checking Rd files ... OK
* checking Rd metadata ... OK
* checking Rd cross-references ... OK
* checking for missing documentation entries ... OK
* checking for code/documentation mismatches ... OK
* checking Rd \usage sections ... OK
* checking Rd contents ... OK
* checking for unstated dependencies in examples ... OK
* checking contents of ‘data’ directory ... OK
* checking data for non-ASCII characters ... OK
* checking data for ASCII and uncompressed saves ... OK
* checking files in ‘vignettes’ ... OK
* checking examples ... OK
Examples with CPU (user + system) or elapsed time > 5s
user system elapsed
signaturesSignificance 142.030 0.352 142.387
signaturesCV 121.699 0.435 122.135
signaturesDecomposition 93.643 0.279 93.926
signaturesAssignment 48.309 0.502 48.811
getIDCounts 7.291 0.323 7.702
getSBSCounts 1.532 0.295 5.341
* checking for unstated dependencies in ‘tests’ ... OK
* checking tests ...
Running ‘testthat.R’
OK
* checking for unstated dependencies in vignettes ... OK
* checking package vignettes in ‘inst/doc’ ... OK
* checking running R code from vignettes ...
‘RESOLVE.rmd’ using ‘UTF-8’... OK
NONE
* checking re-building of vignette outputs ... OK
* checking PDF version of manual ... OK
* DONE
Status: OK
RESOLVE.Rcheck/00install.out
############################################################################## ############################################################################## ### ### Running command: ### ### /home/biocbuild/bbs-3.17-bioc/R/bin/R CMD INSTALL RESOLVE ### ############################################################################## ############################################################################## * installing to library ‘/home/biocbuild/bbs-3.17-bioc/R/site-library’ * installing *source* package ‘RESOLVE’ ... ** using staged installation ** R ** data ** inst ** byte-compile and prepare package for lazy loading ** help *** installing help indices ** building package indices ** installing vignettes ** testing if installed package can be loaded from temporary location ** testing if installed package can be loaded from final location ** testing if installed package keeps a record of temporary installation path * DONE (RESOLVE)
RESOLVE.Rcheck/tests/testthat.Rout
R Under development (unstable) (2023-02-14 r83833) -- "Unsuffered Consequences"
Copyright (C) 2023 The R Foundation for Statistical Computing
Platform: x86_64-pc-linux-gnu (64-bit)
R is free software and comes with ABSOLUTELY NO WARRANTY.
You are welcome to redistribute it under certain conditions.
Type 'license()' or 'licence()' for distribution details.
R is a collaborative project with many contributors.
Type 'contributors()' for more information and
'citation()' on how to cite R or R packages in publications.
Type 'demo()' for some demos, 'help()' for on-line help, or
'help.start()' for an HTML browser interface to help.
Type 'q()' to quit R.
> Sys.setenv("R_TESTS" = "")
>
> library("testthat")
> library("RESOLVE")
>
> test_check("RESOLVE")
[ FAIL 0 | WARN 27 | SKIP 0 | PASS 6 ]
[ FAIL 0 | WARN 27 | SKIP 0 | PASS 6 ]
>
> proc.time()
user system elapsed
195.439 2.241 198.083
RESOLVE.Rcheck/RESOLVE-Ex.timings
| name | user | system | elapsed | |
| getCNCounts | 0.014 | 0.003 | 0.017 | |
| getIDCounts | 7.291 | 0.323 | 7.702 | |
| getMNVCounts | 0.195 | 0.008 | 0.190 | |
| getSBSCounts | 1.532 | 0.295 | 5.341 | |
| groupsCNPlot | 2.838 | 0.063 | 2.901 | |
| groupsCXPlot | 1.769 | 0.008 | 1.777 | |
| groupsIDPlot | 4.447 | 0.003 | 4.451 | |
| groupsMNVPlot | 3.947 | 0.152 | 4.100 | |
| groupsSBSPlot | 3.775 | 0.004 | 3.778 | |
| patientsCNPlot | 1.268 | 0.000 | 1.268 | |
| patientsCXPlot | 0.687 | 0.148 | 0.834 | |
| patientsIDPlot | 1.849 | 0.040 | 1.889 | |
| patientsMNVPlot | 1.179 | 0.000 | 1.178 | |
| patientsSBSPlot | 0.778 | 0.000 | 0.778 | |
| signaturesAssignment | 48.309 | 0.502 | 48.811 | |
| signaturesCNPlot | 1.722 | 0.008 | 1.730 | |
| signaturesCV | 121.699 | 0.435 | 122.135 | |
| signaturesCXPlot | 0.820 | 0.023 | 0.843 | |
| signaturesDecomposition | 93.643 | 0.279 | 93.926 | |
| signaturesIDPlot | 2.503 | 0.080 | 2.583 | |
| signaturesMNVPlot | 1.582 | 0.004 | 1.587 | |
| signaturesSBSPlot | 1.164 | 0.000 | 1.165 | |
| signaturesSignificance | 142.030 | 0.352 | 142.387 | |