| Back to Multiple platform build/check report for BioC 3.17 |
|
This page was generated on 2023-04-12 10:55:40 -0400 (Wed, 12 Apr 2023).
| Hostname | OS | Arch (*) | R version | Installed pkgs |
|---|---|---|---|---|
| nebbiolo1 | Linux (Ubuntu 22.04.1 LTS) | x86_64 | 4.3.0 alpha (2023-04-03 r84154) | 4547 |
| nebbiolo2 | Linux (Ubuntu 20.04.5 LTS) | x86_64 | R Under development (unstable) (2023-02-14 r83833) -- "Unsuffered Consequences" | 4333 |
| Click on any hostname to see more info about the system (e.g. compilers) (*) as reported by 'uname -p', except on Windows and Mac OS X | ||||
|
To the developers/maintainers of the RCX package: - Allow up to 24 hours (and sometimes 48 hours) for your latest push to git@git.bioconductor.org:packages/RCX.git to reflect on this report. See Troubleshooting Build Report for more information. - Use the following Renviron settings to reproduce errors and warnings. Note: If "R CMD check" recently failed on the Linux builder over a missing dependency, add the missing dependency to "Suggests" in your DESCRIPTION file. See the Renviron.bioc for details. |
| Package 1639/2207 | Hostname | OS / Arch | INSTALL | BUILD | CHECK | BUILD BIN | ||||||||
| RCX 1.3.2 (landing page) Florian Auer
| nebbiolo1 | Linux (Ubuntu 22.04.1 LTS) / x86_64 | OK | OK | OK | |||||||||
| nebbiolo2 | Linux (Ubuntu 20.04.5 LTS) / x86_64 | OK | OK | OK | ||||||||||
| Package: RCX |
| Version: 1.3.2 |
| Command: /home/biocbuild/bbs-3.17-bioc/R/bin/R CMD check --install=check:RCX.install-out.txt --library=/home/biocbuild/bbs-3.17-bioc/R/site-library --timings RCX_1.3.2.tar.gz |
| StartedAt: 2023-04-12 08:42:26 -0400 (Wed, 12 Apr 2023) |
| EndedAt: 2023-04-12 08:43:25 -0400 (Wed, 12 Apr 2023) |
| EllapsedTime: 59.2 seconds |
| RetCode: 0 |
| Status: OK |
| CheckDir: RCX.Rcheck |
| Warnings: 0 |
##############################################################################
##############################################################################
###
### Running command:
###
### /home/biocbuild/bbs-3.17-bioc/R/bin/R CMD check --install=check:RCX.install-out.txt --library=/home/biocbuild/bbs-3.17-bioc/R/site-library --timings RCX_1.3.2.tar.gz
###
##############################################################################
##############################################################################
* using log directory ‘/home/biocbuild/bbs-3.17-bioc/meat/RCX.Rcheck’
* using R Under development (unstable) (2023-02-14 r83833)
* using platform: x86_64-pc-linux-gnu (64-bit)
* R was compiled by
gcc (Ubuntu 9.4.0-1ubuntu1~20.04.1) 9.4.0
GNU Fortran (Ubuntu 9.4.0-1ubuntu1~20.04.1) 9.4.0
* running under: Ubuntu 20.04.6 LTS
* using session charset: UTF-8
* checking for file ‘RCX/DESCRIPTION’ ... OK
* checking extension type ... Package
* this is package ‘RCX’ version ‘1.3.2’
* package encoding: UTF-8
* checking package namespace information ... OK
* checking package dependencies ... OK
* checking if this is a source package ... OK
* checking if there is a namespace ... OK
* checking for hidden files and directories ... OK
* checking for portable file names ... OK
* checking for sufficient/correct file permissions ... OK
* checking whether package ‘RCX’ can be installed ... OK
* checking installed package size ... OK
* checking package directory ... OK
* checking ‘build’ directory ... OK
* checking DESCRIPTION meta-information ... OK
* checking top-level files ... OK
* checking for left-over files ... OK
* checking index information ... OK
* checking package subdirectories ... NOTE
Problems with news in ‘NEWS.md’:
No news entries found.
* checking R files for non-ASCII characters ... OK
* checking R files for syntax errors ... OK
* checking whether the package can be loaded ... OK
* checking whether the package can be loaded with stated dependencies ... OK
* checking whether the package can be unloaded cleanly ... OK
* checking whether the namespace can be loaded with stated dependencies ... OK
* checking whether the namespace can be unloaded cleanly ... OK
* checking loading without being on the library search path ... OK
* checking dependencies in R code ... OK
* checking S3 generic/method consistency ... OK
* checking replacement functions ... OK
* checking foreign function calls ... OK
* checking R code for possible problems ... OK
* checking Rd files ... OK
* checking Rd metadata ... OK
* checking Rd cross-references ... OK
* checking for missing documentation entries ... OK
* checking for code/documentation mismatches ... OK
* checking Rd \usage sections ... OK
* checking Rd contents ... OK
* checking for unstated dependencies in examples ... OK
* checking R/sysdata.rda ... OK
* checking files in ‘vignettes’ ... OK
* checking examples ... OK
* checking for unstated dependencies in ‘tests’ ... OK
* checking tests ...
Running ‘testthat.R’
OK
* checking for unstated dependencies in vignettes ... OK
* checking package vignettes in ‘inst/doc’ ... OK
* checking running R code from vignettes ...
‘Appendix_The_RCX_and_CX_Data_Model.Rmd’ using ‘UTF-8’... OK
‘Creating_RCX_from_scratch.Rmd’ using ‘UTF-8’... OK
‘Extending_the_RCX_Data_Model.Rmd’ using ‘UTF-8’... OK
‘RCX_an_R_package_implementing_the_Cytoscape_Exchange_format.Rmd’ using ‘UTF-8’... OK
NONE
* checking re-building of vignette outputs ... OK
* checking PDF version of manual ... OK
* DONE
Status: 1 NOTE
See
‘/home/biocbuild/bbs-3.17-bioc/meat/RCX.Rcheck/00check.log’
for details.
RCX.Rcheck/00install.out
############################################################################## ############################################################################## ### ### Running command: ### ### /home/biocbuild/bbs-3.17-bioc/R/bin/R CMD INSTALL RCX ### ############################################################################## ############################################################################## * installing to library ‘/home/biocbuild/bbs-3.17-bioc/R/site-library’ * installing *source* package ‘RCX’ ... ** using staged installation ** R ** inst ** byte-compile and prepare package for lazy loading ** help *** installing help indices ** building package indices ** installing vignettes ** testing if installed package can be loaded from temporary location ** testing if installed package can be loaded from final location ** testing if installed package keeps a record of temporary installation path * DONE (RCX)
RCX.Rcheck/tests/testthat.Rout
R Under development (unstable) (2023-02-14 r83833) -- "Unsuffered Consequences"
Copyright (C) 2023 The R Foundation for Statistical Computing
Platform: x86_64-pc-linux-gnu (64-bit)
R is free software and comes with ABSOLUTELY NO WARRANTY.
You are welcome to redistribute it under certain conditions.
Type 'license()' or 'licence()' for distribution details.
R is a collaborative project with many contributors.
Type 'contributors()' for more information and
'citation()' on how to cite R or R packages in publications.
Type 'demo()' for some demos, 'help()' for on-line help, or
'help.start()' for an HTML browser interface to help.
Type 'q()' to quit R.
> library(testthat)
> library(RCX)
>
> test_check("RCX")
[ FAIL 0 | WARN 0 | SKIP 0 | PASS 60 ]
>
> proc.time()
user system elapsed
2.730 0.106 2.821
RCX.Rcheck/RCX-Ex.timings
| name | user | system | elapsed | |
| CartesianLayout | 0.006 | 0.001 | 0.007 | |
| Convert-Names-and-Classes | 0.000 | 0.000 | 0.001 | |
| CyGroups | 0.008 | 0.000 | 0.008 | |
| CyHiddenAttributes | 0.143 | 0.000 | 0.143 | |
| CyNetworkRelations | 0.001 | 0.000 | 0.001 | |
| CySubNetworks | 0.002 | 0.000 | 0.003 | |
| CyTableColumn | 0.006 | 0.000 | 0.006 | |
| CyVisualProperties | 0.015 | 0.000 | 0.016 | |
| CyVisualProperty | 0.014 | 0.000 | 0.015 | |
| CyVisualPropertyDependencies | 0.004 | 0.000 | 0.003 | |
| CyVisualPropertyMappings | 0.004 | 0.000 | 0.005 | |
| CyVisualPropertyProperties | 0.003 | 0.000 | 0.003 | |
| EdgeAttributes | 0.014 | 0.000 | 0.014 | |
| Edges | 0.002 | 0.000 | 0.001 | |
| Igraph | 2.455 | 0.028 | 2.484 | |
| Meta-data | 0.023 | 0.000 | 0.023 | |
| NetworkAttributes | 0.014 | 0.000 | 0.013 | |
| NodeAttributes | 0.013 | 0.000 | 0.013 | |
| Nodes | 0.001 | 0.000 | 0.002 | |
| RCX-object | 0.212 | 0.000 | 0.211 | |
| aspectClasses | 0 | 0 | 0 | |
| checks | 0 | 0 | 0 | |
| convert-data-types-and-values | 0.000 | 0.001 | 0.002 | |
| convert2json | 0 | 0 | 0 | |
| countElements | 0.008 | 0.001 | 0.008 | |
| custom-print | 0.005 | 0.000 | 0.005 | |
| dot-addAspectNameToJson | 0 | 0 | 0 | |
| dot-addAttributeData | 0 | 0 | 0 | |
| dot-aspectClass | 0 | 0 | 0 | |
| dot-convertRawList | 0 | 0 | 0 | |
| dot-createAttributeAspect | 0 | 0 | 0 | |
| dot-createCyVpPorD | 0 | 0 | 0 | |
| dot-filterBy | 0.000 | 0.000 | 0.001 | |
| dot-format | 0 | 0 | 0 | |
| dot-infer | 0 | 0 | 0 | |
| dot-json2RDataType | 0 | 0 | 0 | |
| dot-jsonL | 0.000 | 0.000 | 0.001 | |
| dot-jsonV | 0.000 | 0.001 | 0.001 | |
| dot-log | 0.000 | 0.001 | 0.000 | |
| dot-mergeAttributesAspect | 0 | 0 | 0 | |
| dot-mergeIdAspect | 0.001 | 0.000 | 0.000 | |
| dot-modClass | 0.000 | 0.000 | 0.001 | |
| dot-pasteC | 0 | 0 | 0 | |
| dot-renameDF | 0.001 | 0.000 | 0.002 | |
| dot-stop | 0 | 0 | 0 | |
| dot-summaryAspect | 0.000 | 0.002 | 0.001 | |
| dot-transformListLength-set | 0.001 | 0.002 | 0.002 | |
| dot-transformVLD | 0.005 | 0.000 | 0.005 | |
| getCyVisualProperty | 0.009 | 0.000 | 0.009 | |
| graphNEL | 2.653 | 0.020 | 2.674 | |
| hasIds | 0.000 | 0.000 | 0.001 | |
| idProperty | 0.001 | 0.000 | 0.001 | |
| jsonToRCX | 0.002 | 0.000 | 0.002 | |
| markAttributeColumn | 0.001 | 0.000 | 0.001 | |
| markRefColumn | 0.001 | 0.000 | 0.001 | |
| maxId | 0.001 | 0.000 | 0.001 | |
| rcxToJson | 0.002 | 0.000 | 0.002 | |
| readCX | 0.536 | 0.020 | 0.556 | |
| referredBy | 0.008 | 0.000 | 0.008 | |
| refersTo | 0.001 | 0.000 | 0.001 | |
| setExtension | 0.001 | 0.000 | 0.000 | |
| summary | 0.011 | 0.000 | 0.010 | |
| toCX | 0.011 | 0.000 | 0.011 | |
| updateCartesianLayout | 0.044 | 0.000 | 0.044 | |
| updateCyGroups | 0.027 | 0.000 | 0.027 | |
| updateCyHiddenAttributes | 0.043 | 0.000 | 0.044 | |
| updateCyNetworkRelations | 0.042 | 0.000 | 0.042 | |
| updateCySubNetworks | 0.029 | 0.000 | 0.029 | |
| updateCyTableColumn | 0.042 | 0.000 | 0.042 | |
| updateCyVisualProperties | 0.242 | 0.008 | 0.250 | |
| updateCyVisualProperty | 0.058 | 0.000 | 0.058 | |
| updateEdgeAttributes | 0.045 | 0.000 | 0.044 | |
| updateEdges | 0.023 | 0.000 | 0.022 | |
| updateMetaDataProperties | 0.018 | 0.000 | 0.018 | |
| updateNetworkAttributes | 0.039 | 0.012 | 0.051 | |
| updateNodeAttributes | 0.053 | 0.016 | 0.069 | |
| updateNodes | 0.013 | 0.004 | 0.017 | |
| validate | 0.247 | 0.004 | 0.250 | |
| visualize | 0.009 | 0.000 | 0.008 | |
| writeCX | 0 | 0 | 0 | |
| writeHTML | 0.064 | 0.015 | 0.089 | |