| Back to Multiple platform build/check report for BioC 3.17 |
|
This page was generated on 2023-04-12 10:55:40 -0400 (Wed, 12 Apr 2023).
| Hostname | OS | Arch (*) | R version | Installed pkgs |
|---|---|---|---|---|
| nebbiolo1 | Linux (Ubuntu 22.04.1 LTS) | x86_64 | 4.3.0 alpha (2023-04-03 r84154) | 4547 |
| nebbiolo2 | Linux (Ubuntu 20.04.5 LTS) | x86_64 | R Under development (unstable) (2023-02-14 r83833) -- "Unsuffered Consequences" | 4333 |
| Click on any hostname to see more info about the system (e.g. compilers) (*) as reported by 'uname -p', except on Windows and Mac OS X | ||||
|
To the developers/maintainers of the QuaternaryProd package: - Allow up to 24 hours (and sometimes 48 hours) for your latest push to git@git.bioconductor.org:packages/QuaternaryProd.git to reflect on this report. See Troubleshooting Build Report for more information. - Use the following Renviron settings to reproduce errors and warnings. Note: If "R CMD check" recently failed on the Linux builder over a missing dependency, add the missing dependency to "Suggests" in your DESCRIPTION file. See the Renviron.bioc for details. |
| Package 1597/2207 | Hostname | OS / Arch | INSTALL | BUILD | CHECK | BUILD BIN | ||||||||
| QuaternaryProd 1.33.0 (landing page) Carl Tony Fakhry
| nebbiolo1 | Linux (Ubuntu 22.04.1 LTS) / x86_64 | OK | OK | OK | |||||||||
| nebbiolo2 | Linux (Ubuntu 20.04.5 LTS) / x86_64 | OK | OK | OK | ||||||||||
| Package: QuaternaryProd |
| Version: 1.33.0 |
| Command: /home/biocbuild/bbs-3.17-bioc/R/bin/R CMD check --install=check:QuaternaryProd.install-out.txt --library=/home/biocbuild/bbs-3.17-bioc/R/site-library --timings QuaternaryProd_1.33.0.tar.gz |
| StartedAt: 2023-04-12 08:37:19 -0400 (Wed, 12 Apr 2023) |
| EndedAt: 2023-04-12 08:38:08 -0400 (Wed, 12 Apr 2023) |
| EllapsedTime: 49.1 seconds |
| RetCode: 0 |
| Status: OK |
| CheckDir: QuaternaryProd.Rcheck |
| Warnings: 0 |
##############################################################################
##############################################################################
###
### Running command:
###
### /home/biocbuild/bbs-3.17-bioc/R/bin/R CMD check --install=check:QuaternaryProd.install-out.txt --library=/home/biocbuild/bbs-3.17-bioc/R/site-library --timings QuaternaryProd_1.33.0.tar.gz
###
##############################################################################
##############################################################################
* using log directory ‘/home/biocbuild/bbs-3.17-bioc/meat/QuaternaryProd.Rcheck’
* using R Under development (unstable) (2023-02-14 r83833)
* using platform: x86_64-pc-linux-gnu (64-bit)
* R was compiled by
gcc (Ubuntu 9.4.0-1ubuntu1~20.04.1) 9.4.0
GNU Fortran (Ubuntu 9.4.0-1ubuntu1~20.04.1) 9.4.0
* running under: Ubuntu 20.04.6 LTS
* using session charset: UTF-8
* checking for file ‘QuaternaryProd/DESCRIPTION’ ... OK
* checking extension type ... Package
* this is package ‘QuaternaryProd’ version ‘1.33.0’
* package encoding: UTF-8
* checking package namespace information ... OK
* checking package dependencies ... OK
* checking if this is a source package ... OK
* checking if there is a namespace ... OK
* checking for hidden files and directories ... OK
* checking for portable file names ... OK
* checking for sufficient/correct file permissions ... OK
* checking whether package ‘QuaternaryProd’ can be installed ... OK
* used C++ compiler: ‘g++ (Ubuntu 9.4.0-1ubuntu1~20.04.1) 9.4.0’
* checking installed package size ... NOTE
installed size is 18.8Mb
sub-directories of 1Mb or more:
extdata 15.3Mb
libs 3.3Mb
* checking package directory ... OK
* checking ‘build’ directory ... OK
* checking DESCRIPTION meta-information ... OK
* checking top-level files ... OK
* checking for left-over files ... OK
* checking index information ... OK
* checking package subdirectories ... OK
* checking R files for non-ASCII characters ... OK
* checking R files for syntax errors ... OK
* checking whether the package can be loaded ... OK
* checking whether the package can be loaded with stated dependencies ... OK
* checking whether the package can be unloaded cleanly ... OK
* checking whether the namespace can be loaded with stated dependencies ... OK
* checking whether the namespace can be unloaded cleanly ... OK
* checking loading without being on the library search path ... OK
* checking dependencies in R code ... OK
* checking S3 generic/method consistency ... OK
* checking replacement functions ... OK
* checking foreign function calls ... OK
* checking R code for possible problems ... OK
* checking Rd files ... OK
* checking Rd metadata ... OK
* checking Rd cross-references ... OK
* checking for missing documentation entries ... OK
* checking for code/documentation mismatches ... OK
* checking Rd \usage sections ... OK
* checking Rd contents ... OK
* checking for unstated dependencies in examples ... OK
* checking line endings in C/C++/Fortran sources/headers ... OK
* checking compiled code ... NOTE
Note: information on .o files is not available
* checking files in ‘vignettes’ ... NOTE
The following files look like leftovers/mistakes:
‘QuaternaryProdVignette.out’
Please remove them from your package.
* checking examples ... OK
Examples with CPU (user + system) or elapsed time > 5s
user system elapsed
RunCRE_HSAStringDB 20.178 0.324 20.504
* checking for unstated dependencies in vignettes ... OK
* checking package vignettes in ‘inst/doc’ ... OK
* checking running R code from vignettes ...
‘QuaternaryProdVignette.Rmd’ using ‘UTF-8’... OK
NONE
* checking re-building of vignette outputs ... OK
* checking PDF version of manual ... OK
* DONE
Status: 3 NOTEs
See
‘/home/biocbuild/bbs-3.17-bioc/meat/QuaternaryProd.Rcheck/00check.log’
for details.
QuaternaryProd.Rcheck/00install.out
############################################################################## ############################################################################## ### ### Running command: ### ### /home/biocbuild/bbs-3.17-bioc/R/bin/R CMD INSTALL QuaternaryProd ### ############################################################################## ############################################################################## * installing to library ‘/home/biocbuild/bbs-3.17-bioc/R/site-library’ * installing *source* package ‘QuaternaryProd’ ... ** using staged installation ** libs using C++ compiler: ‘g++ (Ubuntu 9.4.0-1ubuntu1~20.04.1) 9.4.0’ g++ -std=gnu++17 -I"/home/biocbuild/bbs-3.17-bioc/R/include" -DNDEBUG -I'/home/biocbuild/bbs-3.17-bioc/R/site-library/Rcpp/include' -I/usr/local/include -fpic -g -O2 -Wall -c QuaternaryProd.cpp -o QuaternaryProd.o g++ -std=gnu++17 -I"/home/biocbuild/bbs-3.17-bioc/R/include" -DNDEBUG -I'/home/biocbuild/bbs-3.17-bioc/R/site-library/Rcpp/include' -I/usr/local/include -fpic -g -O2 -Wall -c QuaternaryProdUtils.cpp -o QuaternaryProdUtils.o g++ -std=gnu++17 -I"/home/biocbuild/bbs-3.17-bioc/R/include" -DNDEBUG -I'/home/biocbuild/bbs-3.17-bioc/R/site-library/Rcpp/include' -I/usr/local/include -fpic -g -O2 -Wall -c RcppExports.cpp -o RcppExports.o g++ -std=gnu++17 -shared -L/home/biocbuild/bbs-3.17-bioc/R/lib -L/usr/local/lib -o QuaternaryProd.so QuaternaryProd.o QuaternaryProdUtils.o RcppExports.o -L/home/biocbuild/bbs-3.17-bioc/R/lib -lR installing to /home/biocbuild/bbs-3.17-bioc/R/site-library/00LOCK-QuaternaryProd/00new/QuaternaryProd/libs ** R ** inst ** byte-compile and prepare package for lazy loading ** help *** installing help indices ** building package indices ** installing vignettes ** testing if installed package can be loaded from temporary location ** checking absolute paths in shared objects and dynamic libraries ** testing if installed package can be loaded from final location ** testing if installed package keeps a record of temporary installation path * DONE (QuaternaryProd)
QuaternaryProd.Rcheck/QuaternaryProd-Ex.timings
| name | user | system | elapsed | |
| QP_Pmf | 0.369 | 0.012 | 0.380 | |
| QP_Probability | 0.006 | 0.000 | 0.005 | |
| QP_Pvalue | 0.029 | 0.000 | 0.028 | |
| QP_SigPvalue | 0.028 | 0.000 | 0.027 | |
| QP_Support | 0.003 | 0.000 | 0.003 | |
| RunCRE_HSAStringDB | 20.178 | 0.324 | 20.504 | |