| Back to Multiple platform build/check report for BioC 3.17 |
|
This page was generated on 2023-04-12 10:55:28 -0400 (Wed, 12 Apr 2023).
| Hostname | OS | Arch (*) | R version | Installed pkgs |
|---|---|---|---|---|
| nebbiolo1 | Linux (Ubuntu 22.04.1 LTS) | x86_64 | 4.3.0 alpha (2023-04-03 r84154) | 4547 |
| nebbiolo2 | Linux (Ubuntu 20.04.5 LTS) | x86_64 | R Under development (unstable) (2023-02-14 r83833) -- "Unsuffered Consequences" | 4333 |
| Click on any hostname to see more info about the system (e.g. compilers) (*) as reported by 'uname -p', except on Windows and Mac OS X | ||||
|
To the developers/maintainers of the PhenStat package: - Allow up to 24 hours (and sometimes 48 hours) for your latest push to git@git.bioconductor.org:packages/PhenStat.git to reflect on this report. See Troubleshooting Build Report for more information. - Use the following Renviron settings to reproduce errors and warnings. Note: If "R CMD check" recently failed on the Linux builder over a missing dependency, add the missing dependency to "Suggests" in your DESCRIPTION file. See the Renviron.bioc for details. |
| Package 1495/2207 | Hostname | OS / Arch | INSTALL | BUILD | CHECK | BUILD BIN | ||||||||
| PhenStat 2.35.0 (landing page) Hamed Haselimashhadi
| nebbiolo1 | Linux (Ubuntu 22.04.1 LTS) / x86_64 | OK | OK | OK | |||||||||
| nebbiolo2 | Linux (Ubuntu 20.04.5 LTS) / x86_64 | OK | OK | OK | ||||||||||
| Package: PhenStat |
| Version: 2.35.0 |
| Command: /home/biocbuild/bbs-3.17-bioc/R/bin/R CMD check --install=check:PhenStat.install-out.txt --library=/home/biocbuild/bbs-3.17-bioc/R/site-library --timings PhenStat_2.35.0.tar.gz |
| StartedAt: 2023-04-11 22:27:56 -0400 (Tue, 11 Apr 2023) |
| EndedAt: 2023-04-11 22:31:54 -0400 (Tue, 11 Apr 2023) |
| EllapsedTime: 238.0 seconds |
| RetCode: 0 |
| Status: OK |
| CheckDir: PhenStat.Rcheck |
| Warnings: 0 |
##############################################################################
##############################################################################
###
### Running command:
###
### /home/biocbuild/bbs-3.17-bioc/R/bin/R CMD check --install=check:PhenStat.install-out.txt --library=/home/biocbuild/bbs-3.17-bioc/R/site-library --timings PhenStat_2.35.0.tar.gz
###
##############################################################################
##############################################################################
* using log directory ‘/home/biocbuild/bbs-3.17-bioc/meat/PhenStat.Rcheck’
* using R version 4.3.0 alpha (2023-04-03 r84154)
* using platform: x86_64-pc-linux-gnu (64-bit)
* R was compiled by
gcc (Ubuntu 11.3.0-1ubuntu1~22.04) 11.3.0
GNU Fortran (Ubuntu 11.3.0-1ubuntu1~22.04) 11.3.0
* running under: Ubuntu 22.04.2 LTS
* using session charset: UTF-8
* checking for file ‘PhenStat/DESCRIPTION’ ... OK
* checking extension type ... Package
* this is package ‘PhenStat’ version ‘2.35.0’
* checking package namespace information ... OK
* checking package dependencies ... OK
* checking if this is a source package ... OK
* checking if there is a namespace ... OK
* checking for hidden files and directories ... OK
* checking for portable file names ... OK
* checking for sufficient/correct file permissions ... OK
* checking whether package ‘PhenStat’ can be installed ... OK
* checking installed package size ... OK
* checking package directory ... OK
* checking ‘build’ directory ... OK
* checking DESCRIPTION meta-information ... OK
* checking top-level files ... OK
* checking for left-over files ... OK
* checking index information ... OK
* checking package subdirectories ... OK
* checking R files for non-ASCII characters ... OK
* checking R files for syntax errors ... OK
* checking whether the package can be loaded ... OK
* checking whether the package can be loaded with stated dependencies ... OK
* checking whether the package can be unloaded cleanly ... OK
* checking whether the namespace can be loaded with stated dependencies ... OK
* checking whether the namespace can be unloaded cleanly ... OK
* checking loading without being on the library search path ... OK
* checking startup messages can be suppressed ... OK
* checking dependencies in R code ... NOTE
Namespace in Imports field not imported from: ‘SmoothWin’
All declared Imports should be used.
* checking S3 generic/method consistency ... OK
* checking replacement functions ... OK
* checking foreign function calls ... OK
* checking R code for possible problems ... OK
* checking Rd files ... OK
* checking Rd metadata ... OK
* checking Rd cross-references ... OK
* checking for missing documentation entries ... OK
* checking for code/documentation mismatches ... OK
* checking Rd \usage sections ... OK
* checking Rd contents ... OK
* checking for unstated dependencies in examples ... OK
* checking installed files from ‘inst/doc’ ... OK
* checking files in ‘vignettes’ ... OK
* checking examples ... OK
Examples with CPU (user + system) or elapsed time > 5s
user system elapsed
qqplotRotatedResiduals 8.248 0.092 10.42
* checking for unstated dependencies in ‘tests’ ... OK
* checking tests ...
Running ‘runTests.R’
OK
* checking for unstated dependencies in vignettes ... OK
* checking package vignettes in ‘inst/doc’ ... OK
* checking running R code from vignettes ...
‘PhenStat.Rnw’... OK
OK
* checking re-building of vignette outputs ... OK
* checking PDF version of manual ... OK
* DONE
Status: 1 NOTE
See
‘/home/biocbuild/bbs-3.17-bioc/meat/PhenStat.Rcheck/00check.log’
for details.
PhenStat.Rcheck/00install.out
############################################################################## ############################################################################## ### ### Running command: ### ### /home/biocbuild/bbs-3.17-bioc/R/bin/R CMD INSTALL PhenStat ### ############################################################################## ############################################################################## * installing to library ‘/home/biocbuild/bbs-3.17-bioc/R/site-library’ * installing *source* package ‘PhenStat’ ... ** using staged installation ** R ** inst ** byte-compile and prepare package for lazy loading ** help *** installing help indices ** building package indices ** installing vignettes ** testing if installed package can be loaded from temporary location ** testing if installed package can be loaded from final location ** testing if installed package keeps a record of temporary installation path * DONE (PhenStat)
PhenStat.Rcheck/tests/runTests.Rout
R version 4.3.0 alpha (2023-04-03 r84154)
Copyright (C) 2023 The R Foundation for Statistical Computing
Platform: x86_64-pc-linux-gnu (64-bit)
R is free software and comes with ABSOLUTELY NO WARRANTY.
You are welcome to redistribute it under certain conditions.
Type 'license()' or 'licence()' for distribution details.
R is a collaborative project with many contributors.
Type 'contributors()' for more information and
'citation()' on how to cite R or R packages in publications.
Type 'demo()' for some demos, 'help()' for on-line help, or
'help.start()' for an HTML browser interface to help.
Type 'q()' to quit R.
> BiocGenerics:::testPackage("PhenStat")
>=========================================================================<
This version of PhenStat includes *FEWER* functions than the previous ones
You *still* can use the previous functions by using `:::`. For example :
PhenStat:::boxplotSexGenotype or PhenStat:::FisherExactTest
*** Want to know what is new in this version? run PhenStat:::WhatIsNew()
>=========================================================================<
RUNIT TEST PROTOCOL -- Tue Apr 11 22:31:16 2023
***********************************************
Number of test functions: 0
Number of errors: 0
Number of failures: 0
1 Test Suite :
PhenStat RUnit Tests - 0 test functions, 0 errors, 0 failures
Number of test functions: 0
Number of errors: 0
Number of failures: 0
>
> proc.time()
user system elapsed
6.942 0.598 9.491
PhenStat.Rcheck/PhenStat-Ex.timings
| name | user | system | elapsed | |
| FisherExactTest | 0.288 | 0.016 | 0.305 | |
| JSONOutput | 1.528 | 0.045 | 1.573 | |
| LRDataset | 0.084 | 0.000 | 0.085 | |
| PhenList-class | 0.323 | 0.000 | 0.324 | |
| PhenList | 0.225 | 0.008 | 0.232 | |
| PhenStatReport | 0.043 | 0.000 | 0.044 | |
| PhenTestResult-class | 0.750 | 0.036 | 0.788 | |
| PhenTestResult | 0.610 | 0.008 | 0.617 | |
| RRTest | 0.096 | 0.000 | 0.097 | |
| TFDataset | 0.273 | 0.016 | 0.288 | |
| analysedDataset | 0.703 | 0.024 | 0.727 | |
| analysisResults | 0.712 | 0.016 | 0.728 | |
| boxplotResidualBatch | 0.728 | 0.008 | 0.737 | |
| boxplotSexGenotype | 0.070 | 0.000 | 0.071 | |
| boxplotSexGenotypeBatch | 0.136 | 0.000 | 0.137 | |
| boxplotSexGenotypeBatchAdjusted | 0.070 | 0.000 | 0.071 | |
| boxplotSexGenotypeResult | 0.912 | 0.012 | 0.923 | |
| boxplotSexGenotypeWeightBatchAdjusted | 0.067 | 0.004 | 0.071 | |
| categoricalBarplot | 0.148 | 0.000 | 0.149 | |
| checkDataset | 0.040 | 0.000 | 0.039 | |
| classificationTag | 1.030 | 0.052 | 1.082 | |
| determiningLambda | 0.897 | 0.036 | 0.933 | |
| dim | 0.030 | 0.004 | 0.034 | |
| finalLRModel | 0.458 | 0.020 | 0.478 | |
| finalModel | 0.529 | 0.008 | 0.537 | |
| finalTFModel | 0.385 | 0.004 | 0.389 | |
| htestPhenStat-class | 0.117 | 0.004 | 0.121 | |
| modelFormula | 0.000 | 0.001 | 0.000 | |
| modelFormulaLR | 0.000 | 0.001 | 0.000 | |
| parserOutputSummary | 0.626 | 0.006 | 0.633 | |
| parserOutputSummaryLR | 0.411 | 0.004 | 0.416 | |
| parserOutputTFSummary | 0.087 | 0.000 | 0.087 | |
| performReverseTransformation | 0 | 0 | 0 | |
| performTransformation | 0.001 | 0.000 | 0.000 | |
| plot.PhenList | 2.162 | 0.024 | 2.186 | |
| plot.PhenTestResult | 2.778 | 0.084 | 3.183 | |
| plotResidualPredicted | 1.257 | 0.012 | 1.270 | |
| printLROutput | 0.752 | 0.000 | 0.752 | |
| printTabStyle | 0.001 | 0.000 | 0.001 | |
| qqplotGenotype | 1.149 | 0.015 | 1.165 | |
| qqplotRandomEffects | 1.095 | 0.004 | 1.098 | |
| qqplotRotatedResiduals | 8.248 | 0.092 | 10.420 | |
| recommendMethod | 0.392 | 0.004 | 0.554 | |
| scatterplotGenotypeWeight | 0.251 | 0.012 | 0.318 | |
| scatterplotGenotypeWeightResult | 1.600 | 0.020 | 1.621 | |
| scatterplotSexGenotypeBatch | 0.171 | 0.004 | 0.175 | |
| scatterplotSexGenotypeBatchResult | 1.586 | 0.020 | 1.607 | |
| startLRModel | 0.771 | 0.032 | 0.803 | |
| startModel | 0.687 | 0.000 | 0.687 | |
| startTFModel | 0.430 | 0.016 | 0.445 | |
| summaryOutput | 0.786 | 0.004 | 0.791 | |
| summaryPhenListResult | 0.754 | 0.004 | 0.758 | |
| testDataset | 3.019 | 0.032 | 3.121 | |
| testFinalLRModel | 0.777 | 0.000 | 0.780 | |
| testFinalModel | 1.377 | 0.007 | 1.384 | |
| vectorOutput | 1.932 | 0.016 | 1.951 | |
| vectorOutputMatrices | 0.198 | 0.000 | 0.198 | |