| Back to Multiple platform build/check report for BioC 3.17 |
|
This page was generated on 2023-04-12 10:55:40 -0400 (Wed, 12 Apr 2023).
| Hostname | OS | Arch (*) | R version | Installed pkgs |
|---|---|---|---|---|
| nebbiolo1 | Linux (Ubuntu 22.04.1 LTS) | x86_64 | 4.3.0 alpha (2023-04-03 r84154) | 4547 |
| nebbiolo2 | Linux (Ubuntu 20.04.5 LTS) | x86_64 | R Under development (unstable) (2023-02-14 r83833) -- "Unsuffered Consequences" | 4333 |
| Click on any hostname to see more info about the system (e.g. compilers) (*) as reported by 'uname -p', except on Windows and Mac OS X | ||||
|
To the developers/maintainers of the PWMEnrich package: - Allow up to 24 hours (and sometimes 48 hours) for your latest push to git@git.bioconductor.org:packages/PWMEnrich.git to reflect on this report. See Troubleshooting Build Report for more information. - Use the following Renviron settings to reproduce errors and warnings. Note: If "R CMD check" recently failed on the Linux builder over a missing dependency, add the missing dependency to "Suggests" in your DESCRIPTION file. See the Renviron.bioc for details. |
| Package 1575/2207 | Hostname | OS / Arch | INSTALL | BUILD | CHECK | BUILD BIN | ||||||||
| PWMEnrich 4.35.0 (landing page) Diego Diez
| nebbiolo1 | Linux (Ubuntu 22.04.1 LTS) / x86_64 | OK | OK | OK | |||||||||
| nebbiolo2 | Linux (Ubuntu 20.04.5 LTS) / x86_64 | OK | OK | OK | ||||||||||
| Package: PWMEnrich |
| Version: 4.35.0 |
| Command: /home/biocbuild/bbs-3.17-bioc/R/bin/R CMD check --install=check:PWMEnrich.install-out.txt --library=/home/biocbuild/bbs-3.17-bioc/R/site-library --timings PWMEnrich_4.35.0.tar.gz |
| StartedAt: 2023-04-12 08:34:06 -0400 (Wed, 12 Apr 2023) |
| EndedAt: 2023-04-12 08:36:56 -0400 (Wed, 12 Apr 2023) |
| EllapsedTime: 170.4 seconds |
| RetCode: 0 |
| Status: OK |
| CheckDir: PWMEnrich.Rcheck |
| Warnings: 0 |
##############################################################################
##############################################################################
###
### Running command:
###
### /home/biocbuild/bbs-3.17-bioc/R/bin/R CMD check --install=check:PWMEnrich.install-out.txt --library=/home/biocbuild/bbs-3.17-bioc/R/site-library --timings PWMEnrich_4.35.0.tar.gz
###
##############################################################################
##############################################################################
* using log directory ‘/home/biocbuild/bbs-3.17-bioc/meat/PWMEnrich.Rcheck’
* using R Under development (unstable) (2023-02-14 r83833)
* using platform: x86_64-pc-linux-gnu (64-bit)
* R was compiled by
gcc (Ubuntu 9.4.0-1ubuntu1~20.04.1) 9.4.0
GNU Fortran (Ubuntu 9.4.0-1ubuntu1~20.04.1) 9.4.0
* running under: Ubuntu 20.04.6 LTS
* using session charset: UTF-8
* checking for file ‘PWMEnrich/DESCRIPTION’ ... OK
* checking extension type ... Package
* this is package ‘PWMEnrich’ version ‘4.35.0’
* package encoding: UTF-8
* checking package namespace information ... OK
* checking package dependencies ... OK
* checking if this is a source package ... OK
* checking if there is a namespace ... OK
* checking for hidden files and directories ... OK
* checking for portable file names ... OK
* checking for sufficient/correct file permissions ... OK
* checking whether package ‘PWMEnrich’ can be installed ... OK
* checking installed package size ... OK
* checking package directory ... OK
* checking ‘build’ directory ... OK
* checking DESCRIPTION meta-information ... OK
* checking top-level files ... OK
* checking for left-over files ... OK
* checking index information ... OK
* checking package subdirectories ... OK
* checking R files for non-ASCII characters ... OK
* checking R files for syntax errors ... OK
* checking whether the package can be loaded ... OK
* checking whether the package can be loaded with stated dependencies ... OK
* checking whether the package can be unloaded cleanly ... OK
* checking whether the namespace can be loaded with stated dependencies ... OK
* checking whether the namespace can be unloaded cleanly ... OK
* checking loading without being on the library search path ... OK
* checking dependencies in R code ... OK
* checking S3 generic/method consistency ... OK
* checking replacement functions ... OK
* checking foreign function calls ... OK
* checking R code for possible problems ... OK
* checking Rd files ... OK
* checking Rd metadata ... OK
* checking Rd cross-references ... OK
* checking for missing documentation entries ... OK
* checking for code/documentation mismatches ... OK
* checking Rd \usage sections ... OK
* checking Rd contents ... OK
* checking for unstated dependencies in examples ... OK
* checking files in ‘vignettes’ ... OK
* checking examples ... OK
* checking for unstated dependencies in ‘tests’ ... OK
* checking tests ...
Running ‘test-all.R’
OK
* checking for unstated dependencies in vignettes ... OK
* checking package vignettes in ‘inst/doc’ ... OK
* checking running R code from vignettes ...
‘PWMEnrich.Rnw’ using ‘UTF-8’... OK
NONE
* checking re-building of vignette outputs ... OK
* checking PDF version of manual ... OK
* DONE
Status: OK
PWMEnrich.Rcheck/00install.out
############################################################################## ############################################################################## ### ### Running command: ### ### /home/biocbuild/bbs-3.17-bioc/R/bin/R CMD INSTALL PWMEnrich ### ############################################################################## ############################################################################## * installing to library ‘/home/biocbuild/bbs-3.17-bioc/R/site-library’ * installing *source* package ‘PWMEnrich’ ... ** using staged installation ** R ** inst ** byte-compile and prepare package for lazy loading ** help *** installing help indices ** building package indices ** installing vignettes ** testing if installed package can be loaded from temporary location ** testing if installed package can be loaded from final location ** testing if installed package keeps a record of temporary installation path * DONE (PWMEnrich)
PWMEnrich.Rcheck/tests/test-all.Rout
R Under development (unstable) (2023-02-14 r83833) -- "Unsuffered Consequences"
Copyright (C) 2023 The R Foundation for Statistical Computing
Platform: x86_64-pc-linux-gnu (64-bit)
R is free software and comes with ABSOLUTELY NO WARRANTY.
You are welcome to redistribute it under certain conditions.
Type 'license()' or 'licence()' for distribution details.
R is a collaborative project with many contributors.
Type 'contributors()' for more information and
'citation()' on how to cite R or R packages in publications.
Type 'demo()' for some demos, 'help()' for on-line help, or
'help.start()' for an HTML browser interface to help.
Type 'q()' to quit R.
> library(testthat)
> library(PWMEnrich)
Loading required package: BiocGenerics
Attaching package: 'BiocGenerics'
The following objects are masked from 'package:stats':
IQR, mad, sd, var, xtabs
The following objects are masked from 'package:base':
Filter, Find, Map, Position, Reduce, anyDuplicated, aperm, append,
as.data.frame, basename, cbind, colnames, dirname, do.call,
duplicated, eval, evalq, get, grep, grepl, intersect, is.unsorted,
lapply, mapply, match, mget, order, paste, pmax, pmax.int, pmin,
pmin.int, rank, rbind, rownames, sapply, setdiff, sort, table,
tapply, union, unique, unsplit, which.max, which.min
Loading required package: Biostrings
Loading required package: S4Vectors
Loading required package: stats4
Attaching package: 'S4Vectors'
The following objects are masked from 'package:base':
I, expand.grid, unname
Loading required package: IRanges
Loading required package: XVector
Loading required package: GenomeInfoDb
Attaching package: 'Biostrings'
The following object is masked from 'package:base':
strsplit
>
> test_package("PWMEnrich")
No installed testthat tests found for PWMEnrich
>
>
> proc.time()
user system elapsed
3.293 0.203 3.483
PWMEnrich.Rcheck/PWMEnrich-Ex.timings
| name | user | system | elapsed | |
| PFMtoPWM | 0 | 0 | 0 | |
| PWMUnscaled | 0.720 | 0.045 | 0.767 | |
| getBackgroundFrequencies | 0 | 0 | 0 | |
| groupReport-MotifEnrichmentResults-method | 2.275 | 0.072 | 2.347 | |
| makeBackground | 0.003 | 0.000 | 0.003 | |
| makePWMCutoffBackground | 0 | 0 | 0 | |
| makePWMEmpiricalBackground | 0.001 | 0.000 | 0.000 | |
| makePWMGEVBackground | 0 | 0 | 0 | |
| makePWMLognBackground | 0 | 0 | 0 | |
| makePWMPvalCutoffBackground | 0.000 | 0.000 | 0.001 | |
| makePWMPvalCutoffBackgroundFromSeq | 0 | 0 | 0 | |
| makePriors | 0.001 | 0.000 | 0.001 | |
| motifDiffEnrichment | 1.973 | 0.008 | 1.981 | |
| motifEnrichment | 2.864 | 0.008 | 2.872 | |
| motifIC | 0.050 | 0.000 | 0.049 | |
| motifRankingForGroup-MotifEnrichmentResults-method | 1.489 | 0.012 | 1.500 | |
| motifRankingForSequence-MotifEnrichmentResults-method | 1.579 | 0.004 | 1.583 | |
| motifScores | 3.367 | 0.016 | 3.384 | |
| motifSimilarity | 0.038 | 0.000 | 0.038 | |
| plot-PWM-missing-method | 0.173 | 0.004 | 0.177 | |
| plotMotifScores | 0.07 | 0.00 | 0.07 | |
| plotTopMotifsGroup-MotifEnrichmentResults-method | 1.798 | 0.008 | 1.806 | |
| plotTopMotifsSequence-MotifEnrichmentResults-method | 1.836 | 0.012 | 1.849 | |
| readMotifs | 0.063 | 0.008 | 0.071 | |
| registerCoresPWMEnrich | 0 | 0 | 0 | |
| reverseComplement-PWM-method | 0.013 | 0.000 | 0.013 | |
| scanWithPWM | 0.038 | 0.008 | 0.047 | |
| sequenceReport-MotifEnrichmentResults-method | 2.497 | 0.016 | 2.513 | |
| toPWM | 0 | 0 | 0 | |
| useBigMemoryPWMEnrich | 0.000 | 0.000 | 0.001 | |