| Back to Multiple platform build/check report for BioC 3.17 |
|
This page was generated on 2023-04-12 10:55:40 -0400 (Wed, 12 Apr 2023).
| Hostname | OS | Arch (*) | R version | Installed pkgs |
|---|---|---|---|---|
| nebbiolo1 | Linux (Ubuntu 22.04.1 LTS) | x86_64 | 4.3.0 alpha (2023-04-03 r84154) | 4547 |
| nebbiolo2 | Linux (Ubuntu 20.04.5 LTS) | x86_64 | R Under development (unstable) (2023-02-14 r83833) -- "Unsuffered Consequences" | 4333 |
| Click on any hostname to see more info about the system (e.g. compilers) (*) as reported by 'uname -p', except on Windows and Mac OS X | ||||
|
To the developers/maintainers of the PING package: - Allow up to 24 hours (and sometimes 48 hours) for your latest push to git@git.bioconductor.org:packages/PING.git to reflect on this report. See Troubleshooting Build Report for more information. - Use the following Renviron settings to reproduce errors and warnings. Note: If "R CMD check" recently failed on the Linux builder over a missing dependency, add the missing dependency to "Suggests" in your DESCRIPTION file. See the Renviron.bioc for details. |
| Package 1507/2207 | Hostname | OS / Arch | INSTALL | BUILD | CHECK | BUILD BIN | ||||||||
| PING 2.43.0 (landing page) Renan Sauteraud
| nebbiolo1 | Linux (Ubuntu 22.04.1 LTS) / x86_64 | OK | OK | WARNINGS | |||||||||
| nebbiolo2 | Linux (Ubuntu 20.04.5 LTS) / x86_64 | OK | OK | WARNINGS | ||||||||||
| Package: PING |
| Version: 2.43.0 |
| Command: /home/biocbuild/bbs-3.17-bioc/R/bin/R CMD INSTALL PING |
| StartedAt: 2023-04-12 02:04:20 -0400 (Wed, 12 Apr 2023) |
| EndedAt: 2023-04-12 02:05:47 -0400 (Wed, 12 Apr 2023) |
| EllapsedTime: 87.5 seconds |
| RetCode: 0 |
| Status: OK |
##############################################################################
##############################################################################
###
### Running command:
###
### /home/biocbuild/bbs-3.17-bioc/R/bin/R CMD INSTALL PING
###
##############################################################################
##############################################################################
* installing to library ‘/home/biocbuild/bbs-3.17-bioc/R/site-library’
* installing *source* package ‘PING’ ...
** using staged installation
checking for pkg-config... /usr/bin/pkg-config
checking pkg-config is at least version 0.9.0... yes
checking for GSL... yes
configure: creating ./config.status
config.status: creating src/Makevars
** libs
using C compiler: ‘gcc (Ubuntu 9.4.0-1ubuntu1~20.04.1) 9.4.0’
gcc -I"/home/biocbuild/bbs-3.17-bioc/R/include" -DNDEBUG -I/usr/local/include -fpic -g -O2 -Wall -c init.c -o init.o
gcc -I"/home/biocbuild/bbs-3.17-bioc/R/include" -DNDEBUG -I/usr/local/include -fpic -g -O2 -Wall -c ping.c -o ping.o
ping.c: In function ‘fitModelAllk’:
ping.c:145:40: warning: suggest parentheses around comparison in operand of ‘&’ [-Wparentheses]
145 | if( REAL(VECTOR_ELT(paraPrior, 5))[0]>0 & REAL(VECTOR_ELT(paraEM, 0))[0]==0) // automatically decide minK and maxKK for histone data, when minK=0
| ~~~~~~~~~~~~~~~~~~~~~~~~~~~~~~~~~^~
ping.c: In function ‘ECM2’:
ping.c:1536:9: warning: variable ‘chiSum’ set but not used [-Wunused-but-set-variable]
1536 | double chiSum = 0, etaF, etaR, dd, cc;
| ^~~~~~
ping.c: In function ‘mergePeak’:
ping.c:3280:20: warning: variable ‘tstatMax’ set but not used [-Wunused-but-set-variable]
3280 | double tstat=0.0,tstatMax=0.0;
| ^~~~~~~~
ping.c: In function ‘fitModelK’:
ping.c:477:18: warning: ‘firstFit’ may be used uninitialized in this function [-Wmaybe-uninitialized]
477 | SEXP ans, temp, firstFit;
| ^~~~~~~~
gcc -shared -L/home/biocbuild/bbs-3.17-bioc/R/lib -L/usr/local/lib -o PING.so init.o ping.o -lgsl -lgslcblas -lm -L/home/biocbuild/bbs-3.17-bioc/R/lib -lR
installing to /home/biocbuild/bbs-3.17-bioc/R/site-library/00LOCK-PING/00new/PING/libs
** R
** inst
** byte-compile and prepare package for lazy loading
** help
*** installing help indices
** building package indices
** installing vignettes
** testing if installed package can be loaded from temporary location
** checking absolute paths in shared objects and dynamic libraries
** testing if installed package can be loaded from final location
** testing if installed package keeps a record of temporary installation path
* DONE (PING)