| Back to Multiple platform build/check report for BioC 3.17 | 
 | 
This page was generated on 2023-04-12 10:55:39 -0400 (Wed, 12 Apr 2023).
| Hostname | OS | Arch (*) | R version | Installed pkgs | 
|---|---|---|---|---|
| nebbiolo1 | Linux (Ubuntu 22.04.1 LTS) | x86_64 | 4.3.0 alpha (2023-04-03 r84154) | 4547 | 
| nebbiolo2 | Linux (Ubuntu 20.04.5 LTS) | x86_64 | R Under development (unstable) (2023-02-14 r83833) -- "Unsuffered Consequences" | 4333 | 
| Click on any hostname to see more info about the system (e.g. compilers) (*) as reported by 'uname -p', except on Windows and Mac OS X | ||||
| To the developers/maintainers of the OpenStats package: - Allow up to 24 hours (and sometimes 48 hours) for your latest push to git@git.bioconductor.org:packages/OpenStats.git to reflect on this report. See Troubleshooting Build Report for more information. - Use the following Renviron settings to reproduce errors and warnings. Note: If "R CMD check" recently failed on the Linux builder over a missing dependency, add the missing dependency to "Suggests" in your DESCRIPTION file. See the Renviron.bioc for details. | 
| Package 1425/2207 | Hostname | OS / Arch | INSTALL | BUILD | CHECK | BUILD BIN | ||||||||
| OpenStats 1.11.0  (landing page) Hamed Haseli Mashhadi 
 | nebbiolo1 | Linux (Ubuntu 22.04.1 LTS) / x86_64 | OK | OK | OK | |||||||||
| nebbiolo2 | Linux (Ubuntu 20.04.5 LTS) / x86_64 | OK | OK | OK | ||||||||||
| Package: OpenStats | 
| Version: 1.11.0 | 
| Command: /home/biocbuild/bbs-3.17-bioc/R/bin/R CMD check --install=check:OpenStats.install-out.txt --library=/home/biocbuild/bbs-3.17-bioc/R/site-library --timings OpenStats_1.11.0.tar.gz | 
| StartedAt: 2023-04-12 08:01:50 -0400 (Wed, 12 Apr 2023) | 
| EndedAt: 2023-04-12 08:03:54 -0400 (Wed, 12 Apr 2023) | 
| EllapsedTime: 124.3 seconds | 
| RetCode: 0 | 
| Status: OK | 
| CheckDir: OpenStats.Rcheck | 
| Warnings: 0 | 
##############################################################################
##############################################################################
###
### Running command:
###
###   /home/biocbuild/bbs-3.17-bioc/R/bin/R CMD check --install=check:OpenStats.install-out.txt --library=/home/biocbuild/bbs-3.17-bioc/R/site-library --timings OpenStats_1.11.0.tar.gz
###
##############################################################################
##############################################################################
* using log directory ‘/home/biocbuild/bbs-3.17-bioc/meat/OpenStats.Rcheck’
* using R Under development (unstable) (2023-02-14 r83833)
* using platform: x86_64-pc-linux-gnu (64-bit)
* R was compiled by
    gcc (Ubuntu 9.4.0-1ubuntu1~20.04.1) 9.4.0
    GNU Fortran (Ubuntu 9.4.0-1ubuntu1~20.04.1) 9.4.0
* running under: Ubuntu 20.04.6 LTS
* using session charset: UTF-8
* checking for file ‘OpenStats/DESCRIPTION’ ... OK
* checking extension type ... Package
* this is package ‘OpenStats’ version ‘1.11.0’
* package encoding: UTF-8
* checking package namespace information ... OK
* checking package dependencies ... OK
* checking if this is a source package ... OK
* checking if there is a namespace ... OK
* checking for hidden files and directories ... OK
* checking for portable file names ... OK
* checking for sufficient/correct file permissions ... OK
* checking whether package ‘OpenStats’ can be installed ... OK
* checking installed package size ... OK
* checking package directory ... OK
* checking ‘build’ directory ... OK
* checking DESCRIPTION meta-information ... OK
* checking top-level files ... OK
* checking for left-over files ... OK
* checking index information ... OK
* checking package subdirectories ... OK
* checking R files for non-ASCII characters ... OK
* checking R files for syntax errors ... OK
* checking whether the package can be loaded ... OK
* checking whether the package can be loaded with stated dependencies ... OK
* checking whether the package can be unloaded cleanly ... OK
* checking whether the namespace can be loaded with stated dependencies ... OK
* checking whether the namespace can be unloaded cleanly ... OK
* checking loading without being on the library search path ... OK
* checking dependencies in R code ... OK
* checking S3 generic/method consistency ... OK
* checking replacement functions ... OK
* checking foreign function calls ... OK
* checking R code for possible problems ... OK
* checking Rd files ... NOTE
checkRd: (-1) OpenStatsAnalysis.Rd:108: Escaped LaTeX specials: \& \& \& \& \&
* checking Rd metadata ... OK
* checking Rd cross-references ... OK
* checking for missing documentation entries ... OK
* checking for code/documentation mismatches ... OK
* checking Rd \usage sections ... OK
* checking Rd contents ... OK
* checking for unstated dependencies in examples ... OK
* checking files in ‘vignettes’ ... OK
* checking examples ... OK
* checking for unstated dependencies in vignettes ... OK
* checking package vignettes in ‘inst/doc’ ... OK
* checking running R code from vignettes ...
  ‘OpenStats.Rmd’ using ‘UTF-8’... OK
 NONE
* checking re-building of vignette outputs ... OK
* checking PDF version of manual ... OK
* DONE
Status: 1 NOTE
See
  ‘/home/biocbuild/bbs-3.17-bioc/meat/OpenStats.Rcheck/00check.log’
for details.
OpenStats.Rcheck/00install.out
############################################################################## ############################################################################## ### ### Running command: ### ### /home/biocbuild/bbs-3.17-bioc/R/bin/R CMD INSTALL OpenStats ### ############################################################################## ############################################################################## * installing to library ‘/home/biocbuild/bbs-3.17-bioc/R/site-library’ * installing *source* package ‘OpenStats’ ... ** using staged installation ** R ** inst ** byte-compile and prepare package for lazy loading ** help *** installing help indices ** building package indices ** installing vignettes ** testing if installed package can be loaded from temporary location ** testing if installed package can be loaded from final location ** testing if installed package keeps a record of temporary installation path * DONE (OpenStats)
OpenStats.Rcheck/OpenStats-Ex.timings
| name | user | system | elapsed | |
| OpenStatsAnalysis | 1.945 | 0.052 | 1.998 | |
| OpenStatsBuilder | 0 | 0 | 0 | |
| OpenStatsComplementarySplit | 1.540 | 0.056 | 1.595 | |
| OpenStatsList | 1.119 | 0.136 | 1.300 | |
| OpenStatsReport | 2.397 | 0.072 | 2.468 | |
| plot.OpenStats | 0.517 | 0.052 | 0.589 | |
| plot.OpenStatsComplementarySplit | 2.246 | 0.056 | 2.303 | |
| plot.OpenStatsFE | 0.094 | 0.008 | 0.101 | |
| plot.OpenStatsMM | 0.586 | 0.004 | 0.590 | |
| plot.OpenStatsRR | 0.308 | 0.024 | 0.332 | |
| print.OpenStats | 0.605 | 0.029 | 0.647 | |
| print.OpenStatsComplementarySplit | 1.904 | 0.059 | 1.965 | |
| print.OpenStatsFE | 0.078 | 0.008 | 0.087 | |
| print.OpenStatsMM | 0.555 | 0.044 | 0.600 | |
| print.OpenStatsRR | 0.270 | 0.000 | 0.271 | |
| summary.OpenStats | 0.463 | 0.023 | 0.504 | |
| summary.OpenStatsComplementarySplit | 1.876 | 0.145 | 2.020 | |
| summary.OpenStatsFE | 0.064 | 0.004 | 0.068 | |
| summary.OpenStatsMM | 0.538 | 0.028 | 0.566 | |
| summary.OpenStatsRR | 0.238 | 0.012 | 0.250 | |