| Back to Multiple platform build/check report for BioC 3.17 |
|
This page was generated on 2023-04-12 10:55:27 -0400 (Wed, 12 Apr 2023).
| Hostname | OS | Arch (*) | R version | Installed pkgs |
|---|---|---|---|---|
| nebbiolo1 | Linux (Ubuntu 22.04.1 LTS) | x86_64 | 4.3.0 alpha (2023-04-03 r84154) | 4547 |
| nebbiolo2 | Linux (Ubuntu 20.04.5 LTS) | x86_64 | R Under development (unstable) (2023-02-14 r83833) -- "Unsuffered Consequences" | 4333 |
| Click on any hostname to see more info about the system (e.g. compilers) (*) as reported by 'uname -p', except on Windows and Mac OS X | ||||
|
To the developers/maintainers of the MicrobiotaProcess package: - Allow up to 24 hours (and sometimes 48 hours) for your latest push to git@git.bioconductor.org:packages/MicrobiotaProcess.git to reflect on this report. See Troubleshooting Build Report for more information. - Use the following Renviron settings to reproduce errors and warnings. Note: If "R CMD check" recently failed on the Linux builder over a missing dependency, add the missing dependency to "Suggests" in your DESCRIPTION file. See the Renviron.bioc for details. |
| Package 1214/2207 | Hostname | OS / Arch | INSTALL | BUILD | CHECK | BUILD BIN | ||||||||
| MicrobiotaProcess 1.11.4 (landing page) Shuangbin Xu
| nebbiolo1 | Linux (Ubuntu 22.04.1 LTS) / x86_64 | OK | OK | OK | |||||||||
| nebbiolo2 | Linux (Ubuntu 20.04.5 LTS) / x86_64 | OK | OK | OK | ||||||||||
| Package: MicrobiotaProcess |
| Version: 1.11.4 |
| Command: /home/biocbuild/bbs-3.17-bioc/R/bin/R CMD check --install=check:MicrobiotaProcess.install-out.txt --library=/home/biocbuild/bbs-3.17-bioc/R/site-library --timings MicrobiotaProcess_1.11.4.tar.gz |
| StartedAt: 2023-04-11 21:33:31 -0400 (Tue, 11 Apr 2023) |
| EndedAt: 2023-04-11 21:40:43 -0400 (Tue, 11 Apr 2023) |
| EllapsedTime: 432.6 seconds |
| RetCode: 0 |
| Status: OK |
| CheckDir: MicrobiotaProcess.Rcheck |
| Warnings: 0 |
##############################################################################
##############################################################################
###
### Running command:
###
### /home/biocbuild/bbs-3.17-bioc/R/bin/R CMD check --install=check:MicrobiotaProcess.install-out.txt --library=/home/biocbuild/bbs-3.17-bioc/R/site-library --timings MicrobiotaProcess_1.11.4.tar.gz
###
##############################################################################
##############################################################################
* using log directory ‘/home/biocbuild/bbs-3.17-bioc/meat/MicrobiotaProcess.Rcheck’
* using R version 4.3.0 alpha (2023-04-03 r84154)
* using platform: x86_64-pc-linux-gnu (64-bit)
* R was compiled by
gcc (Ubuntu 11.3.0-1ubuntu1~22.04) 11.3.0
GNU Fortran (Ubuntu 11.3.0-1ubuntu1~22.04) 11.3.0
* running under: Ubuntu 22.04.2 LTS
* using session charset: UTF-8
* checking for file ‘MicrobiotaProcess/DESCRIPTION’ ... OK
* checking extension type ... Package
* this is package ‘MicrobiotaProcess’ version ‘1.11.4’
* package encoding: UTF-8
* checking package namespace information ... OK
* checking package dependencies ... OK
* checking if this is a source package ... OK
* checking if there is a namespace ... OK
* checking for hidden files and directories ... OK
* checking for portable file names ... OK
* checking for sufficient/correct file permissions ... OK
* checking whether package ‘MicrobiotaProcess’ can be installed ... OK
* checking installed package size ... OK
* checking package directory ... OK
* checking ‘build’ directory ... OK
* checking DESCRIPTION meta-information ... OK
* checking top-level files ... OK
* checking for left-over files ... OK
* checking index information ... OK
* checking package subdirectories ... OK
* checking R files for non-ASCII characters ... OK
* checking R files for syntax errors ... OK
* checking whether the package can be loaded ... OK
* checking whether the package can be loaded with stated dependencies ... OK
* checking whether the package can be unloaded cleanly ... OK
* checking whether the namespace can be loaded with stated dependencies ... OK
* checking whether the namespace can be unloaded cleanly ... OK
* checking loading without being on the library search path ... OK
* checking startup messages can be suppressed ... OK
* checking dependencies in R code ... OK
* checking S3 generic/method consistency ... OK
* checking replacement functions ... OK
* checking foreign function calls ... OK
* checking R code for possible problems ... OK
* checking Rd files ... OK
* checking Rd metadata ... OK
* checking Rd cross-references ... OK
* checking for missing documentation entries ... OK
* checking for code/documentation mismatches ... OK
* checking Rd \usage sections ... OK
* checking Rd contents ... OK
* checking for unstated dependencies in examples ... OK
* checking contents of ‘data’ directory ... OK
* checking data for non-ASCII characters ... OK
* checking data for ASCII and uncompressed saves ... OK
* checking files in ‘vignettes’ ... OK
* checking examples ... OK
Examples with CPU (user + system) or elapsed time > 5s
user system elapsed
mp_cal_abundance-methods 11.855 0.300 11.900
mp_plot_diff_boxplot-methods 7.503 0.036 7.416
mp_cal_rarecurve-methods 7.324 0.132 7.458
mp_diff_analysis-methods 5.768 0.068 5.640
* checking for unstated dependencies in ‘tests’ ... OK
* checking tests ...
Running ‘testthat.R’
OK
* checking for unstated dependencies in vignettes ... OK
* checking package vignettes in ‘inst/doc’ ... OK
* checking running R code from vignettes ...
‘MicrobiotaProcess.Rmd’ using ‘UTF-8’... OK
NONE
* checking re-building of vignette outputs ... OK
* checking PDF version of manual ... OK
* DONE
Status: OK
MicrobiotaProcess.Rcheck/00install.out
############################################################################## ############################################################################## ### ### Running command: ### ### /home/biocbuild/bbs-3.17-bioc/R/bin/R CMD INSTALL MicrobiotaProcess ### ############################################################################## ############################################################################## * installing to library ‘/home/biocbuild/bbs-3.17-bioc/R/site-library’ * installing *source* package ‘MicrobiotaProcess’ ... ** using staged installation ** R ** data ** inst ** byte-compile and prepare package for lazy loading in method for ‘taxonomy<-’ with signature ‘x="MPSE",value="taxonomyTable"’: no definition for class “taxonomyTable” Creating a generic function for ‘rownames<-’ from package ‘base’ in package ‘MicrobiotaProcess’ in method for ‘get_alltaxadf’ with signature ‘"phyloseq"’: no definition for class “phyloseq” in method for ‘get_taxadf’ with signature ‘"phyloseq"’: no definition for class “phyloseq” in method for ‘get_alphaindex’ with signature ‘"phyloseq"’: no definition for class “phyloseq” in method for ‘get_NRI_NTI’ with signature ‘"phyloseq"’: no definition for class “phyloseq” in method for ‘get_rarecurve’ with signature ‘"phyloseq"’: no definition for class “phyloseq” in method for ‘get_upset’ with signature ‘"phyloseq"’: no definition for class “phyloseq” in method for ‘get_vennlist’ with signature ‘"phyloseq"’: no definition for class “phyloseq” in method for ‘drop_taxa’ with signature ‘"phyloseq"’: no definition for class “phyloseq” ** help *** installing help indices ** building package indices ** installing vignettes ** testing if installed package can be loaded from temporary location ** testing if installed package can be loaded from final location ** testing if installed package keeps a record of temporary installation path * DONE (MicrobiotaProcess)
MicrobiotaProcess.Rcheck/tests/testthat.Rout
R version 4.3.0 alpha (2023-04-03 r84154)
Copyright (C) 2023 The R Foundation for Statistical Computing
Platform: x86_64-pc-linux-gnu (64-bit)
R is free software and comes with ABSOLUTELY NO WARRANTY.
You are welcome to redistribute it under certain conditions.
Type 'license()' or 'licence()' for distribution details.
R is a collaborative project with many contributors.
Type 'contributors()' for more information and
'citation()' on how to cite R or R packages in publications.
Type 'demo()' for some demos, 'help()' for on-line help, or
'help.start()' for an HTML browser interface to help.
Type 'q()' to quit R.
> library("testthat")
> library("MicrobiotaProcess")
MicrobiotaProcess v1.11.4 For help:
https://github.com/YuLab-SMU/MicrobiotaProcess/issues
If you use MicrobiotaProcess in published research, please cite the
paper:
Shuangbin Xu, Li Zhan, Wenli Tang, Qianwen Wang, Zehan Dai, Land Zhou,
Tingze Feng, Meijun Chen, Tianzhi Wu, Erqiang Hu, Guangchuang Yu.
MicrobiotaProcess: A comprehensive R package for deep mining
microbiome. The Innovation. 2023, 100388. doi:
10.1016/j.xinn.2023.100388
Export the citation to BibTex by citation('MicrobiotaProcess')
This message can be suppressed by:
suppressPackageStartupMessages(library(MicrobiotaProcess))
Attaching package: 'MicrobiotaProcess'
The following object is masked from 'package:stats':
filter
> test_check("MicrobiotaProcess")
[ FAIL 0 | WARN 9 | SKIP 0 | PASS 13 ]
[ FAIL 0 | WARN 9 | SKIP 0 | PASS 13 ]
>
> proc.time()
user system elapsed
14.039 0.681 14.587
MicrobiotaProcess.Rcheck/MicrobiotaProcess-Ex.timings
| name | user | system | elapsed | |
| ImportDada2 | 1.508 | 0.116 | 1.625 | |
| ImportQiime2 | 3.532 | 0.040 | 3.573 | |
| MPSE | 0.150 | 0.012 | 0.163 | |
| as.treedata | 0 | 0 | 0 | |
| build_tree | 0.000 | 0.000 | 0.001 | |
| convert_to_treedata | 0 | 0 | 0 | |
| data-hmp_aerobiosis_small | 0.013 | 0.000 | 0.013 | |
| data-kostic2012crc | 0.027 | 0.004 | 0.031 | |
| data-test_otu_data | 0.003 | 0.000 | 0.003 | |
| diff_analysis | 0.000 | 0.000 | 0.001 | |
| dr_extract | 0.000 | 0.000 | 0.001 | |
| drop_taxa | 0.001 | 0.000 | 0.000 | |
| generalizedFC | 0.004 | 0.003 | 0.007 | |
| get_alltaxadf | 0.001 | 0.000 | 0.000 | |
| get_alphaindex | 0 | 0 | 0 | |
| get_clust | 0 | 0 | 0 | |
| get_coord | 0.000 | 0.000 | 0.001 | |
| get_count | 0.001 | 0.000 | 0.000 | |
| get_dist | 0 | 0 | 0 | |
| get_mean_median | 0.000 | 0.000 | 0.001 | |
| get_pca | 0.001 | 0.000 | 0.000 | |
| get_pcoa | 0 | 0 | 0 | |
| get_pvalue | 0.093 | 0.000 | 0.095 | |
| get_rarecurve | 0.000 | 0.000 | 0.001 | |
| get_sampledflist | 0.001 | 0.000 | 0.001 | |
| get_taxadf | 0.001 | 0.000 | 0.001 | |
| get_upset | 0.000 | 0.001 | 0.001 | |
| get_varct | 0 | 0 | 0 | |
| get_vennlist | 0 | 0 | 0 | |
| ggbartax | 0 | 0 | 0 | |
| ggbox | 0.000 | 0.000 | 0.001 | |
| ggclust | 0.000 | 0.001 | 0.001 | |
| ggdiffbox | 0.000 | 0.001 | 0.000 | |
| ggdiffclade | 0 | 0 | 0 | |
| ggdifftaxbar | 0 | 0 | 0 | |
| ggeffectsize | 0.000 | 0.000 | 0.001 | |
| ggordpoint | 0.000 | 0.000 | 0.001 | |
| ggrarecurve | 0.001 | 0.000 | 0.001 | |
| mp_adonis-methods | 0.163 | 0.007 | 0.170 | |
| mp_aggregate-methods | 0 | 0 | 0 | |
| mp_aggregate_clade-methods | 0.001 | 0.000 | 0.001 | |
| mp_anosim-methods | 2.231 | 0.116 | 2.347 | |
| mp_balance_clade-methods | 0.001 | 0.000 | 0.001 | |
| mp_cal_abundance-methods | 11.855 | 0.300 | 11.900 | |
| mp_cal_alpha-methods | 1.210 | 0.034 | 1.245 | |
| mp_cal_cca-methods | 1.015 | 0.012 | 1.027 | |
| mp_cal_clust-methods | 0.557 | 0.016 | 0.573 | |
| mp_cal_dist-methods | 2.338 | 0.032 | 2.370 | |
| mp_cal_divergence-methods | 0.000 | 0.000 | 0.001 | |
| mp_cal_nmds-methods | 0.265 | 0.000 | 0.265 | |
| mp_cal_pca-methods | 1.610 | 0.004 | 1.615 | |
| mp_cal_pcoa-methods | 1.036 | 0.028 | 1.064 | |
| mp_cal_pd_metric-methods | 0 | 0 | 0 | |
| mp_cal_rarecurve-methods | 7.324 | 0.132 | 7.458 | |
| mp_cal_rda-methods | 0.813 | 0.012 | 0.825 | |
| mp_cal_upset-methods | 1.387 | 0.016 | 1.394 | |
| mp_cal_venn-methods | 2.292 | 0.116 | 2.415 | |
| mp_decostand-methods | 0.379 | 0.016 | 0.395 | |
| mp_diff_analysis-methods | 5.768 | 0.068 | 5.640 | |
| mp_diff_clade-methods | 0.000 | 0.000 | 0.001 | |
| mp_dmn-methods | 0.000 | 0.000 | 0.001 | |
| mp_dmngroup-methods | 0 | 0 | 0 | |
| mp_envfit-methods | 1.988 | 0.056 | 2.044 | |
| mp_filter_taxa-methods | 1.049 | 0.034 | 1.082 | |
| mp_import_metaphlan | 3.040 | 0.008 | 3.049 | |
| mp_mantel-methods | 0.369 | 0.000 | 0.369 | |
| mp_mrpp-methods | 0.162 | 0.008 | 0.170 | |
| mp_plot_abundance-methods | 0 | 0 | 0 | |
| mp_plot_alpha-methods | 0 | 0 | 0 | |
| mp_plot_diff_boxplot-methods | 7.503 | 0.036 | 7.416 | |
| mp_plot_diff_cladogram | 0.001 | 0.000 | 0.000 | |
| mp_plot_diff_manhattan-methods | 3.819 | 0.028 | 3.727 | |
| mp_plot_dist-methods | 0.000 | 0.000 | 0.001 | |
| mp_plot_ord-methods | 0.000 | 0.000 | 0.001 | |
| mp_plot_rarecurve-methods | 0.000 | 0.000 | 0.001 | |
| mp_plot_upset-methods | 0 | 0 | 0 | |
| mp_plot_venn-methods | 0.000 | 0.001 | 0.000 | |
| mp_rrarefy-methods | 0.396 | 0.010 | 0.406 | |
| mp_select_as_tip-methods | 0 | 0 | 0 | |
| mp_stat_taxa-methods | 1.392 | 0.008 | 1.273 | |
| multi_compare | 0.007 | 0.004 | 0.011 | |
| read_qza | 0 | 0 | 0 | |
| show-methods | 0.001 | 0.000 | 0.001 | |
| split_data | 0.003 | 0.000 | 0.003 | |
| split_str_to_list | 0.000 | 0.001 | 0.000 | |
| theme_taxbar | 0.000 | 0.000 | 0.001 | |