| Back to Multiple platform build/check report for BioC 3.17 |
|
This page was generated on 2023-04-12 10:55:27 -0400 (Wed, 12 Apr 2023).
| Hostname | OS | Arch (*) | R version | Installed pkgs |
|---|---|---|---|---|
| nebbiolo1 | Linux (Ubuntu 22.04.1 LTS) | x86_64 | 4.3.0 alpha (2023-04-03 r84154) | 4547 |
| nebbiolo2 | Linux (Ubuntu 20.04.5 LTS) | x86_64 | R Under development (unstable) (2023-02-14 r83833) -- "Unsuffered Consequences" | 4333 |
| Click on any hostname to see more info about the system (e.g. compilers) (*) as reported by 'uname -p', except on Windows and Mac OS X | ||||
|
To the developers/maintainers of the MetaboSignal package: - Allow up to 24 hours (and sometimes 48 hours) for your latest push to git@git.bioconductor.org:packages/MetaboSignal.git to reflect on this report. See Troubleshooting Build Report for more information. - Use the following Renviron settings to reproduce errors and warnings. Note: If "R CMD check" recently failed on the Linux builder over a missing dependency, add the missing dependency to "Suggests" in your DESCRIPTION file. See the Renviron.bioc for details. |
| Package 1161/2207 | Hostname | OS / Arch | INSTALL | BUILD | CHECK | BUILD BIN | ||||||||
| MetaboSignal 1.29.0 (landing page) Andrea Rodriguez-Martinez
| nebbiolo1 | Linux (Ubuntu 22.04.1 LTS) / x86_64 | OK | OK | OK | |||||||||
| nebbiolo2 | Linux (Ubuntu 20.04.5 LTS) / x86_64 | OK | OK | OK | ||||||||||
| Package: MetaboSignal |
| Version: 1.29.0 |
| Command: /home/biocbuild/bbs-3.17-bioc/R/bin/R CMD check --install=check:MetaboSignal.install-out.txt --library=/home/biocbuild/bbs-3.17-bioc/R/site-library --timings MetaboSignal_1.29.0.tar.gz |
| StartedAt: 2023-04-11 21:24:55 -0400 (Tue, 11 Apr 2023) |
| EndedAt: 2023-04-11 21:32:52 -0400 (Tue, 11 Apr 2023) |
| EllapsedTime: 477.4 seconds |
| RetCode: 0 |
| Status: OK |
| CheckDir: MetaboSignal.Rcheck |
| Warnings: 0 |
##############################################################################
##############################################################################
###
### Running command:
###
### /home/biocbuild/bbs-3.17-bioc/R/bin/R CMD check --install=check:MetaboSignal.install-out.txt --library=/home/biocbuild/bbs-3.17-bioc/R/site-library --timings MetaboSignal_1.29.0.tar.gz
###
##############################################################################
##############################################################################
* using log directory ‘/home/biocbuild/bbs-3.17-bioc/meat/MetaboSignal.Rcheck’
* using R version 4.3.0 alpha (2023-04-03 r84154)
* using platform: x86_64-pc-linux-gnu (64-bit)
* R was compiled by
gcc (Ubuntu 11.3.0-1ubuntu1~22.04) 11.3.0
GNU Fortran (Ubuntu 11.3.0-1ubuntu1~22.04) 11.3.0
* running under: Ubuntu 22.04.2 LTS
* using session charset: UTF-8
* checking for file ‘MetaboSignal/DESCRIPTION’ ... OK
* checking extension type ... Package
* this is package ‘MetaboSignal’ version ‘1.29.0’
* package encoding: UTF-8
* checking package namespace information ... OK
* checking package dependencies ... OK
* checking if this is a source package ... OK
* checking if there is a namespace ... OK
* checking for hidden files and directories ... OK
* checking for portable file names ... OK
* checking for sufficient/correct file permissions ... OK
* checking whether package ‘MetaboSignal’ can be installed ... OK
* checking installed package size ... OK
* checking package directory ... OK
* checking ‘build’ directory ... OK
* checking DESCRIPTION meta-information ... OK
* checking top-level files ... OK
* checking for left-over files ... OK
* checking index information ... OK
* checking package subdirectories ... OK
* checking R files for non-ASCII characters ... OK
* checking R files for syntax errors ... OK
* checking whether the package can be loaded ... OK
* checking whether the package can be loaded with stated dependencies ... OK
* checking whether the package can be unloaded cleanly ... OK
* checking whether the namespace can be loaded with stated dependencies ... OK
* checking whether the namespace can be unloaded cleanly ... OK
* checking loading without being on the library search path ... OK
* checking dependencies in R code ... OK
* checking S3 generic/method consistency ... OK
* checking replacement functions ... OK
* checking foreign function calls ... OK
* checking R code for possible problems ... NOTE
get_molecule_type: no visible binding for global variable
'regulatory_interactions'
Undefined global functions or variables:
regulatory_interactions
* checking Rd files ... OK
* checking Rd metadata ... OK
* checking Rd cross-references ... OK
* checking for missing documentation entries ... OK
* checking for code/documentation mismatches ... OK
* checking Rd \usage sections ... NOTE
Error: .onLoad failed in loadNamespace() for 'hpar', details:
call: .getClassesFromCache(Class)
error: class should be either a character-string name or a class definition
Call sequence:
5: stop(gettextf("%s failed in %s() for '%s', details:\n call: %s\n error: %s",
hookname, "loadNamespace", pkgname, deparse(conditionCall(res))[1L],
conditionMessage(res)), call. = FALSE, domain = NA)
4: runHook(".onLoad", env, package.lib, package)
3: loadNamespace(i, c(lib.loc, .libPaths()), versionCheck = vI[[i]])
2: namespaceImport(ns, loadNamespace(i, c(lib.loc, .libPaths()),
versionCheck = vI[[i]]), from = package)
1: loadNamespace(package, lib.loc)
Execution halted
The \usage entries for S3 methods should use the \method markup and not
their full name.
See chapter ‘Writing R documentation files’ in the ‘Writing R
Extensions’ manual.
* checking Rd contents ... OK
* checking for unstated dependencies in examples ... OK
* checking contents of ‘data’ directory ... OK
* checking data for non-ASCII characters ... OK
* checking LazyData ... OK
* checking data for ASCII and uncompressed saves ... OK
* checking installed files from ‘inst/doc’ ... OK
* checking files in ‘vignettes’ ... OK
* checking examples ... OK
Examples with CPU (user + system) or elapsed time > 5s
user system elapsed
MS_keggFinder 0.29 0.017 11.403
* checking for unstated dependencies in ‘tests’ ... OK
* checking tests ...
Running ‘runTests.R’
OK
* checking for unstated dependencies in vignettes ... OK
* checking package vignettes in ‘inst/doc’ ... OK
* checking running R code from vignettes ...
‘MetaboSignal.Rmd’ using ‘UTF-8’... OK
‘MetaboSignal2.Rmd’ using ‘UTF-8’... OK
NONE
* checking re-building of vignette outputs ... OK
* checking PDF version of manual ... OK
* DONE
Status: 2 NOTEs
See
‘/home/biocbuild/bbs-3.17-bioc/meat/MetaboSignal.Rcheck/00check.log’
for details.
MetaboSignal.Rcheck/00install.out
############################################################################## ############################################################################## ### ### Running command: ### ### /home/biocbuild/bbs-3.17-bioc/R/bin/R CMD INSTALL MetaboSignal ### ############################################################################## ############################################################################## * installing to library ‘/home/biocbuild/bbs-3.17-bioc/R/site-library’ * installing *source* package ‘MetaboSignal’ ... ** using staged installation ** R ** data *** moving datasets to lazyload DB ** inst ** byte-compile and prepare package for lazy loading ** help *** installing help indices ** building package indices ** installing vignettes ** testing if installed package can be loaded from temporary location ** testing if installed package can be loaded from final location ** testing if installed package keeps a record of temporary installation path * DONE (MetaboSignal)
MetaboSignal.Rcheck/tests/runTests.Rout
R version 4.3.0 alpha (2023-04-03 r84154)
Copyright (C) 2023 The R Foundation for Statistical Computing
Platform: x86_64-pc-linux-gnu (64-bit)
R is free software and comes with ABSOLUTELY NO WARRANTY.
You are welcome to redistribute it under certain conditions.
Type 'license()' or 'licence()' for distribution details.
R is a collaborative project with many contributors.
Type 'contributors()' for more information and
'citation()' on how to cite R or R packages in publications.
Type 'demo()' for some demos, 'help()' for on-line help, or
'help.start()' for an HTML browser interface to help.
Type 'q()' to quit R.
> BiocGenerics:::testPackage("MetaboSignal")
Note: some source_nodes or target_nodes were not mapped onto the network
Calculating distances
Building shortest path network
Note that all source_nodes and target_nodes were successfully mapped onto the network
Calculating distances
Building shortest path network
Note that all source_nodes and target_nodes were successfully mapped onto the network
Calculating distances
Building shortest path network
Note that all source_nodes and target_nodes were successfully mapped onto the network
Network features:
Number of nodes:59
Number of edges:100
Network features:
Number of nodes:59
Number of edges:100
RUNIT TEST PROTOCOL -- Tue Apr 11 21:31:19 2023
***********************************************
Number of test functions: 9
Number of errors: 0
Number of failures: 0
1 Test Suite :
MetaboSignal RUnit Tests - 9 test functions, 0 errors, 0 failures
Number of test functions: 9
Number of errors: 0
Number of failures: 0
Warning messages:
1: In betweenness(networkBW_i, gene, directed = TRUE, weights = NULL, :
'nobigint' is deprecated since igraph 1.3 and will be removed in igraph 1.4
2: In betweenness(networkBW_i, gene, directed = TRUE, weights = NULL, :
'nobigint' is deprecated since igraph 1.3 and will be removed in igraph 1.4
3: In betweenness(networkBW_i, gene, directed = TRUE, weights = NULL, :
'nobigint' is deprecated since igraph 1.3 and will be removed in igraph 1.4
4: In betweenness(networkBW_i, gene, directed = TRUE, weights = NULL, :
'nobigint' is deprecated since igraph 1.3 and will be removed in igraph 1.4
5: In betweenness(network_i, all_nodes, directed = FALSE, weights = NULL, :
'nobigint' is deprecated since igraph 1.3 and will be removed in igraph 1.4
6: In betweenness(network_i, nodes, directed = FALSE, weights = NULL, :
'nobigint' is deprecated since igraph 1.3 and will be removed in igraph 1.4
7: In betweenness(network_i, nodes, directed = FALSE, weights = NULL, :
'nobigint' is deprecated since igraph 1.3 and will be removed in igraph 1.4
8: In betweenness(network_i, all_nodes, directed = FALSE, weights = NULL, :
'nobigint' is deprecated since igraph 1.3 and will be removed in igraph 1.4
>
> proc.time()
user system elapsed
18.982 1.516 21.584
MetaboSignal.Rcheck/MetaboSignal-Ex.timings
| name | user | system | elapsed | |
| MS2_mergeNetworks | 0.217 | 0.012 | 0.228 | |
| MS2_ppiNetwork | 1.639 | 0.028 | 1.667 | |
| MS_changeNames | 0 | 0 | 0 | |
| MS_convertGene | 0.105 | 0.012 | 1.758 | |
| MS_distances | 0.073 | 0.012 | 0.085 | |
| MS_exportCytoscape | 0 | 0 | 0 | |
| MS_findMappedNodes | 0.003 | 0.000 | 0.002 | |
| MS_getPathIds | 0 | 0 | 0 | |
| MS_keggFinder | 0.290 | 0.017 | 11.403 | |
| MS_keggNetwork | 0 | 0 | 0 | |
| MS_nodeBW | 0.025 | 0.004 | 0.030 | |
| MS_reactionNetwork | 0.000 | 0.000 | 0.001 | |
| MS_removeDrugs | 0.002 | 0.000 | 0.003 | |
| MS_removeNode | 0.009 | 0.000 | 0.008 | |
| MS_replaceNode | 0.004 | 0.004 | 0.008 | |
| MS_shortestPaths | 0.016 | 0.000 | 0.016 | |
| MS_shortestPathsNetwork | 0 | 0 | 0 | |
| MS_tissueFilter | 0 | 0 | 0 | |
| MS_topologyFilter | 0.162 | 0.024 | 0.186 | |