| Back to Multiple platform build/check report for BioC 3.17 | 
 | 
This page was generated on 2023-04-12 10:55:38 -0400 (Wed, 12 Apr 2023).
| Hostname | OS | Arch (*) | R version | Installed pkgs | 
|---|---|---|---|---|
| nebbiolo1 | Linux (Ubuntu 22.04.1 LTS) | x86_64 | 4.3.0 alpha (2023-04-03 r84154) | 4547 | 
| nebbiolo2 | Linux (Ubuntu 20.04.5 LTS) | x86_64 | R Under development (unstable) (2023-02-14 r83833) -- "Unsuffered Consequences" | 4333 | 
| Click on any hostname to see more info about the system (e.g. compilers) (*) as reported by 'uname -p', except on Windows and Mac OS X | ||||
| To the developers/maintainers of the Mergeomics package: - Allow up to 24 hours (and sometimes 48 hours) for your latest push to git@git.bioconductor.org:packages/Mergeomics.git to reflect on this report. See Troubleshooting Build Report for more information. - Use the following Renviron settings to reproduce errors and warnings. Note: If "R CMD check" recently failed on the Linux builder over a missing dependency, add the missing dependency to "Suggests" in your DESCRIPTION file. See the Renviron.bioc for details. | 
| Package 1148/2207 | Hostname | OS / Arch | INSTALL | BUILD | CHECK | BUILD BIN | ||||||||
| Mergeomics 1.27.0  (landing page) Zeyneb Kurt 
 | nebbiolo1 | Linux (Ubuntu 22.04.1 LTS) / x86_64 | OK | OK | OK | |||||||||
| nebbiolo2 | Linux (Ubuntu 20.04.5 LTS) / x86_64 | OK | OK | OK | ||||||||||
| Package: Mergeomics | 
| Version: 1.27.0 | 
| Command: /home/biocbuild/bbs-3.17-bioc/R/bin/R CMD check --install=check:Mergeomics.install-out.txt --library=/home/biocbuild/bbs-3.17-bioc/R/site-library --timings Mergeomics_1.27.0.tar.gz | 
| StartedAt: 2023-04-12 07:16:28 -0400 (Wed, 12 Apr 2023) | 
| EndedAt: 2023-04-12 07:34:59 -0400 (Wed, 12 Apr 2023) | 
| EllapsedTime: 1111.8 seconds | 
| RetCode: 0 | 
| Status: OK | 
| CheckDir: Mergeomics.Rcheck | 
| Warnings: 0 | 
##############################################################################
##############################################################################
###
### Running command:
###
###   /home/biocbuild/bbs-3.17-bioc/R/bin/R CMD check --install=check:Mergeomics.install-out.txt --library=/home/biocbuild/bbs-3.17-bioc/R/site-library --timings Mergeomics_1.27.0.tar.gz
###
##############################################################################
##############################################################################
* using log directory ‘/home/biocbuild/bbs-3.17-bioc/meat/Mergeomics.Rcheck’
* using R Under development (unstable) (2023-02-14 r83833)
* using platform: x86_64-pc-linux-gnu (64-bit)
* R was compiled by
    gcc (Ubuntu 9.4.0-1ubuntu1~20.04.1) 9.4.0
    GNU Fortran (Ubuntu 9.4.0-1ubuntu1~20.04.1) 9.4.0
* running under: Ubuntu 20.04.6 LTS
* using session charset: UTF-8
* checking for file ‘Mergeomics/DESCRIPTION’ ... OK
* checking extension type ... Package
* this is package ‘Mergeomics’ version ‘1.27.0’
* checking package namespace information ... OK
* checking package dependencies ... OK
* checking if this is a source package ... OK
* checking if there is a namespace ... OK
* checking for hidden files and directories ... OK
* checking for portable file names ... OK
* checking for sufficient/correct file permissions ... OK
* checking whether package ‘Mergeomics’ can be installed ... OK
* checking installed package size ... NOTE
  installed size is  8.4Mb
  sub-directories of 1Mb or more:
    extdata   7.5Mb
* checking package directory ... OK
* checking ‘build’ directory ... OK
* checking DESCRIPTION meta-information ... OK
* checking top-level files ... OK
* checking for left-over files ... OK
* checking index information ... OK
* checking package subdirectories ... OK
* checking R files for non-ASCII characters ... OK
* checking R files for syntax errors ... OK
* checking whether the package can be loaded ... OK
* checking whether the package can be loaded with stated dependencies ... OK
* checking whether the package can be unloaded cleanly ... OK
* checking whether the namespace can be loaded with stated dependencies ... OK
* checking whether the namespace can be unloaded cleanly ... OK
* checking loading without being on the library search path ... OK
* checking dependencies in R code ... OK
* checking S3 generic/method consistency ... OK
* checking replacement functions ... OK
* checking foreign function calls ... OK
* checking R code for possible problems ... NOTE
kda.analyze: no visible global function definition for ‘p.adjust’
kda.analyze.exec: no visible global function definition for ‘pnorm’
kda.analyze.simulate: no visible global function definition for ‘rnorm’
kda.prepare: no visible global function definition for ‘quantile’
kda.prepare: no visible global function definition for ‘object.size’
kda.prepare.screen: no visible global function definition for
  ‘quantile’
kda.prepare.screen: no visible global function definition for ‘median’
kda.start: no visible global function definition for ‘object.size’
kda2cytoscape: no visible global function definition for ‘write.table’
kda2cytoscape.colormap: no visible global function definition for
  ‘rainbow’
kda2cytoscape.colormap: no visible global function definition for
  ‘col2rgb’
kda2himmeli: no visible global function definition for ‘quantile’
kda2himmeli: no visible global function definition for ‘write.table’
kda2himmeli.colormap: no visible global function definition for
  ‘rainbow’
kda2himmeli.colormap: no visible global function definition for
  ‘col2rgb’
ssea.analyze: no visible global function definition for ‘qnorm’
ssea.analyze: no visible global function definition for ‘approx’
ssea.analyze: no visible global function definition for ‘pnorm’
ssea.analyze.simulate: no visible global function definition for
  ‘quantile’
ssea.control: no visible global function definition for ‘median’
ssea.control: no visible global function definition for ‘object.size’
ssea.meta: no visible global function definition for ‘qnorm’
ssea.meta: no visible global function definition for ‘quantile’
ssea.meta: no visible global function definition for ‘pnorm’
ssea.meta: no visible global function definition for ‘median’
ssea.meta: no visible global function definition for ‘na.omit’
ssea.prepare: no visible global function definition for ‘median’
ssea.prepare: no visible global function definition for ‘object.size’
ssea.start: no visible global function definition for ‘na.omit’
ssea.start: no visible global function definition for ‘object.size’
ssea.start.configure: no visible global function definition for
  ‘write.table’
ssea2kda: no visible global function definition for ‘na.omit’
ssea2kda.import: no visible global function definition for ‘na.omit’
tool.aggregate: no visible global function definition for ‘na.omit’
tool.cluster: no visible global function definition for ‘as.dist’
tool.cluster: no visible global function definition for ‘hclust’
tool.fdr.bh: no visible global function definition for ‘qnorm’
tool.fdr.bh: no visible global function definition for ‘p.adjust’
tool.fdr.bh: no visible global function definition for ‘approx’
tool.fdr.empirical: no visible global function definition for ‘qnorm’
tool.fdr.empirical: no visible global function definition for ‘approx’
tool.metap: no visible global function definition for ‘qnorm’
tool.metap: no visible global function definition for ‘pnorm’
tool.normalize: no visible global function definition for ‘sd’
tool.normalize: no visible global function definition for ‘median’
tool.normalize: no visible global function definition for ‘optim’
tool.normalize: no visible global function definition for ‘ks.test’
tool.normalize.quality: no visible global function definition for ‘sd’
tool.normalize.quality: no visible global function definition for
  ‘ks.test’
tool.overlap: no visible global function definition for ‘phyper’
tool.read: no visible global function definition for ‘read.delim’
tool.read: no visible global function definition for ‘na.omit’
tool.save: no visible global function definition for ‘write.table’
tool.unify: no visible global function definition for ‘sd’
tool.unify: no visible global function definition for ‘quantile’
tool.unify: no visible global function definition for ‘approx’
Undefined global functions or variables:
  approx as.dist col2rgb hclust ks.test median na.omit object.size
  optim p.adjust phyper pnorm qnorm quantile rainbow read.delim rnorm
  sd write.table
Consider adding
  importFrom("grDevices", "col2rgb", "rainbow")
  importFrom("stats", "approx", "as.dist", "hclust", "ks.test", "median",
             "na.omit", "optim", "p.adjust", "phyper", "pnorm", "qnorm",
             "quantile", "rnorm", "sd")
  importFrom("utils", "object.size", "read.delim", "write.table")
to your NAMESPACE file.
* checking Rd files ... OK
* checking Rd metadata ... OK
* checking Rd cross-references ... OK
* checking for missing documentation entries ... OK
* checking for code/documentation mismatches ... OK
* checking Rd \usage sections ... OK
* checking Rd contents ... OK
* checking for unstated dependencies in examples ... OK
* checking contents of ‘data’ directory ... OK
* checking data for non-ASCII characters ... OK
* checking data for ASCII and uncompressed saves ... OK
* checking files in ‘vignettes’ ... OK
* checking examples ... OK
Examples with CPU (user + system) or elapsed time > 5s
                      user system elapsed
kda.analyze.exec     8.869  0.183   9.054
kda.analyze.simulate 8.556  0.036   8.592
kda.prepare          8.527  0.000   8.527
kda.analyze.test     8.415  0.008   8.424
ssea2kda             7.960  0.012   7.973
ssea2kda.analyze     7.134  0.020   7.155
ssea.meta            6.201  0.028   6.229
ssea2kda.import      6.112  0.004   6.117
ssea.finish.fdr      5.688  0.000   5.688
ssea.analyze         5.505  0.028   5.534
ssea.finish          5.393  0.004   5.397
ssea.finish.genes    5.058  0.008   5.066
* checking for unstated dependencies in ‘tests’ ... OK
* checking tests ...
  Running ‘runTests.R’
 OK
* checking for unstated dependencies in vignettes ... OK
* checking package vignettes in ‘inst/doc’ ... OK
* checking running R code from vignettes ...
  ‘Mergeomics.Rnw’... OK
 OK
* checking re-building of vignette outputs ... OK
* checking PDF version of manual ... OK
* DONE
Status: 2 NOTEs
See
  ‘/home/biocbuild/bbs-3.17-bioc/meat/Mergeomics.Rcheck/00check.log’
for details.
Mergeomics.Rcheck/00install.out
############################################################################## ############################################################################## ### ### Running command: ### ### /home/biocbuild/bbs-3.17-bioc/R/bin/R CMD INSTALL Mergeomics ### ############################################################################## ############################################################################## * installing to library ‘/home/biocbuild/bbs-3.17-bioc/R/site-library’ * installing *source* package ‘Mergeomics’ ... ** using staged installation ** R ** data ** inst ** byte-compile and prepare package for lazy loading ** help *** installing help indices ** building package indices ** installing vignettes ** testing if installed package can be loaded from temporary location ** testing if installed package can be loaded from final location ** testing if installed package keeps a record of temporary installation path * DONE (Mergeomics)
Mergeomics.Rcheck/tests/runTests.Rout
R Under development (unstable) (2023-02-14 r83833) -- "Unsuffered Consequences"
Copyright (C) 2023 The R Foundation for Statistical Computing
Platform: x86_64-pc-linux-gnu (64-bit)
R is free software and comes with ABSOLUTELY NO WARRANTY.
You are welcome to redistribute it under certain conditions.
Type 'license()' or 'licence()' for distribution details.
R is a collaborative project with many contributors.
Type 'contributors()' for more information and
'citation()' on how to cite R or R packages in publications.
Type 'demo()' for some demos, 'help()' for on-line help, or
'help.start()' for an HTML browser interface to help.
Type 'q()' to quit R.
> BiocGenerics:::testPackage("Mergeomics")
KDA Version:12.7.2015
Parameters:
  Search depth: 1
  Search direction: 1
  Maximum overlap: 0.33
  Minimum module size: 20
  Minimum degree: automatic
  Maximum degree: automatic
  Edge factor: 0
  Random seed: 1
Importing edges...
     TAIL               HEAD               WEIGHT 
 Length:140663      Length:140663      Min.   :1  
 Class :character   Class :character   1st Qu.:1  
 Mode  :character   Mode  :character   Median :1  
                                       Mean   :1  
                                       3rd Qu.:1  
                                       Max.   :1  
Importing modules...
    MODULE              NODE          
 Length:1643        Length:1643       
 Class :character   Class :character  
 Mode  :character   Mode  :character  
Graph: 7.694687 Mb
Minimum degree set to 20 
Maximum degree set to 278 
Collecting hubs...
4876 hubs (25.21%)
Graph: 13.28768 Mb
Analyzing network...
6675: Dhcr7, n=114, p=2.24e-17
6648: Cit, n=20, p=7.89e-01
6643: Pbx4, n=23, p=2.32e-05
5582: Sypl, n=319, p=2.02e-02
4746: Tcf7l2, n=73, p=2.63e-02
4708: Tpte, n=86, p=5.05e-02
4511: Pzp, n=160, p=8.85e-03
4464: Tsc22d3, n=487, p=4.28e-13
4407: Dntt, n=93, p=2.40e-20
4360: Amica1, n=132, p=1.06e-06
4588,..: Lrg1, n=86, p=5.76e-12
MSEA Version:01.04.2016
Parameters:
  Permutation type: gene
  Permutations: 100
  Random seed: 1
  Minimum gene count: 10
  Maximum gene count: 500
  Maximum overlap between genes: 0.33
Importing modules...
    MODULE             DESCR          
 Length:20          Length:20         
 Class :character   Class :character  
 Mode  :character   Mode  :character  
    MODULE              GENE          
 Length:2906        Length:2906       
 Class :character   Class :character  
 Mode  :character   Mode  :character  
Importing marker values...
    MARKER              VALUE         
 Length:76866       Min.   :  0.8094  
 Class :character   1st Qu.:  0.9450  
 Mode  :character   Median :  1.1374  
                    Mean   :  1.3944  
                    3rd Qu.:  1.4688  
                    Max.   :323.0100  
Importing mapping data...
     GENE              MARKER         
 Length:132705      Length:132705     
 Class :character   Class :character  
 Mode  :character   Mode  :character  
Merging genes containing shared markers...
WARNING! Limited overlap analysis due to large number of groups.
196347/1673535 
364303/1673535 
573065/1673535 
776950/1673535 
989173/1673535 
1196369/1673535 
1378655/1673535 
1576231/1673535 
1673535 comparisons
21115 comparisons
13861 comparisons
12880 comparisons
Job: 11.66891 Mb
Preparing data structures...
Job: 17.11776 Mb
Adding positive controls...
Job: 17.42039 Mb
Estimating enrichment...
100/100 cycles
Normalizing scores...
RUNIT TEST PROTOCOL -- Wed Apr 12 07:23:59 2023 
*********************************************** 
Number of test functions: 2 
Number of errors: 0 
Number of failures: 0 
 
1 Test Suite : 
Mergeomics RUnit Tests - 2 test functions, 0 errors, 0 failures
Number of test functions: 2 
Number of errors: 0 
Number of failures: 0 
> 
> proc.time()
   user  system elapsed 
291.609   0.653 292.255 
Mergeomics.Rcheck/Mergeomics-Ex.timings
| name | user | system | elapsed | |
| MSEA.KDA.onestep | 0.004 | 0.000 | 0.003 | |
| job.kda | 0.021 | 0.000 | 0.021 | |
| kda.analyze | 0.013 | 0.000 | 0.013 | |
| kda.analyze.exec | 8.869 | 0.183 | 9.054 | |
| kda.analyze.simulate | 8.556 | 0.036 | 8.592 | |
| kda.analyze.test | 8.415 | 0.008 | 8.424 | |
| kda.configure | 0.001 | 0.000 | 0.000 | |
| kda.finish | 0.132 | 0.004 | 0.135 | |
| kda.finish.estimate | 0.082 | 0.000 | 0.083 | |
| kda.finish.save | 0.101 | 0.000 | 0.101 | |
| kda.finish.summarize | 0.086 | 0.000 | 0.087 | |
| kda.finish.trim | 0.083 | 0.003 | 0.087 | |
| kda.prepare | 8.527 | 0.000 | 8.527 | |
| kda.prepare.overlap | 0 | 0 | 0 | |
| kda.prepare.screen | 0.001 | 0.000 | 0.001 | |
| kda.start | 1.452 | 0.000 | 1.452 | |
| kda.start.edges | 0.002 | 0.000 | 0.002 | |
| kda.start.identify | 0.005 | 0.000 | 0.005 | |
| kda.start.modules | 0.001 | 0.000 | 0.001 | |
| kda2cytoscape | 0.324 | 0.004 | 0.329 | |
| kda2cytoscape.colorize | 0 | 0 | 0 | |
| kda2cytoscape.colormap | 0 | 0 | 0 | |
| kda2cytoscape.drivers | 0.123 | 0.007 | 0.130 | |
| kda2cytoscape.edges | 0.122 | 0.004 | 0.126 | |
| kda2cytoscape.exec | 0.148 | 0.000 | 0.147 | |
| kda2cytoscape.identify | 0.003 | 0.000 | 0.003 | |
| kda2himmeli | 0.361 | 0.000 | 0.361 | |
| kda2himmeli.colorize | 0.001 | 0.000 | 0.000 | |
| kda2himmeli.colormap | 0.000 | 0.000 | 0.001 | |
| kda2himmeli.drivers | 0.12 | 0.00 | 0.12 | |
| kda2himmeli.edges | 0.133 | 0.000 | 0.133 | |
| kda2himmeli.exec | 0.331 | 0.004 | 0.335 | |
| kda2himmeli.identify | 0.003 | 0.000 | 0.003 | |
| ssea.analyze | 5.505 | 0.028 | 5.534 | |
| ssea.analyze.observe | 3.228 | 0.004 | 3.233 | |
| ssea.analyze.randgenes | 3.075 | 0.008 | 3.083 | |
| ssea.analyze.randloci | 3.756 | 0.020 | 3.776 | |
| ssea.analyze.simulate | 4.219 | 0.012 | 4.231 | |
| ssea.analyze.statistic | 0 | 0 | 0 | |
| ssea.control | 2.844 | 0.000 | 2.845 | |
| ssea.finish | 5.393 | 0.004 | 5.397 | |
| ssea.finish.details | 4.792 | 0.004 | 4.796 | |
| ssea.finish.fdr | 5.688 | 0.000 | 5.688 | |
| ssea.finish.genes | 5.058 | 0.008 | 5.066 | |
| ssea.meta | 6.201 | 0.028 | 6.229 | |
| ssea.prepare | 4.066 | 0.033 | 4.099 | |
| ssea.prepare.counts | 3.392 | 0.014 | 3.406 | |
| ssea.prepare.structure | 3.463 | 0.004 | 3.467 | |
| ssea.start | 3.297 | 0.000 | 3.298 | |
| ssea.start.configure | 0.509 | 0.005 | 0.513 | |
| ssea.start.identify | 0.001 | 0.003 | 0.003 | |
| ssea.start.relabel | 3.604 | 0.016 | 3.621 | |
| ssea2kda | 7.960 | 0.012 | 7.973 | |
| ssea2kda.analyze | 7.134 | 0.020 | 7.155 | |
| ssea2kda.import | 6.112 | 0.004 | 6.117 | |
| tool.aggregate | 0.001 | 0.000 | 0.001 | |
| tool.cluster | 0.018 | 0.000 | 0.018 | |
| tool.cluster.static | 0.001 | 0.000 | 0.001 | |
| tool.coalesce | 0.061 | 0.000 | 0.061 | |
| tool.coalesce.exec | 0.104 | 0.000 | 0.105 | |
| tool.coalesce.find | 0.101 | 0.000 | 0.102 | |
| tool.coalesce.merge | 0.116 | 0.000 | 0.116 | |
| tool.fdr | 0.001 | 0.000 | 0.001 | |
| tool.fdr.bh | 0.000 | 0.000 | 0.001 | |
| tool.fdr.empirical | 0.000 | 0.000 | 0.001 | |
| tool.graph | 1.296 | 0.016 | 1.312 | |
| tool.graph.degree | 1.427 | 0.008 | 1.436 | |
| tool.graph.list | 1.223 | 0.004 | 1.227 | |
| tool.metap | 0.003 | 0.000 | 0.003 | |
| tool.normalize | 0.012 | 0.000 | 0.011 | |
| tool.normalize.quality | 0.009 | 0.000 | 0.009 | |
| tool.overlap | 0.006 | 0.000 | 0.006 | |
| tool.read | 0.226 | 0.004 | 0.230 | |
| tool.save | 0.002 | 0.000 | 0.002 | |
| tool.subgraph | 0.081 | 0.004 | 0.085 | |
| tool.subgraph.find | 0.08 | 0.00 | 0.08 | |
| tool.subgraph.search | 0.077 | 0.004 | 0.081 | |
| tool.subgraph.stats | 0.089 | 0.004 | 0.093 | |
| tool.translate | 0.035 | 0.000 | 0.035 | |
| tool.unify | 0.002 | 0.000 | 0.002 | |