| Back to Multiple platform build/check report for BioC 3.17 |
|
This page was generated on 2023-03-16 10:55:34 -0400 (Thu, 16 Mar 2023).
| Hostname | OS | Arch (*) | R version | Installed pkgs |
|---|---|---|---|---|
| nebbiolo1 | Linux (Ubuntu 22.04.1 LTS) | x86_64 | R Under development (unstable) (2023-01-10 r83596) -- "Unsuffered Consequences" | 4540 |
| nebbiolo2 | Linux (Ubuntu 20.04.5 LTS) | x86_64 | R Under development (unstable) (2023-02-14 r83833) -- "Unsuffered Consequences" | 4290 |
| Click on any hostname to see more info about the system (e.g. compilers) (*) as reported by 'uname -p', except on Windows and Mac OS X | ||||
|
To the developers/maintainers of the MSstatsSampleSize package: - Please allow up to 24 hours (and sometimes 48 hours) for your latest push to git@git.bioconductor.org:packages/MSstatsSampleSize.git to reflect on this report. See How and When does the builder pull? When will my changes propagate? for more information. - Make sure to use the following settings in order to reproduce any error or warning you see on this page. |
| Package 1299/2189 | Hostname | OS / Arch | INSTALL | BUILD | CHECK | BUILD BIN | ||||||||
| MSstatsSampleSize 1.13.0 (landing page) Ting Huang
| nebbiolo1 | Linux (Ubuntu 22.04.1 LTS) / x86_64 | OK | OK | WARNINGS | |||||||||
| nebbiolo2 | Linux (Ubuntu 20.04.5 LTS) / x86_64 | OK | OK | ERROR | ||||||||||
| Package: MSstatsSampleSize |
| Version: 1.13.0 |
| Command: /home/biocbuild/bbs-3.17-bioc/R/bin/R CMD check --install=check:MSstatsSampleSize.install-out.txt --library=/home/biocbuild/bbs-3.17-bioc/R/library --timings MSstatsSampleSize_1.13.0.tar.gz |
| StartedAt: 2023-03-15 21:52:59 -0400 (Wed, 15 Mar 2023) |
| EndedAt: 2023-03-15 21:55:13 -0400 (Wed, 15 Mar 2023) |
| EllapsedTime: 133.5 seconds |
| RetCode: 0 |
| Status: WARNINGS |
| CheckDir: MSstatsSampleSize.Rcheck |
| Warnings: 2 |
##############################################################################
##############################################################################
###
### Running command:
###
### /home/biocbuild/bbs-3.17-bioc/R/bin/R CMD check --install=check:MSstatsSampleSize.install-out.txt --library=/home/biocbuild/bbs-3.17-bioc/R/library --timings MSstatsSampleSize_1.13.0.tar.gz
###
##############################################################################
##############################################################################
* using log directory ‘/home/biocbuild/bbs-3.17-bioc/meat/MSstatsSampleSize.Rcheck’
* using R Under development (unstable) (2023-01-10 r83596)
* using platform: x86_64-pc-linux-gnu (64-bit)
* R was compiled by
gcc (Ubuntu 11.3.0-1ubuntu1~22.04) 11.3.0
GNU Fortran (Ubuntu 11.3.0-1ubuntu1~22.04) 11.3.0
* running under: Ubuntu 22.04.2 LTS
* using session charset: UTF-8
* checking for file ‘MSstatsSampleSize/DESCRIPTION’ ... OK
* checking extension type ... Package
* this is package ‘MSstatsSampleSize’ version ‘1.13.0’
* package encoding: UTF-8
* checking package namespace information ... OK
* checking package dependencies ... OK
* checking if this is a source package ... OK
* checking if there is a namespace ... OK
* checking for hidden files and directories ... OK
* checking for portable file names ... OK
* checking for sufficient/correct file permissions ... OK
* checking whether package ‘MSstatsSampleSize’ can be installed ... OK
* checking installed package size ... OK
* checking package directory ... OK
* checking ‘build’ directory ... OK
* checking DESCRIPTION meta-information ... OK
* checking top-level files ... OK
* checking for left-over files ... OK
* checking index information ... OK
* checking package subdirectories ... OK
* checking R files for non-ASCII characters ... OK
* checking R files for syntax errors ... OK
* checking whether the package can be loaded ... OK
* checking whether the package can be loaded with stated dependencies ... OK
* checking whether the package can be unloaded cleanly ... OK
* checking whether the namespace can be loaded with stated dependencies ... OK
* checking whether the namespace can be unloaded cleanly ... OK
* checking dependencies in R code ... OK
* checking S3 generic/method consistency ... OK
* checking replacement functions ... OK
* checking foreign function calls ... OK
* checking R code for possible problems ... OK
* checking Rd files ... OK
* checking Rd metadata ... OK
* checking Rd cross-references ... OK
* checking for missing documentation entries ... OK
* checking for code/documentation mismatches ... WARNING
Functions or methods with usage in documentation object '.classification' but not in code:
‘.classification’
* checking Rd \usage sections ... OK
* checking Rd contents ... OK
* checking for unstated dependencies in examples ... OK
* checking contents of ‘data’ directory ... OK
* checking data for non-ASCII characters ... OK
* checking LazyData ... OK
* checking data for ASCII and uncompressed saves ... WARNING
Note: significantly better compression could be obtained
by using R CMD build --resave-data
old_size new_size compress
classification_results.rda 1.8Mb 1.3Mb xz
simulated_datasets.rda 656Kb 511Kb xz
variance_estimation.rda 690Kb 320Kb xz
* checking files in ‘vignettes’ ... OK
* checking examples ... OK
Examples with CPU (user + system) or elapsed time > 5s
user system elapsed
designSampleSizeClassificationPlots 14.622 2.042 10.013
* checking for unstated dependencies in ‘tests’ ... OK
* checking tests ...
Running ‘testthat.R’
OK
* checking for unstated dependencies in vignettes ... OK
* checking package vignettes in ‘inst/doc’ ... OK
* checking running R code from vignettes ...
‘MSstatsSampleSize.Rmd’ using ‘UTF-8’... OK
NONE
* checking re-building of vignette outputs ... OK
* checking PDF version of manual ... OK
* DONE
Status: 2 WARNINGs
See
‘/home/biocbuild/bbs-3.17-bioc/meat/MSstatsSampleSize.Rcheck/00check.log’
for details.
MSstatsSampleSize.Rcheck/00install.out
############################################################################## ############################################################################## ### ### Running command: ### ### /home/biocbuild/bbs-3.17-bioc/R/bin/R CMD INSTALL MSstatsSampleSize ### ############################################################################## ############################################################################## * installing to library ‘/home/biocbuild/bbs-3.17-bioc/R/library’ * installing *source* package ‘MSstatsSampleSize’ ... ** using staged installation ** R ** data *** moving datasets to lazyload DB ** inst ** byte-compile and prepare package for lazy loading ** help *** installing help indices ** building package indices ** installing vignettes ** testing if installed package can be loaded from temporary location ** testing if installed package can be loaded from final location ** testing if installed package keeps a record of temporary installation path * DONE (MSstatsSampleSize)
MSstatsSampleSize.Rcheck/tests/testthat.Rout
R Under development (unstable) (2023-01-10 r83596) -- "Unsuffered Consequences"
Copyright (C) 2023 The R Foundation for Statistical Computing
Platform: x86_64-pc-linux-gnu (64-bit)
R is free software and comes with ABSOLUTELY NO WARRANTY.
You are welcome to redistribute it under certain conditions.
Type 'license()' or 'licence()' for distribution details.
R is a collaborative project with many contributors.
Type 'contributors()' for more information and
'citation()' on how to cite R or R packages in publications.
Type 'demo()' for some demos, 'help()' for on-line help, or
'help.start()' for an HTML browser interface to help.
Type 'q()' to quit R.
> library(testthat)
> library(MSstatsSampleSize)
>
> test_check("MSstatsSampleSize")
[ FAIL 0 | WARN 10 | SKIP 0 | PASS 7 ]
[ FAIL 0 | WARN 10 | SKIP 0 | PASS 7 ]
>
> proc.time()
user system elapsed
8.190 0.381 8.562
MSstatsSampleSize.Rcheck/MSstatsSampleSize-Ex.timings
| name | user | system | elapsed | |
| OV_SRM_train | 0.005 | 0.008 | 0.013 | |
| OV_SRM_train_annotation | 0.003 | 0.000 | 0.003 | |
| classification_results | 0.068 | 0.008 | 0.076 | |
| designSampleSizeClassification | 3.772 | 0.348 | 4.121 | |
| designSampleSizeClassificationPlots | 14.622 | 2.042 | 10.013 | |
| designSampleSizeHypothesisTestingPlot | 0.267 | 0.024 | 0.291 | |
| designSampleSizePCAplot | 2.728 | 0.068 | 2.796 | |
| estimateVar | 0.195 | 0.004 | 0.198 | |
| meanSDplot | 1.467 | 0.112 | 1.579 | |
| simulateDataset | 0.243 | 0.020 | 0.264 | |
| simulated_datasets | 0.015 | 0.004 | 0.019 | |
| variance_estimation | 0.015 | 0.004 | 0.018 | |