| Back to Multiple platform build/check report for BioC 3.17 |
|
This page was generated on 2023-04-12 10:55:27 -0400 (Wed, 12 Apr 2023).
| Hostname | OS | Arch (*) | R version | Installed pkgs |
|---|---|---|---|---|
| nebbiolo1 | Linux (Ubuntu 22.04.1 LTS) | x86_64 | 4.3.0 alpha (2023-04-03 r84154) | 4547 |
| nebbiolo2 | Linux (Ubuntu 20.04.5 LTS) | x86_64 | R Under development (unstable) (2023-02-14 r83833) -- "Unsuffered Consequences" | 4333 |
| Click on any hostname to see more info about the system (e.g. compilers) (*) as reported by 'uname -p', except on Windows and Mac OS X | ||||
|
To the developers/maintainers of the MOFA2 package: - Allow up to 24 hours (and sometimes 48 hours) for your latest push to git@git.bioconductor.org:packages/MOFA2.git to reflect on this report. See Troubleshooting Build Report for more information. - Use the following Renviron settings to reproduce errors and warnings. Note: If "R CMD check" recently failed on the Linux builder over a missing dependency, add the missing dependency to "Suggests" in your DESCRIPTION file. See the Renviron.bioc for details. |
| Package 1260/2207 | Hostname | OS / Arch | INSTALL | BUILD | CHECK | BUILD BIN | ||||||||
| MOFA2 1.9.2 (landing page) Ricard Argelaguet
| nebbiolo1 | Linux (Ubuntu 22.04.1 LTS) / x86_64 | OK | OK | OK | |||||||||
| nebbiolo2 | Linux (Ubuntu 20.04.5 LTS) / x86_64 | OK | OK | OK | ||||||||||
| Package: MOFA2 |
| Version: 1.9.2 |
| Command: /home/biocbuild/bbs-3.17-bioc/R/bin/R CMD check --install=check:MOFA2.install-out.txt --library=/home/biocbuild/bbs-3.17-bioc/R/site-library --timings MOFA2_1.9.2.tar.gz |
| StartedAt: 2023-04-11 21:42:08 -0400 (Tue, 11 Apr 2023) |
| EndedAt: 2023-04-11 21:46:43 -0400 (Tue, 11 Apr 2023) |
| EllapsedTime: 275.7 seconds |
| RetCode: 0 |
| Status: OK |
| CheckDir: MOFA2.Rcheck |
| Warnings: 0 |
##############################################################################
##############################################################################
###
### Running command:
###
### /home/biocbuild/bbs-3.17-bioc/R/bin/R CMD check --install=check:MOFA2.install-out.txt --library=/home/biocbuild/bbs-3.17-bioc/R/site-library --timings MOFA2_1.9.2.tar.gz
###
##############################################################################
##############################################################################
* using log directory ‘/home/biocbuild/bbs-3.17-bioc/meat/MOFA2.Rcheck’
* using R version 4.3.0 alpha (2023-04-03 r84154)
* using platform: x86_64-pc-linux-gnu (64-bit)
* R was compiled by
gcc (Ubuntu 11.3.0-1ubuntu1~22.04) 11.3.0
GNU Fortran (Ubuntu 11.3.0-1ubuntu1~22.04) 11.3.0
* running under: Ubuntu 22.04.2 LTS
* using session charset: UTF-8
* checking for file ‘MOFA2/DESCRIPTION’ ... OK
* checking extension type ... Package
* this is package ‘MOFA2’ version ‘1.9.2’
* package encoding: UTF-8
* checking package namespace information ... OK
* checking package dependencies ... OK
* checking if this is a source package ... OK
* checking if there is a namespace ... OK
* checking for hidden files and directories ... OK
* checking for portable file names ... OK
* checking for sufficient/correct file permissions ... OK
* checking whether package ‘MOFA2’ can be installed ... NOTE
Found the following notes/warnings:
Non-staged installation was used
See ‘/home/biocbuild/bbs-3.17-bioc/meat/MOFA2.Rcheck/00install.out’ for details.
* checking installed package size ... OK
* checking package directory ... OK
* checking ‘build’ directory ... OK
* checking DESCRIPTION meta-information ... OK
* checking top-level files ... OK
* checking for left-over files ... OK
* checking index information ... OK
* checking package subdirectories ... OK
* checking R files for non-ASCII characters ... OK
* checking R files for syntax errors ... OK
* checking whether the package can be loaded ... OK
* checking whether the package can be loaded with stated dependencies ... OK
* checking whether the package can be unloaded cleanly ... OK
* checking whether the namespace can be loaded with stated dependencies ... OK
* checking whether the namespace can be unloaded cleanly ... OK
* checking loading without being on the library search path ... OK
* checking dependencies in R code ... OK
* checking S3 generic/method consistency ... OK
* checking replacement functions ... OK
* checking foreign function calls ... OK
* checking R code for possible problems ... NOTE
.plot_factors_vs_cov_1d: no visible binding for global variable
‘value.factor’
.plot_factors_vs_cov_1d: no visible binding for global variable
‘value_scaled’
.plot_factors_vs_cov_1d: no visible binding for global variable
‘value.covariate’
.plot_factors_vs_cov_1d: no visible binding for global variable ‘value’
.plot_factors_vs_cov_2d: no visible binding for global variable
‘value.factor’
.set_xax: no visible binding for global variable ‘value’
add_mofa_factors_to_seurat: no visible global function definition for
‘CreateDimReducObject’
create_mofa_from_SingleCellExperiment: no visible global function
definition for ‘colData’
get_interpolated_factors: no visible binding for global variable ‘L1’
get_interpolated_factors: no visible binding for global variable ‘L2’
get_interpolated_factors: no visible binding for global variable
‘value’
get_interpolated_factors: no visible binding for global variable
‘covariate’
get_interpolated_factors: no visible binding for global variable
‘covariate_value’
get_interpolated_factors: no visible binding for global variable
‘sample_id’
interpolate_factors: no visible binding for global variable ‘.’
plot_alignment: no visible binding for global variable ‘group’
plot_alignment: no visible binding for global variable ‘value.warped’
plot_alignment: no visible binding for global variable
‘value.unaligned’
plot_contribution_scores: no visible binding for global variable ‘view’
plot_data_overview: no visible binding for global variable ‘view’
plot_data_overview: no visible binding for global variable ‘ptotal’
plot_data_overview: no visible binding for global variable ‘ntotal’
plot_data_overview: no visible binding for global variable ‘group’
plot_data_overview: no visible binding for global variable
‘group_label’
plot_dimred: no visible binding for global variable ‘.’
plot_enrichment_detailed: no visible binding for global variable
‘pathway’
plot_enrichment_detailed: no visible binding for global variable
‘feature.statistic’
plot_factors_vs_cov: no visible binding for global variable ‘E2’
plot_factors_vs_cov: no visible binding for global variable ‘value’
plot_interpolation_vs_covariate: no visible binding for global variable
‘variance’
plot_interpolation_vs_covariate: no visible binding for global variable
‘group’
plot_interpolation_vs_covariate: no visible binding for global variable
‘value.covariate’
plot_interpolation_vs_covariate: no visible binding for global variable
‘value.factor’
plot_interpolation_vs_covariate: no visible binding for global variable
‘ymin’
plot_interpolation_vs_covariate: no visible binding for global variable
‘ymax’
plot_sharedness: no visible binding for global variable ‘sharedness’
plot_sharedness: no visible binding for global variable ‘value’
plot_smoothness: no visible binding for global variable ‘value’
plot_smoothness: no visible binding for global variable ‘smoothness’
plot_top_weights: no visible binding for global variable ‘value’
plot_weights: no visible binding for global variable ‘value’
plot_weights: no visible binding for global variable ‘.’
summarise_factors: no visible binding for global variable ‘value’
summarise_factors: no visible binding for global variable ‘level’
summarise_factors: no visible binding for global variable ‘group’
Undefined global functions or variables:
. CreateDimReducObject E2 L1 L2 colData covariate covariate_value
feature.statistic group group_label level ntotal pathway ptotal
sample_id sharedness smoothness value value.covariate value.factor
value.unaligned value.warped value_scaled variance view ymax ymin
* checking Rd files ... OK
* checking Rd metadata ... OK
* checking Rd cross-references ... NOTE
Package unavailable to check Rd xrefs: ‘PCGSE’
* checking for missing documentation entries ... OK
* checking for code/documentation mismatches ... OK
* checking Rd \usage sections ... OK
* checking Rd contents ... OK
* checking for unstated dependencies in examples ... OK
* checking line endings in shell scripts ... OK
* checking files in ‘vignettes’ ... OK
* checking examples ... OK
* checking for unstated dependencies in ‘tests’ ... OK
* checking tests ...
Running ‘testthat.R’
OK
* checking for unstated dependencies in vignettes ... OK
* checking package vignettes in ‘inst/doc’ ... OK
* checking running R code from vignettes ...
‘MEFISTO_temporal.Rmd’ using ‘UTF-8’... OK
‘downstream_analysis.Rmd’ using ‘UTF-8’... OK
‘getting_started_R.Rmd’ using ‘UTF-8’... OK
NONE
* checking re-building of vignette outputs ... OK
* checking PDF version of manual ... OK
* DONE
Status: 3 NOTEs
See
‘/home/biocbuild/bbs-3.17-bioc/meat/MOFA2.Rcheck/00check.log’
for details.
MOFA2.Rcheck/00install.out
############################################################################## ############################################################################## ### ### Running command: ### ### /home/biocbuild/bbs-3.17-bioc/R/bin/R CMD INSTALL MOFA2 ### ############################################################################## ############################################################################## * installing to library ‘/home/biocbuild/bbs-3.17-bioc/R/site-library’ * installing *source* package ‘MOFA2’ ... ** using non-staged installation via StagedInstall field ** R ** inst ** byte-compile and prepare package for lazy loading Creating a generic function for ‘rownames’ from package ‘base’ in package ‘MOFA2’ Creating a generic function for ‘colnames’ from package ‘base’ in package ‘MOFA2’ Creating a generic function for ‘nrow’ from package ‘base’ in package ‘MOFA2’ Creating a generic function for ‘ncol’ from package ‘base’ in package ‘MOFA2’ Creating a generic function for ‘rownames<-’ from package ‘base’ in package ‘MOFA2’ Creating a generic function for ‘colnames<-’ from package ‘base’ in package ‘MOFA2’ ** help *** installing help indices ** building package indices ** installing vignettes ** testing if installed package can be loaded * DONE (MOFA2)
MOFA2.Rcheck/tests/testthat.Rout
R version 4.3.0 alpha (2023-04-03 r84154)
Copyright (C) 2023 The R Foundation for Statistical Computing
Platform: x86_64-pc-linux-gnu (64-bit)
R is free software and comes with ABSOLUTELY NO WARRANTY.
You are welcome to redistribute it under certain conditions.
Type 'license()' or 'licence()' for distribution details.
R is a collaborative project with many contributors.
Type 'contributors()' for more information and
'citation()' on how to cite R or R packages in publications.
Type 'demo()' for some demos, 'help()' for on-line help, or
'help.start()' for an HTML browser interface to help.
Type 'q()' to quit R.
> library(testthat)
> library(MOFA2)
Attaching package: 'MOFA2'
The following object is masked from 'package:stats':
predict
>
> test_check("MOFA2")
single_group
100
____________
| |
view_0 1000 | 100% |
|____________|
____________
| |
view_1 1000 | 100% |
|____________|
[ FAIL 0 | WARN 0 | SKIP 0 | PASS 25 ]
>
> proc.time()
user system elapsed
9.375 0.619 9.981
MOFA2.Rcheck/MOFA2-Ex.timings
| name | user | system | elapsed | |
| add_mofa_factors_to_seurat | 0.007 | 0.000 | 0.007 | |
| calculate_contribution_scores | 0.375 | 0.013 | 0.398 | |
| calculate_variance_explained | 1.951 | 0.104 | 2.070 | |
| calculate_variance_explained_per_sample | 0.165 | 0.028 | 0.193 | |
| cluster_samples | 0.148 | 0.014 | 0.163 | |
| compare_elbo | 0.278 | 0.021 | 0.298 | |
| compare_factors | 0.371 | 0.020 | 0.391 | |
| covariates_names | 0.190 | 0.016 | 0.207 | |
| create_mofa | 1.014 | 0.119 | 1.135 | |
| create_mofa_from_df | 0.954 | 0.027 | 0.982 | |
| create_mofa_from_matrix | 0.011 | 0.000 | 0.011 | |
| factors_names | 0.136 | 0.008 | 0.145 | |
| features_metadata | 0.168 | 0.023 | 0.191 | |
| features_names | 0.133 | 0.027 | 0.161 | |
| get_covariates | 0.181 | 0.008 | 0.188 | |
| get_data | 0.456 | 0.024 | 0.481 | |
| get_default_data_options | 0.523 | 0.004 | 0.527 | |
| get_default_mefisto_options | 0.148 | 0.001 | 0.147 | |
| get_default_model_options | 0.532 | 0.007 | 0.541 | |
| get_default_stochastic_options | 0.497 | 0.004 | 0.501 | |
| get_default_training_options | 0.954 | 0.061 | 1.014 | |
| get_dimensions | 0.140 | 0.015 | 0.157 | |
| get_elbo | 0.143 | 0.020 | 0.163 | |
| get_expectations | 0.146 | 0.008 | 0.153 | |
| get_factors | 0.129 | 0.024 | 0.153 | |
| get_imputed_data | 0.154 | 0.008 | 0.161 | |
| get_lengthscales | 0.174 | 0.000 | 0.173 | |
| get_scales | 0.169 | 0.004 | 0.172 | |
| get_variance_explained | 0.137 | 0.012 | 0.149 | |
| get_weights | 0.153 | 0.024 | 0.176 | |
| groups_names | 0.132 | 0.008 | 0.139 | |
| impute | 0.154 | 0.008 | 0.162 | |
| interpolate_factors | 0.196 | 0.004 | 0.200 | |
| load_model | 0.145 | 0.001 | 0.145 | |
| make_example_data | 0.002 | 0.000 | 0.003 | |
| plot_ascii_data | 0.138 | 0.007 | 0.145 | |
| plot_data_heatmap | 0.661 | 0.064 | 0.725 | |
| plot_data_overview | 0.279 | 0.016 | 0.296 | |
| plot_data_scatter | 1.221 | 0.048 | 1.269 | |
| plot_data_vs_cov | 0.460 | 0.028 | 0.488 | |
| plot_dimred | 3.310 | 0.079 | 3.356 | |
| plot_factor | 1.054 | 0.023 | 1.078 | |
| plot_factor_cor | 0.148 | 0.008 | 0.156 | |
| plot_factors | 0.571 | 0.040 | 0.611 | |
| plot_factors_vs_cov | 0.448 | 0.008 | 0.455 | |
| plot_group_kernel | 0.316 | 0.012 | 0.327 | |
| plot_interpolation_vs_covariate | 0.467 | 0.004 | 0.471 | |
| plot_smoothness | 0.201 | 0.008 | 0.209 | |
| plot_top_weights | 0.748 | 0.016 | 0.764 | |
| plot_variance_explained | 1.319 | 0.016 | 1.335 | |
| plot_variance_explained_by_covariates | 0.959 | 0.052 | 1.012 | |
| plot_variance_explained_per_feature | 0.291 | 0.015 | 0.307 | |
| plot_weights | 2.027 | 0.060 | 2.087 | |
| plot_weights_heatmap | 0.323 | 0.024 | 0.347 | |
| plot_weights_scatter | 0.308 | 0.000 | 0.307 | |
| predict | 0.146 | 0.008 | 0.155 | |
| prepare_mofa | 0.557 | 0.012 | 0.569 | |
| run_mofa | 0.502 | 0.032 | 0.534 | |
| run_tsne | 0.161 | 0.012 | 0.172 | |
| run_umap | 0.134 | 0.012 | 0.146 | |
| samples_metadata | 0.611 | 0.048 | 0.659 | |
| samples_names | 0.128 | 0.012 | 0.140 | |
| set_covariates | 0.03 | 0.00 | 0.03 | |
| subset_factors | 0.155 | 0.004 | 0.159 | |
| subset_groups | 0.146 | 0.008 | 0.154 | |
| subset_samples | 0.142 | 0.000 | 0.142 | |
| subset_views | 0.136 | 0.004 | 0.140 | |
| views_names | 0.139 | 0.000 | 0.139 | |