| Back to Multiple platform build/check report for BioC 3.17 |
|
This page was generated on 2023-04-12 10:55:38 -0400 (Wed, 12 Apr 2023).
| Hostname | OS | Arch (*) | R version | Installed pkgs |
|---|---|---|---|---|
| nebbiolo1 | Linux (Ubuntu 22.04.1 LTS) | x86_64 | 4.3.0 alpha (2023-04-03 r84154) | 4547 |
| nebbiolo2 | Linux (Ubuntu 20.04.5 LTS) | x86_64 | R Under development (unstable) (2023-02-14 r83833) -- "Unsuffered Consequences" | 4333 |
| Click on any hostname to see more info about the system (e.g. compilers) (*) as reported by 'uname -p', except on Windows and Mac OS X | ||||
|
To the developers/maintainers of the MAGeCKFlute package: - Allow up to 24 hours (and sometimes 48 hours) for your latest push to git@git.bioconductor.org:packages/MAGeCKFlute.git to reflect on this report. See Troubleshooting Build Report for more information. - Use the following Renviron settings to reproduce errors and warnings. Note: If "R CMD check" recently failed on the Linux builder over a missing dependency, add the missing dependency to "Suggests" in your DESCRIPTION file. See the Renviron.bioc for details. |
| Package 1096/2207 | Hostname | OS / Arch | INSTALL | BUILD | CHECK | BUILD BIN | ||||||||
| MAGeCKFlute 2.3.0 (landing page) Wubing Zhang
| nebbiolo1 | Linux (Ubuntu 22.04.1 LTS) / x86_64 | OK | OK | OK | |||||||||
| nebbiolo2 | Linux (Ubuntu 20.04.5 LTS) / x86_64 | OK | OK | OK | ||||||||||
| Package: MAGeCKFlute |
| Version: 2.3.0 |
| Command: /home/biocbuild/bbs-3.17-bioc/R/bin/R CMD check --install=check:MAGeCKFlute.install-out.txt --library=/home/biocbuild/bbs-3.17-bioc/R/site-library --timings MAGeCKFlute_2.3.0.tar.gz |
| StartedAt: 2023-04-12 07:10:49 -0400 (Wed, 12 Apr 2023) |
| EndedAt: 2023-04-12 07:19:25 -0400 (Wed, 12 Apr 2023) |
| EllapsedTime: 516.5 seconds |
| RetCode: 0 |
| Status: OK |
| CheckDir: MAGeCKFlute.Rcheck |
| Warnings: 0 |
##############################################################################
##############################################################################
###
### Running command:
###
### /home/biocbuild/bbs-3.17-bioc/R/bin/R CMD check --install=check:MAGeCKFlute.install-out.txt --library=/home/biocbuild/bbs-3.17-bioc/R/site-library --timings MAGeCKFlute_2.3.0.tar.gz
###
##############################################################################
##############################################################################
* using log directory ‘/home/biocbuild/bbs-3.17-bioc/meat/MAGeCKFlute.Rcheck’
* using R Under development (unstable) (2023-02-14 r83833)
* using platform: x86_64-pc-linux-gnu (64-bit)
* R was compiled by
gcc (Ubuntu 9.4.0-1ubuntu1~20.04.1) 9.4.0
GNU Fortran (Ubuntu 9.4.0-1ubuntu1~20.04.1) 9.4.0
* running under: Ubuntu 20.04.6 LTS
* using session charset: UTF-8
* checking for file ‘MAGeCKFlute/DESCRIPTION’ ... OK
* checking extension type ... Package
* this is package ‘MAGeCKFlute’ version ‘2.3.0’
* package encoding: UTF-8
* checking package namespace information ... OK
* checking package dependencies ... OK
* checking if this is a source package ... OK
* checking if there is a namespace ... OK
* checking for hidden files and directories ... OK
* checking for portable file names ... OK
* checking for sufficient/correct file permissions ... OK
* checking whether package ‘MAGeCKFlute’ can be installed ... OK
* checking installed package size ... NOTE
installed size is 20.7Mb
sub-directories of 1Mb or more:
extdata 20.3Mb
* checking package directory ... OK
* checking ‘build’ directory ... OK
* checking DESCRIPTION meta-information ... OK
* checking top-level files ... OK
* checking for left-over files ... OK
* checking index information ... OK
* checking package subdirectories ... OK
* checking R files for non-ASCII characters ... OK
* checking R files for syntax errors ... OK
* checking whether the package can be loaded ... OK
* checking whether the package can be loaded with stated dependencies ... OK
* checking whether the package can be unloaded cleanly ... OK
* checking whether the namespace can be loaded with stated dependencies ... OK
* checking whether the namespace can be unloaded cleanly ... OK
* checking loading without being on the library search path ... OK
* checking dependencies in R code ... OK
* checking S3 generic/method consistency ... OK
* checking replacement functions ... OK
* checking foreign function calls ... OK
* checking R code for possible problems ... NOTE
EnrichedFilter: no visible global function definition for ‘is’
EnrichedGeneView: no visible global function definition for ‘is’
EnrichedView: no visible global function definition for ‘is’
EnrichedView: no visible global function definition for ‘slot’
enrich.HGT: no visible global function definition for ‘new’
Undefined global functions or variables:
is new slot
Consider adding
importFrom("methods", "is", "new", "slot")
to your NAMESPACE file (and ensure that your DESCRIPTION Imports field
contains 'methods').
* checking Rd files ... OK
* checking Rd metadata ... OK
* checking Rd cross-references ... OK
* checking for missing documentation entries ... OK
* checking for code/documentation mismatches ... OK
* checking Rd \usage sections ... OK
* checking Rd contents ... OK
* checking for unstated dependencies in examples ... OK
* checking files in ‘vignettes’ ... OK
* checking examples ... OK
Examples with CPU (user + system) or elapsed time > 5s
user system elapsed
MAView 11.029 0.276 11.306
enrich.ORT 5.272 0.044 5.317
BatchRemove 4.996 0.288 5.284
* checking for unstated dependencies in vignettes ... OK
* checking package vignettes in ‘inst/doc’ ... OK
* checking running R code from vignettes ...
‘MAGeCKFlute.Rmd’ using ‘UTF-8’... OK
‘MAGeCKFlute_enrichment.Rmd’ using ‘UTF-8’... OK
NONE
* checking re-building of vignette outputs ... OK
* checking PDF version of manual ... OK
* DONE
Status: 2 NOTEs
See
‘/home/biocbuild/bbs-3.17-bioc/meat/MAGeCKFlute.Rcheck/00check.log’
for details.
MAGeCKFlute.Rcheck/00install.out
############################################################################## ############################################################################## ### ### Running command: ### ### /home/biocbuild/bbs-3.17-bioc/R/bin/R CMD INSTALL MAGeCKFlute ### ############################################################################## ############################################################################## * installing to library ‘/home/biocbuild/bbs-3.17-bioc/R/site-library’ * installing *source* package ‘MAGeCKFlute’ ... ** using staged installation ** R ** inst ** byte-compile and prepare package for lazy loading ** help *** installing help indices ** building package indices ** installing vignettes ** testing if installed package can be loaded from temporary location ** testing if installed package can be loaded from final location ** testing if installed package keeps a record of temporary installation path * DONE (MAGeCKFlute)
MAGeCKFlute.Rcheck/MAGeCKFlute-Ex.timings
| name | user | system | elapsed | |
| BarView | 0.186 | 0.012 | 0.198 | |
| BatchRemove | 4.996 | 0.288 | 5.284 | |
| ConsistencyView | 1.237 | 0.060 | 1.298 | |
| CutoffCalling | 0.004 | 0.000 | 0.004 | |
| DensityDiffView | 1.315 | 0.064 | 1.379 | |
| DensityView | 1.077 | 0.020 | 1.097 | |
| EnrichAnalyzer | 0.012 | 0.000 | 0.012 | |
| EnrichedFilter | 0.006 | 0.004 | 0.010 | |
| EnrichedGeneView | 0.01 | 0.00 | 0.01 | |
| EnrichedView | 0.007 | 0.003 | 0.011 | |
| FluteMLE | 0.001 | 0.000 | 0.001 | |
| FluteRRA | 0.002 | 0.000 | 0.002 | |
| HeatmapView | 0.450 | 0.008 | 0.458 | |
| IdentBarView | 0.151 | 0.008 | 0.159 | |
| IncorporateDepmap | 0.169 | 0.008 | 0.177 | |
| MAView | 11.029 | 0.276 | 11.306 | |
| MapRatesView | 0.456 | 0.032 | 0.488 | |
| NormalizeBeta | 1.031 | 0.005 | 1.037 | |
| OmitCommonEssential | 0 | 0 | 0 | |
| RankView | 0.863 | 0.026 | 0.888 | |
| ReadBeta | 0.392 | 0.012 | 0.403 | |
| ReadRRA | 0.204 | 0.004 | 0.208 | |
| ReadsgRRA | 0.015 | 0.000 | 0.015 | |
| ResembleDepmap | 0.335 | 0.008 | 0.344 | |
| ScatterView | 3.567 | 0.052 | 3.619 | |
| Selector | 0.617 | 0.032 | 0.648 | |
| SquareView | 1.424 | 0.012 | 1.435 | |
| TransGeneID | 2.594 | 0.044 | 2.640 | |
| ViolinView | 2.378 | 0.104 | 2.481 | |
| VolcanoView | 2.186 | 0.036 | 2.222 | |
| arrangePathview | 0.429 | 0.012 | 0.441 | |
| enrich.GSE | 0.015 | 0.000 | 0.016 | |
| enrich.HGT | 3.623 | 0.108 | 3.732 | |
| enrich.ORT | 5.272 | 0.044 | 5.317 | |
| getCols | 0.007 | 0.000 | 0.007 | |
| getGeneAnn | 0 | 0 | 0 | |
| getOrg | 0.001 | 0.000 | 0.001 | |
| getOrtAnn | 0 | 0 | 0 | |
| gsGetter | 0.507 | 0.000 | 0.508 | |
| hclustView | 0.431 | 0.015 | 0.446 | |
| loadDepmap | 0 | 0 | 0 | |
| normalize.loess | 1.280 | 0.028 | 1.309 | |
| sgRankView | 0.194 | 0.028 | 0.222 | |
| writeGMT | 0.030 | 0.000 | 0.029 | |