| Back to Multiple platform build/check report for BioC 3.17 | 
 | 
This page was generated on 2023-04-12 10:55:26 -0400 (Wed, 12 Apr 2023).
| Hostname | OS | Arch (*) | R version | Installed pkgs | 
|---|---|---|---|---|
| nebbiolo1 | Linux (Ubuntu 22.04.1 LTS) | x86_64 | 4.3.0 alpha (2023-04-03 r84154) | 4547 | 
| nebbiolo2 | Linux (Ubuntu 20.04.5 LTS) | x86_64 | R Under development (unstable) (2023-02-14 r83833) -- "Unsuffered Consequences" | 4333 | 
| Click on any hostname to see more info about the system (e.g. compilers) (*) as reported by 'uname -p', except on Windows and Mac OS X | ||||
| To the developers/maintainers of the LOLA package: - Allow up to 24 hours (and sometimes 48 hours) for your latest push to git@git.bioconductor.org:packages/LOLA.git to reflect on this report. See Troubleshooting Build Report for more information. - Use the following Renviron settings to reproduce errors and warnings. Note: If "R CMD check" recently failed on the Linux builder over a missing dependency, add the missing dependency to "Suggests" in your DESCRIPTION file. See the Renviron.bioc for details. | 
| Package 1071/2207 | Hostname | OS / Arch | INSTALL | BUILD | CHECK | BUILD BIN | ||||||||
| LOLA 1.29.0  (landing page) Nathan Sheffield 
 | nebbiolo1 | Linux (Ubuntu 22.04.1 LTS) / x86_64 | OK | OK | OK | |||||||||
| nebbiolo2 | Linux (Ubuntu 20.04.5 LTS) / x86_64 | OK | OK | OK | ||||||||||
| Package: LOLA | 
| Version: 1.29.0 | 
| Command: /home/biocbuild/bbs-3.17-bioc/R/bin/R CMD check --install=check:LOLA.install-out.txt --library=/home/biocbuild/bbs-3.17-bioc/R/site-library --timings LOLA_1.29.0.tar.gz | 
| StartedAt: 2023-04-11 21:14:25 -0400 (Tue, 11 Apr 2023) | 
| EndedAt: 2023-04-11 21:16:13 -0400 (Tue, 11 Apr 2023) | 
| EllapsedTime: 108.3 seconds | 
| RetCode: 0 | 
| Status: OK | 
| CheckDir: LOLA.Rcheck | 
| Warnings: 0 | 
##############################################################################
##############################################################################
###
### Running command:
###
###   /home/biocbuild/bbs-3.17-bioc/R/bin/R CMD check --install=check:LOLA.install-out.txt --library=/home/biocbuild/bbs-3.17-bioc/R/site-library --timings LOLA_1.29.0.tar.gz
###
##############################################################################
##############################################################################
* using log directory ‘/home/biocbuild/bbs-3.17-bioc/meat/LOLA.Rcheck’
* using R version 4.3.0 alpha (2023-04-03 r84154)
* using platform: x86_64-pc-linux-gnu (64-bit)
* R was compiled by
    gcc (Ubuntu 11.3.0-1ubuntu1~22.04) 11.3.0
    GNU Fortran (Ubuntu 11.3.0-1ubuntu1~22.04) 11.3.0
* running under: Ubuntu 22.04.2 LTS
* using session charset: UTF-8
* checking for file ‘LOLA/DESCRIPTION’ ... OK
* this is package ‘LOLA’ version ‘1.29.0’
* checking package namespace information ... OK
* checking package dependencies ... OK
* checking if this is a source package ... OK
* checking if there is a namespace ... OK
* checking for hidden files and directories ... OK
* checking for portable file names ... OK
* checking for sufficient/correct file permissions ... OK
* checking whether package ‘LOLA’ can be installed ... OK
* checking installed package size ... OK
* checking package directory ... OK
* checking ‘build’ directory ... OK
* checking DESCRIPTION meta-information ... OK
* checking top-level files ... OK
* checking for left-over files ... OK
* checking index information ... OK
* checking package subdirectories ... OK
* checking R files for non-ASCII characters ... OK
* checking R files for syntax errors ... OK
* checking whether the package can be loaded ... OK
* checking whether the package can be loaded with stated dependencies ... OK
* checking whether the package can be unloaded cleanly ... OK
* checking whether the namespace can be loaded with stated dependencies ... OK
* checking whether the namespace can be unloaded cleanly ... OK
* checking loading without being on the library search path ... OK
* checking dependencies in R code ... OK
* checking S3 generic/method consistency ... OK
* checking replacement functions ... OK
* checking foreign function calls ... OK
* checking R code for possible problems ... OK
* checking Rd files ... OK
* checking Rd metadata ... OK
* checking Rd cross-references ... OK
* checking for missing documentation entries ... OK
* checking for code/documentation mismatches ... OK
* checking Rd \usage sections ... OK
* checking Rd contents ... OK
* checking for unstated dependencies in examples ... OK
* checking contents of ‘data’ directory ... OK
* checking data for non-ASCII characters ... OK
* checking data for ASCII and uncompressed saves ... OK
* checking files in ‘vignettes’ ... OK
* checking examples ... OK
* checking for unstated dependencies in ‘tests’ ... OK
* checking tests ...
  Running ‘testthat.R’
 OK
* checking for unstated dependencies in vignettes ... OK
* checking package vignettes in ‘inst/doc’ ... OK
* checking running R code from vignettes ...
  ‘choosingUniverse.Rmd’ using ‘UTF-8’... OK
  ‘gettingStarted.Rmd’ using ‘UTF-8’... OK
  ‘usingLOLACore.Rmd’ using ‘UTF-8’... OK
 NONE
* checking re-building of vignette outputs ... OK
* checking PDF version of manual ... OK
* DONE
Status: OK
LOLA.Rcheck/00install.out
############################################################################## ############################################################################## ### ### Running command: ### ### /home/biocbuild/bbs-3.17-bioc/R/bin/R CMD INSTALL LOLA ### ############################################################################## ############################################################################## * installing to library ‘/home/biocbuild/bbs-3.17-bioc/R/site-library’ * installing *source* package ‘LOLA’ ... ** using staged installation ** R ** data ** inst ** byte-compile and prepare package for lazy loading ** help *** installing help indices *** copying figures ** building package indices ** installing vignettes ** testing if installed package can be loaded from temporary location ** testing if installed package can be loaded from final location ** testing if installed package keeps a record of temporary installation path * DONE (LOLA)
LOLA.Rcheck/tests/testthat.Rout
R version 4.3.0 alpha (2023-04-03 r84154)
Copyright (C) 2023 The R Foundation for Statistical Computing
Platform: x86_64-pc-linux-gnu (64-bit)
R is free software and comes with ABSOLUTELY NO WARRANTY.
You are welcome to redistribute it under certain conditions.
Type 'license()' or 'licence()' for distribution details.
R is a collaborative project with many contributors.
Type 'contributors()' for more information and
'citation()' on how to cite R or R packages in publications.
Type 'demo()' for some demos, 'help()' for on-line help, or
'help.start()' for an HTML browser interface to help.
Type 'q()' to quit R.
> library(testthat)
> library(LOLA)
> 
> test_check("LOLA")
[ FAIL 0 | WARN 15 | SKIP 0 | PASS 34 ]
[ FAIL 0 | WARN 15 | SKIP 0 | PASS 34 ]
> 
> proc.time()
   user  system elapsed 
  7.898   0.318   8.204 
LOLA.Rcheck/LOLA-Ex.timings
| name | user | system | elapsed | |
| buildRestrictedUniverse | 0.332 | 0.016 | 0.349 | |
| checkUniverseAppropriateness | 0.129 | 0.008 | 0.138 | |
| extractEnrichmentOverlaps | 1.583 | 0.022 | 1.608 | |
| getRegionFile | 1.448 | 0.025 | 1.473 | |
| getRegionSet | 1.417 | 0.023 | 1.439 | |
| listRegionSets | 0.018 | 0.006 | 0.024 | |
| loadRegionDB | 0.311 | 0.005 | 0.317 | |
| mergeRegionDBs | 0.349 | 0.002 | 0.350 | |
| plotTopLOLAEnrichments | 1.344 | 0.043 | 1.387 | |
| readBed | 0.015 | 0.000 | 0.015 | |
| readCollection | 0.183 | 0.000 | 0.183 | |
| readCollectionAnnotation | 0.004 | 0.000 | 0.004 | |
| readCollectionFiles | 0.009 | 0.000 | 0.009 | |
| readRegionGRL | 0.599 | 0.025 | 0.625 | |
| readRegionSetAnnotation | 0.019 | 0.001 | 0.020 | |
| redefineUserSets | 1.324 | 0.018 | 1.341 | |
| runLOLA | 1.386 | 0.004 | 1.390 | |
| setSharedDataDir | 0.000 | 0.000 | 0.001 | |
| splitFileIntoCollection | 0.007 | 0.000 | 0.007 | |
| userSets | 0 | 0 | 0 | |
| writeCombinedEnrichment | 1.360 | 0.021 | 1.383 | |