| Back to Multiple platform build/check report for BioC 3.17 |
|
This page was generated on 2023-04-12 10:55:26 -0400 (Wed, 12 Apr 2023).
| Hostname | OS | Arch (*) | R version | Installed pkgs |
|---|---|---|---|---|
| nebbiolo1 | Linux (Ubuntu 22.04.1 LTS) | x86_64 | 4.3.0 alpha (2023-04-03 r84154) | 4547 |
| nebbiolo2 | Linux (Ubuntu 20.04.5 LTS) | x86_64 | R Under development (unstable) (2023-02-14 r83833) -- "Unsuffered Consequences" | 4333 |
| Click on any hostname to see more info about the system (e.g. compilers) (*) as reported by 'uname -p', except on Windows and Mac OS X | ||||
|
To the developers/maintainers of the IntEREst package: - Allow up to 24 hours (and sometimes 48 hours) for your latest push to git@git.bioconductor.org:packages/IntEREst.git to reflect on this report. See Troubleshooting Build Report for more information. - Use the following Renviron settings to reproduce errors and warnings. Note: If "R CMD check" recently failed on the Linux builder over a missing dependency, add the missing dependency to "Suggests" in your DESCRIPTION file. See the Renviron.bioc for details. |
| Package 1002/2207 | Hostname | OS / Arch | INSTALL | BUILD | CHECK | BUILD BIN | ||||||||
| IntEREst 1.23.10 (landing page) Ali Oghabian
| nebbiolo1 | Linux (Ubuntu 22.04.1 LTS) / x86_64 | OK | OK | OK | |||||||||
| nebbiolo2 | Linux (Ubuntu 20.04.5 LTS) / x86_64 | OK | OK | OK | ||||||||||
| Package: IntEREst |
| Version: 1.23.10 |
| Command: /home/biocbuild/bbs-3.17-bioc/R/bin/R CMD check --install=check:IntEREst.install-out.txt --library=/home/biocbuild/bbs-3.17-bioc/R/site-library --timings IntEREst_1.23.10.tar.gz |
| StartedAt: 2023-04-11 21:03:56 -0400 (Tue, 11 Apr 2023) |
| EndedAt: 2023-04-11 21:10:34 -0400 (Tue, 11 Apr 2023) |
| EllapsedTime: 398.1 seconds |
| RetCode: 0 |
| Status: OK |
| CheckDir: IntEREst.Rcheck |
| Warnings: 0 |
##############################################################################
##############################################################################
###
### Running command:
###
### /home/biocbuild/bbs-3.17-bioc/R/bin/R CMD check --install=check:IntEREst.install-out.txt --library=/home/biocbuild/bbs-3.17-bioc/R/site-library --timings IntEREst_1.23.10.tar.gz
###
##############################################################################
##############################################################################
* using log directory ‘/home/biocbuild/bbs-3.17-bioc/meat/IntEREst.Rcheck’
* using R version 4.3.0 alpha (2023-04-03 r84154)
* using platform: x86_64-pc-linux-gnu (64-bit)
* R was compiled by
gcc (Ubuntu 11.3.0-1ubuntu1~22.04) 11.3.0
GNU Fortran (Ubuntu 11.3.0-1ubuntu1~22.04) 11.3.0
* running under: Ubuntu 22.04.2 LTS
* using session charset: UTF-8
* checking for file ‘IntEREst/DESCRIPTION’ ... OK
* this is package ‘IntEREst’ version ‘1.23.10’
* checking package namespace information ... OK
* checking package dependencies ... NOTE
Depends: includes the non-default packages:
'GenomicRanges', 'Rsamtools', 'SummarizedExperiment', 'edgeR',
'S4Vectors', 'GenomicFiles'
Adding so many packages to the search path is excessive and importing
selectively is preferable.
* checking if this is a source package ... OK
* checking if there is a namespace ... OK
* checking for hidden files and directories ... OK
* checking for portable file names ... OK
* checking for sufficient/correct file permissions ... OK
* checking whether package ‘IntEREst’ can be installed ... OK
* checking installed package size ... OK
* checking package directory ... OK
* checking ‘build’ directory ... OK
* checking DESCRIPTION meta-information ... OK
* checking top-level files ... OK
* checking for left-over files ... OK
* checking index information ... OK
* checking package subdirectories ... OK
* checking R files for non-ASCII characters ... OK
* checking R files for syntax errors ... OK
* checking whether the package can be loaded ... OK
* checking whether the package can be loaded with stated dependencies ... OK
* checking whether the package can be unloaded cleanly ... OK
* checking whether the namespace can be loaded with stated dependencies ... OK
* checking whether the namespace can be unloaded cleanly ... OK
* checking loading without being on the library search path ... OK
* checking dependencies in R code ... OK
* checking S3 generic/method consistency ... OK
* checking replacement functions ... OK
* checking foreign function calls ... OK
* checking R code for possible problems ... NOTE
interestIntExAnalysePairStranded: no visible binding for global
variable ‘readGRangesM2’
interestIntExAnalyseSingleStranded: no visible global function
definition for ‘bamFlagAsBitMatrix’
Undefined global functions or variables:
bamFlagAsBitMatrix readGRangesM2
* checking Rd files ... OK
* checking Rd metadata ... OK
* checking Rd cross-references ... OK
* checking for missing documentation entries ... OK
* checking for code/documentation mismatches ... OK
* checking Rd \usage sections ... OK
* checking Rd contents ... OK
* checking for unstated dependencies in examples ... OK
* checking contents of ‘data’ directory ... OK
* checking data for non-ASCII characters ... OK
* checking LazyData ... OK
* checking data for ASCII and uncompressed saves ... OK
* checking files in ‘vignettes’ ... OK
* checking examples ... OK
Examples with CPU (user + system) or elapsed time > 5s
user system elapsed
DEXSeqIntEREst 21.203 0.608 21.811
* checking for unstated dependencies in vignettes ... OK
* checking package vignettes in ‘inst/doc’ ... OK
* checking running R code from vignettes ...
‘IntEREst.Rmd’ using ‘UTF-8’... OK
NONE
* checking re-building of vignette outputs ... OK
* checking PDF version of manual ... OK
* DONE
Status: 2 NOTEs
See
‘/home/biocbuild/bbs-3.17-bioc/meat/IntEREst.Rcheck/00check.log’
for details.
IntEREst.Rcheck/00install.out
############################################################################## ############################################################################## ### ### Running command: ### ### /home/biocbuild/bbs-3.17-bioc/R/bin/R CMD INSTALL IntEREst ### ############################################################################## ############################################################################## * installing to library ‘/home/biocbuild/bbs-3.17-bioc/R/site-library’ * installing *source* package ‘IntEREst’ ... ** using staged installation ** R ** data *** moving datasets to lazyload DB ** inst ** byte-compile and prepare package for lazy loading ** help *** installing help indices ** building package indices ** installing vignettes ** testing if installed package can be loaded from temporary location ** testing if installed package can be loaded from final location ** testing if installed package keeps a record of temporary installation path * DONE (IntEREst)
IntEREst.Rcheck/IntEREst-Ex.timings
| name | user | system | elapsed | |
| DEXSeqIntEREst | 21.203 | 0.608 | 21.811 | |
| addAnnotation | 0.032 | 0.000 | 0.032 | |
| annotateU12 | 1.91 | 0.10 | 2.01 | |
| applyOverlap | 0.135 | 0.000 | 0.134 | |
| attributes | 0.017 | 0.003 | 0.021 | |
| boxplot-method | 0.047 | 0.000 | 0.047 | |
| buildSsTypePwms | 0.001 | 0.000 | 0.000 | |
| counts-method | 0.014 | 0.012 | 0.025 | |
| deseqInterest | 4.268 | 0.068 | 4.337 | |
| exactTestInterest | 0.082 | 0.004 | 0.087 | |
| getRepeatTable | 0.000 | 0.000 | 0.001 | |
| glmInterest | 0.101 | 0.000 | 0.102 | |
| interest | 1.238 | 0.023 | 1.263 | |
| interest.sequential | 1.116 | 0.048 | 1.164 | |
| interestResult | 0.013 | 0.003 | 0.017 | |
| interestResultIntEx | 0.156 | 0.000 | 0.157 | |
| intexIndex | 0.003 | 0.000 | 0.003 | |
| lfc | 0.181 | 0.008 | 0.188 | |
| mergeInterestResult | 0.062 | 0.000 | 0.062 | |
| plot-method | 0.271 | 0.011 | 0.282 | |
| psi | 0.645 | 0.001 | 0.645 | |
| qlfInterest | 0.193 | 0.003 | 0.197 | |
| readInterestResults | 0.029 | 0.001 | 0.029 | |
| referencePrepare | 1.002 | 0.011 | 1.014 | |
| subInterestResult | 0.031 | 0.001 | 0.031 | |
| treatInterest | 0.091 | 0.012 | 0.104 | |
| u12Boxplot | 0.090 | 0.002 | 0.092 | |
| u12BoxplotNb | 0.062 | 0.000 | 0.062 | |
| u12DensityPlot | 0.195 | 0.000 | 0.196 | |
| u12Index | 0.005 | 0.000 | 0.005 | |
| u12NbIndex | 0.04 | 0.00 | 0.04 | |
| unionRefTr | 0.012 | 0.000 | 0.012 | |
| updateRowDataCol | 0.044 | 0.000 | 0.044 | |