| Back to Multiple platform build/check report for BioC 3.17 |
|
This page was generated on 2023-04-12 10:55:37 -0400 (Wed, 12 Apr 2023).
| Hostname | OS | Arch (*) | R version | Installed pkgs |
|---|---|---|---|---|
| nebbiolo1 | Linux (Ubuntu 22.04.1 LTS) | x86_64 | 4.3.0 alpha (2023-04-03 r84154) | 4547 |
| nebbiolo2 | Linux (Ubuntu 20.04.5 LTS) | x86_64 | R Under development (unstable) (2023-02-14 r83833) -- "Unsuffered Consequences" | 4333 |
| Click on any hostname to see more info about the system (e.g. compilers) (*) as reported by 'uname -p', except on Windows and Mac OS X | ||||
|
To the developers/maintainers of the HiLDA package: - Allow up to 24 hours (and sometimes 48 hours) for your latest push to git@git.bioconductor.org:packages/HiLDA.git to reflect on this report. See Troubleshooting Build Report for more information. - Use the following Renviron settings to reproduce errors and warnings. Note: If "R CMD check" recently failed on the Linux builder over a missing dependency, add the missing dependency to "Suggests" in your DESCRIPTION file. See the Renviron.bioc for details. |
| Package 929/2207 | Hostname | OS / Arch | INSTALL | BUILD | CHECK | BUILD BIN | ||||||||
| HiLDA 1.13.0 (landing page) Zhi Yang
| nebbiolo1 | Linux (Ubuntu 22.04.1 LTS) / x86_64 | OK | OK | OK | |||||||||
| nebbiolo2 | Linux (Ubuntu 20.04.5 LTS) / x86_64 | OK | OK | OK | ||||||||||
| Package: HiLDA |
| Version: 1.13.0 |
| Command: /home/biocbuild/bbs-3.17-bioc/R/bin/R CMD check --install=check:HiLDA.install-out.txt --library=/home/biocbuild/bbs-3.17-bioc/R/site-library --timings HiLDA_1.13.0.tar.gz |
| StartedAt: 2023-04-12 06:49:35 -0400 (Wed, 12 Apr 2023) |
| EndedAt: 2023-04-12 06:56:19 -0400 (Wed, 12 Apr 2023) |
| EllapsedTime: 404.3 seconds |
| RetCode: 0 |
| Status: OK |
| CheckDir: HiLDA.Rcheck |
| Warnings: 0 |
##############################################################################
##############################################################################
###
### Running command:
###
### /home/biocbuild/bbs-3.17-bioc/R/bin/R CMD check --install=check:HiLDA.install-out.txt --library=/home/biocbuild/bbs-3.17-bioc/R/site-library --timings HiLDA_1.13.0.tar.gz
###
##############################################################################
##############################################################################
* using log directory ‘/home/biocbuild/bbs-3.17-bioc/meat/HiLDA.Rcheck’
* using R Under development (unstable) (2023-02-14 r83833)
* using platform: x86_64-pc-linux-gnu (64-bit)
* R was compiled by
gcc (Ubuntu 9.4.0-1ubuntu1~20.04.1) 9.4.0
GNU Fortran (Ubuntu 9.4.0-1ubuntu1~20.04.1) 9.4.0
* running under: Ubuntu 20.04.6 LTS
* using session charset: UTF-8
* checking for file ‘HiLDA/DESCRIPTION’ ... OK
* checking extension type ... Package
* this is package ‘HiLDA’ version ‘1.13.0’
* package encoding: UTF-8
* checking package namespace information ... OK
* checking package dependencies ... OK
* checking if this is a source package ... OK
* checking if there is a namespace ... OK
* checking for hidden files and directories ... OK
* checking for portable file names ... OK
* checking for sufficient/correct file permissions ... OK
* checking whether package ‘HiLDA’ can be installed ... OK
* used C++ compiler: ‘g++ (Ubuntu 9.4.0-1ubuntu1~20.04.1) 9.4.0’
* checking installed package size ... OK
* checking package directory ... OK
* checking ‘build’ directory ... OK
* checking DESCRIPTION meta-information ... OK
* checking top-level files ... OK
* checking for left-over files ... OK
* checking index information ... OK
* checking package subdirectories ... OK
* checking R files for non-ASCII characters ... OK
* checking R files for syntax errors ... OK
* checking whether the package can be loaded ... OK
* checking whether the package can be loaded with stated dependencies ... OK
* checking whether the package can be unloaded cleanly ... OK
* checking whether the namespace can be loaded with stated dependencies ... OK
* checking whether the namespace can be unloaded cleanly ... OK
* checking loading without being on the library search path ... OK
* checking dependencies in R code ... OK
* checking S3 generic/method consistency ... OK
* checking replacement functions ... OK
* checking foreign function calls ... OK
* checking R code for possible problems ... OK
* checking Rd files ... OK
* checking Rd metadata ... OK
* checking Rd cross-references ... OK
* checking for missing documentation entries ... OK
* checking for code/documentation mismatches ... OK
* checking Rd \usage sections ... OK
* checking Rd contents ... OK
* checking for unstated dependencies in examples ... OK
* checking line endings in C/C++/Fortran sources/headers ... OK
* checking compiled code ... NOTE
Note: information on .o files is not available
* checking files in ‘vignettes’ ... OK
* checking examples ... OK
Examples with CPU (user + system) or elapsed time > 5s
user system elapsed
hildaTest 88.452 0.360 91.188
hildaGlobalResult 47.756 0.103 47.865
hildaReadMPFile 15.354 0.592 15.947
* checking for unstated dependencies in ‘tests’ ... OK
* checking tests ...
Running ‘testthat.R’
OK
* checking for unstated dependencies in vignettes ... OK
* checking package vignettes in ‘inst/doc’ ... OK
* checking running R code from vignettes ...
‘HiLDA.Rmd’ using ‘UTF-8’... OK
NONE
* checking re-building of vignette outputs ... OK
* checking PDF version of manual ... OK
* DONE
Status: 1 NOTE
See
‘/home/biocbuild/bbs-3.17-bioc/meat/HiLDA.Rcheck/00check.log’
for details.
HiLDA.Rcheck/00install.out
############################################################################## ############################################################################## ### ### Running command: ### ### /home/biocbuild/bbs-3.17-bioc/R/bin/R CMD INSTALL HiLDA ### ############################################################################## ############################################################################## * installing to library ‘/home/biocbuild/bbs-3.17-bioc/R/site-library’ * installing *source* package ‘HiLDA’ ... ** using staged installation ** libs using C++ compiler: ‘g++ (Ubuntu 9.4.0-1ubuntu1~20.04.1) 9.4.0’ g++ -std=gnu++17 -I"/home/biocbuild/bbs-3.17-bioc/R/include" -DNDEBUG -I'/home/biocbuild/bbs-3.17-bioc/R/site-library/Rcpp/include' -I/usr/local/include -fpic -g -O2 -Wall -c EMalgorithm.cpp -o EMalgorithm.o g++ -std=gnu++17 -I"/home/biocbuild/bbs-3.17-bioc/R/include" -DNDEBUG -I'/home/biocbuild/bbs-3.17-bioc/R/site-library/Rcpp/include' -I/usr/local/include -fpic -g -O2 -Wall -c RcppExports.cpp -o RcppExports.o g++ -std=gnu++17 -I"/home/biocbuild/bbs-3.17-bioc/R/include" -DNDEBUG -I'/home/biocbuild/bbs-3.17-bioc/R/site-library/Rcpp/include' -I/usr/local/include -fpic -g -O2 -Wall -c checkBoundary.cpp -o checkBoundary.o g++ -std=gnu++17 -I"/home/biocbuild/bbs-3.17-bioc/R/include" -DNDEBUG -I'/home/biocbuild/bbs-3.17-bioc/R/site-library/Rcpp/include' -I/usr/local/include -fpic -g -O2 -Wall -c convertFromToVector.cpp -o convertFromToVector.o g++ -std=gnu++17 -shared -L/home/biocbuild/bbs-3.17-bioc/R/lib -L/usr/local/lib -o HiLDA.so EMalgorithm.o RcppExports.o checkBoundary.o convertFromToVector.o -L/home/biocbuild/bbs-3.17-bioc/R/lib -lR installing to /home/biocbuild/bbs-3.17-bioc/R/site-library/00LOCK-HiLDA/00new/HiLDA/libs ** R ** inst ** byte-compile and prepare package for lazy loading ** help *** installing help indices ** building package indices ** installing vignettes ** testing if installed package can be loaded from temporary location ** checking absolute paths in shared objects and dynamic libraries ** testing if installed package can be loaded from final location ** testing if installed package keeps a record of temporary installation path * DONE (HiLDA)
HiLDA.Rcheck/tests/testthat.Rout
R Under development (unstable) (2023-02-14 r83833) -- "Unsuffered Consequences"
Copyright (C) 2023 The R Foundation for Statistical Computing
Platform: x86_64-pc-linux-gnu (64-bit)
R is free software and comes with ABSOLUTELY NO WARRANTY.
You are welcome to redistribute it under certain conditions.
Type 'license()' or 'licence()' for distribution details.
R is a collaborative project with many contributors.
Type 'contributors()' for more information and
'citation()' on how to cite R or R packages in publications.
Type 'demo()' for some demos, 'help()' for on-line help, or
'help.start()' for an HTML browser interface to help.
Type 'q()' to quit R.
> library(testthat)
> library(HiLDA)
Loading required package: ggplot2
>
> test_check("HiLDA")
#trial: 1; #iteration: 30; time(s): 0.05; convergence: TRUE; loglikelihood: -8202.3184
#trial: 2; #iteration: 67; time(s): 0.11; convergence: TRUE; loglikelihood: -8202.3184
#trial: 3; #iteration: 14; time(s): 0.02; convergence: TRUE; loglikelihood: -8202.3184
#trial: 4; #iteration: 17; time(s): 0.02; convergence: TRUE; loglikelihood: -8202.3323
#trial: 5; #iteration: 63; time(s): 0.08; convergence: TRUE; loglikelihood: -8202.3199
#trial: 6; #iteration: 17; time(s): 0.03; convergence: TRUE; loglikelihood: -8202.3185
#trial: 7; #iteration: 16; time(s): 0.02; convergence: TRUE; loglikelihood: -8202.3186
#trial: 8; #iteration: 13; time(s): 0.02; convergence: TRUE; loglikelihood: -8202.3184
#trial: 9; #iteration: 16; time(s): 0.02; convergence: TRUE; loglikelihood: -8202.3188
#trial: 10; #iteration: 15; time(s): 0.03; convergence: TRUE; loglikelihood: -8202.3185
[ FAIL 0 | WARN 2 | SKIP 0 | PASS 4 ]
[ FAIL 0 | WARN 2 | SKIP 0 | PASS 4 ]
>
> proc.time()
user system elapsed
2.397 0.138 2.521
HiLDA.Rcheck/HiLDA-Ex.timings
| name | user | system | elapsed | |
| hildaBarplot | 1.078 | 0.011 | 1.091 | |
| hildaDiffPlot | 0.669 | 0.001 | 0.669 | |
| hildaGlobalResult | 47.756 | 0.103 | 47.865 | |
| hildaLocalResult | 0.019 | 0.000 | 0.019 | |
| hildaPlotSignature | 0.421 | 0.008 | 0.429 | |
| hildaReadMPFile | 15.354 | 0.592 | 15.947 | |
| hildaRhat | 0.019 | 0.000 | 0.019 | |
| hildaTest | 88.452 | 0.360 | 91.188 | |
| pmBarplot | 1.026 | 0.060 | 1.085 | |
| pmMultiBarplot | 0.977 | 0.024 | 1.002 | |
| pmPlotSignature | 0.787 | 0.020 | 0.934 | |
| pmgetSignature | 0.340 | 0.008 | 0.347 | |
| visPMS | 0.409 | 0.004 | 0.412 | |