| Back to Multiple platform build/check report for BioC 3.17 |
|
This page was generated on 2023-04-12 10:55:37 -0400 (Wed, 12 Apr 2023).
| Hostname | OS | Arch (*) | R version | Installed pkgs |
|---|---|---|---|---|
| nebbiolo1 | Linux (Ubuntu 22.04.1 LTS) | x86_64 | 4.3.0 alpha (2023-04-03 r84154) | 4547 |
| nebbiolo2 | Linux (Ubuntu 20.04.5 LTS) | x86_64 | R Under development (unstable) (2023-02-14 r83833) -- "Unsuffered Consequences" | 4333 |
| Click on any hostname to see more info about the system (e.g. compilers) (*) as reported by 'uname -p', except on Windows and Mac OS X | ||||
|
To the developers/maintainers of the HiCExperiment package: - Allow up to 24 hours (and sometimes 48 hours) for your latest push to git@git.bioconductor.org:packages/HiCExperiment.git to reflect on this report. See Troubleshooting Build Report for more information. - Use the following Renviron settings to reproduce errors and warnings. Note: If "R CMD check" recently failed on the Linux builder over a missing dependency, add the missing dependency to "Suggests" in your DESCRIPTION file. See the Renviron.bioc for details. |
| Package 921/2207 | Hostname | OS / Arch | INSTALL | BUILD | CHECK | BUILD BIN | ||||||||
| HiCExperiment 0.99.13 (landing page) Jacques Serizay
| nebbiolo1 | Linux (Ubuntu 22.04.1 LTS) / x86_64 | OK | OK | OK | |||||||||
| nebbiolo2 | Linux (Ubuntu 20.04.5 LTS) / x86_64 | OK | OK | OK | ||||||||||
| Package: HiCExperiment |
| Version: 0.99.13 |
| Command: /home/biocbuild/bbs-3.17-bioc/R/bin/R CMD check --install=check:HiCExperiment.install-out.txt --library=/home/biocbuild/bbs-3.17-bioc/R/site-library --timings HiCExperiment_0.99.13.tar.gz |
| StartedAt: 2023-04-12 06:48:08 -0400 (Wed, 12 Apr 2023) |
| EndedAt: 2023-04-12 06:57:29 -0400 (Wed, 12 Apr 2023) |
| EllapsedTime: 561.7 seconds |
| RetCode: 0 |
| Status: OK |
| CheckDir: HiCExperiment.Rcheck |
| Warnings: 0 |
##############################################################################
##############################################################################
###
### Running command:
###
### /home/biocbuild/bbs-3.17-bioc/R/bin/R CMD check --install=check:HiCExperiment.install-out.txt --library=/home/biocbuild/bbs-3.17-bioc/R/site-library --timings HiCExperiment_0.99.13.tar.gz
###
##############################################################################
##############################################################################
* using log directory ‘/home/biocbuild/bbs-3.17-bioc/meat/HiCExperiment.Rcheck’
* using R Under development (unstable) (2023-02-14 r83833)
* using platform: x86_64-pc-linux-gnu (64-bit)
* R was compiled by
gcc (Ubuntu 9.4.0-1ubuntu1~20.04.1) 9.4.0
GNU Fortran (Ubuntu 9.4.0-1ubuntu1~20.04.1) 9.4.0
* running under: Ubuntu 20.04.6 LTS
* using session charset: UTF-8
* checking for file ‘HiCExperiment/DESCRIPTION’ ... OK
* this is package ‘HiCExperiment’ version ‘0.99.13’
* package encoding: UTF-8
* checking package namespace information ... OK
* checking package dependencies ... OK
* checking if this is a source package ... OK
* checking if there is a namespace ... OK
* checking for hidden files and directories ... OK
* checking for portable file names ... OK
* checking for sufficient/correct file permissions ... OK
* checking whether package ‘HiCExperiment’ can be installed ... OK
* checking installed package size ... OK
* checking package directory ... OK
* checking ‘build’ directory ... OK
* checking DESCRIPTION meta-information ... OK
* checking top-level files ... OK
* checking for left-over files ... OK
* checking index information ... OK
* checking package subdirectories ... OK
* checking R files for non-ASCII characters ... OK
* checking R files for syntax errors ... OK
* checking whether the package can be loaded ... OK
* checking whether the package can be loaded with stated dependencies ... OK
* checking whether the package can be unloaded cleanly ... OK
* checking whether the namespace can be loaded with stated dependencies ... OK
* checking whether the namespace can be unloaded cleanly ... OK
* checking loading without being on the library search path ... OK
* checking dependencies in R code ... OK
* checking S3 generic/method consistency ... OK
* checking replacement functions ... OK
* checking foreign function calls ... NOTE
Foreign function call to a different package:
.Call("_H5Fis_hdf5", ..., PACKAGE = "rhdf5")
See chapter ‘System and foreign language interfaces’ in the ‘Writing R
Extensions’ manual.
* checking R code for possible problems ... OK
* checking Rd files ... OK
* checking Rd metadata ... OK
* checking Rd cross-references ... OK
* checking for missing documentation entries ... OK
* checking for code/documentation mismatches ... OK
* checking Rd \usage sections ... OK
* checking Rd contents ... OK
* checking for unstated dependencies in examples ... OK
* checking contents of ‘data’ directory ... OK
* checking data for non-ASCII characters ... OK
* checking data for ASCII and uncompressed saves ... OK
* checking files in ‘vignettes’ ... OK
* checking examples ... OK
Examples with CPU (user + system) or elapsed time > 5s
user system elapsed
import-methods 29.222 2.278 25.015
HiCExperiment 19.260 1.532 21.870
AggrHiCExperiment 13.153 1.290 14.677
HicproFile-class 5.599 0.599 7.304
* checking for unstated dependencies in ‘tests’ ... OK
* checking tests ...
Running ‘testthat.R’
OK
* checking for unstated dependencies in vignettes ... OK
* checking package vignettes in ‘inst/doc’ ... OK
* checking running R code from vignettes ...
‘HiCExperiment.Rmd’ using ‘UTF-8’... OK
NONE
* checking re-building of vignette outputs ... OK
* checking PDF version of manual ... OK
* DONE
Status: 1 NOTE
See
‘/home/biocbuild/bbs-3.17-bioc/meat/HiCExperiment.Rcheck/00check.log’
for details.
HiCExperiment.Rcheck/00install.out
############################################################################## ############################################################################## ### ### Running command: ### ### /home/biocbuild/bbs-3.17-bioc/R/bin/R CMD INSTALL HiCExperiment ### ############################################################################## ############################################################################## * installing to library ‘/home/biocbuild/bbs-3.17-bioc/R/site-library’ * installing *source* package ‘HiCExperiment’ ... ** using staged installation ** R ** data ** inst ** byte-compile and prepare package for lazy loading ** help *** installing help indices *** copying figures ** building package indices ** installing vignettes ** testing if installed package can be loaded from temporary location ** testing if installed package can be loaded from final location ** testing if installed package keeps a record of temporary installation path * DONE (HiCExperiment)
HiCExperiment.Rcheck/tests/testthat.Rout
R Under development (unstable) (2023-02-14 r83833) -- "Unsuffered Consequences"
Copyright (C) 2023 The R Foundation for Statistical Computing
Platform: x86_64-pc-linux-gnu (64-bit)
R is free software and comes with ABSOLUTELY NO WARRANTY.
You are welcome to redistribute it under certain conditions.
Type 'license()' or 'licence()' for distribution details.
R is a collaborative project with many contributors.
Type 'contributors()' for more information and
'citation()' on how to cite R or R packages in publications.
Type 'demo()' for some demos, 'help()' for on-line help, or
'help.start()' for an HTML browser interface to help.
Type 'q()' to quit R.
> # This file is part of the standard setup for testthat.
> # It is recommended that you do not modify it.
> #
> # Where should you do additional test configuration?
> # Learn more about the roles of various files in:
> # * https://r-pkgs.org/tests.html
> # * https://testthat.r-lib.org/reference/test_package.html#special-files
>
> library(testthat)
> library(HiCExperiment)
>
> test_check("HiCExperiment")
see ?HiContactsData and browseVignettes('HiContactsData') for documentation
loading from cache
see ?HiContactsData and browseVignettes('HiContactsData') for documentation
loading from cache
see ?HiContactsData and browseVignettes('HiContactsData') for documentation
loading from cache
see ?HiContactsData and browseVignettes('HiContactsData') for documentation
loading from cache
see ?HiContactsData and browseVignettes('HiContactsData') for documentation
loading from cache
see ?HiContactsData and browseVignettes('HiContactsData') for documentation
loading from cache
resolutions(1): 1000
resolutions(5): 1000 2000 4000 8000 16000
resolutions(1): 1000
resolutions(5): 1000 2000 4000 8000 16000
CoolFile object
.mcool file: /home/biocbuild/.cache/R/ExperimentHub/3508b72098fa84_7751
resolution: 1000
pairs file:
metadata(0):
see ?HiContactsData and browseVignettes('HiContactsData') for documentation
loading from cache
`HiCExperiment` object with 8,757,906 contacts over 763 regions
-------
fileName: "/home/biocbuild/.cache/R/ExperimentHub/37cabfdcee0b5_7752"
focus: "II"
resolutions(5): 1000 2000 4000 8000 16000
active resolution: 16000
interactions: 267709
scores(3): count balanced test
topologicalFeatures: compartments(0) borders(0) loops(0) viewpoints(0) centromeres(16) test(0)
pairsFile: /home/biocbuild/.cache/R/ExperimentHub/1389e77d38509e_7753
metadata(1): test
resolutions(5): 1000 2000 4000 8000 16000
resolutions(5): 1000 2000 4000 8000 16000
HicFile object
.hic file: /home/biocbuild/.cache/R/ExperimentHub/3bec28473dfa42_7836
resolution: 1000
pairs file:
metadata(0):
HicproFile object
HiC-Pro files:
$ matrix: /home/biocbuild/.cache/R/ExperimentHub/3bec2863a2ad78_7837
$ regions: /home/biocbuild/.cache/R/ExperimentHub/3bec28271ea9db_7838
resolution: 1000
pairs file:
metadata(0):
Going through preflight checklist...
Parsing the entire contact matrice as a sparse matrix...
Modeling distance decay...
Filtering for contacts within provided targets...
`AggrHiCExperiment` object over 2 targets
-------
fileName: "/home/biocbuild/.cache/R/ExperimentHub/37cabfdcee0b5_7752"
focus: 2 targets
resolutions(5): 1000 2000 4000 8000 16000
active resolution: 8000
interactions: 10201
scores(4): count balanced expected detrended
slices(4): count balanced expected detrended
topologicalFeatures: targets(2)
pairsFile: N/A
metadata(0):
[ FAIL 0 | WARN 0 | SKIP 0 | PASS 241 ]
>
> proc.time()
user system elapsed
190.764 11.356 174.343
HiCExperiment.Rcheck/HiCExperiment-Ex.timings
| name | user | system | elapsed | |
| AggrHiCExperiment | 13.153 | 1.290 | 14.677 | |
| CoolFile-class | 2.876 | 0.244 | 3.927 | |
| HiCExperiment | 19.260 | 1.532 | 21.870 | |
| HicFile-class | 3.098 | 0.276 | 4.162 | |
| HicproFile-class | 5.599 | 0.599 | 7.304 | |
| PairsFile-class | 1.911 | 0.220 | 2.498 | |
| as | 2.322 | 0.355 | 3.070 | |
| data | 3.095 | 0.280 | 3.718 | |
| import-methods | 29.222 | 2.278 | 25.015 | |