| Back to Multiple platform build/check report for BioC 3.17 |
|
This page was generated on 2023-04-12 10:55:37 -0400 (Wed, 12 Apr 2023).
| Hostname | OS | Arch (*) | R version | Installed pkgs |
|---|---|---|---|---|
| nebbiolo1 | Linux (Ubuntu 22.04.1 LTS) | x86_64 | 4.3.0 alpha (2023-04-03 r84154) | 4547 |
| nebbiolo2 | Linux (Ubuntu 20.04.5 LTS) | x86_64 | R Under development (unstable) (2023-02-14 r83833) -- "Unsuffered Consequences" | 4333 |
| Click on any hostname to see more info about the system (e.g. compilers) (*) as reported by 'uname -p', except on Windows and Mac OS X | ||||
|
To the developers/maintainers of the HiCBricks package: - Allow up to 24 hours (and sometimes 48 hours) for your latest push to git@git.bioconductor.org:packages/HiCBricks.git to reflect on this report. See Troubleshooting Build Report for more information. - Use the following Renviron settings to reproduce errors and warnings. Note: If "R CMD check" recently failed on the Linux builder over a missing dependency, add the missing dependency to "Suggests" in your DESCRIPTION file. See the Renviron.bioc for details. |
| Package 917/2207 | Hostname | OS / Arch | INSTALL | BUILD | CHECK | BUILD BIN | ||||||||
| HiCBricks 1.17.0 (landing page) Koustav Pal
| nebbiolo1 | Linux (Ubuntu 22.04.1 LTS) / x86_64 | OK | OK | OK | |||||||||
| nebbiolo2 | Linux (Ubuntu 20.04.5 LTS) / x86_64 | OK | OK | OK | ||||||||||
| Package: HiCBricks |
| Version: 1.17.0 |
| Command: /home/biocbuild/bbs-3.17-bioc/R/bin/R CMD check --install=check:HiCBricks.install-out.txt --library=/home/biocbuild/bbs-3.17-bioc/R/site-library --timings HiCBricks_1.17.0.tar.gz |
| StartedAt: 2023-04-12 06:47:36 -0400 (Wed, 12 Apr 2023) |
| EndedAt: 2023-04-12 06:51:03 -0400 (Wed, 12 Apr 2023) |
| EllapsedTime: 206.6 seconds |
| RetCode: 0 |
| Status: OK |
| CheckDir: HiCBricks.Rcheck |
| Warnings: 0 |
##############################################################################
##############################################################################
###
### Running command:
###
### /home/biocbuild/bbs-3.17-bioc/R/bin/R CMD check --install=check:HiCBricks.install-out.txt --library=/home/biocbuild/bbs-3.17-bioc/R/site-library --timings HiCBricks_1.17.0.tar.gz
###
##############################################################################
##############################################################################
* using log directory ‘/home/biocbuild/bbs-3.17-bioc/meat/HiCBricks.Rcheck’
* using R Under development (unstable) (2023-02-14 r83833)
* using platform: x86_64-pc-linux-gnu (64-bit)
* R was compiled by
gcc (Ubuntu 9.4.0-1ubuntu1~20.04.1) 9.4.0
GNU Fortran (Ubuntu 9.4.0-1ubuntu1~20.04.1) 9.4.0
* running under: Ubuntu 20.04.6 LTS
* using session charset: UTF-8
* checking for file ‘HiCBricks/DESCRIPTION’ ... OK
* checking extension type ... Package
* this is package ‘HiCBricks’ version ‘1.17.0’
* package encoding: UTF-8
* checking package namespace information ... OK
* checking package dependencies ... OK
* checking if this is a source package ... OK
* checking if there is a namespace ... OK
* checking for hidden files and directories ... OK
* checking for portable file names ... OK
* checking for sufficient/correct file permissions ... OK
* checking whether package ‘HiCBricks’ can be installed ... OK
* checking installed package size ... OK
* checking package directory ... OK
* checking ‘build’ directory ... OK
* checking DESCRIPTION meta-information ... OK
* checking top-level files ... OK
* checking for left-over files ... OK
* checking index information ... OK
* checking package subdirectories ... OK
* checking R files for non-ASCII characters ... OK
* checking R files for syntax errors ... OK
* checking whether the package can be loaded ... OK
* checking whether the package can be loaded with stated dependencies ... OK
* checking whether the package can be unloaded cleanly ... OK
* checking whether the namespace can be loaded with stated dependencies ... OK
* checking whether the namespace can be unloaded cleanly ... OK
* checking loading without being on the library search path ... OK
* checking dependencies in R code ... OK
* checking S3 generic/method consistency ... OK
* checking replacement functions ... OK
* checking foreign function calls ... OK
* checking R code for possible problems ... OK
* checking Rd files ... OK
* checking Rd metadata ... OK
* checking Rd cross-references ... OK
* checking for missing documentation entries ... OK
* checking for code/documentation mismatches ... OK
* checking Rd \usage sections ... OK
* checking Rd contents ... OK
* checking for unstated dependencies in examples ... OK
* checking files in ‘vignettes’ ... OK
* checking examples ... OK
* checking for unstated dependencies in vignettes ... OK
* checking package vignettes in ‘inst/doc’ ... OK
* checking running R code from vignettes ...
‘IntroductionToHiCBricks.rmd’ using ‘UTF-8’... OK
NONE
* checking re-building of vignette outputs ... OK
* checking PDF version of manual ... OK
* DONE
Status: OK
HiCBricks.Rcheck/00install.out
############################################################################## ############################################################################## ### ### Running command: ### ### /home/biocbuild/bbs-3.17-bioc/R/bin/R CMD INSTALL HiCBricks ### ############################################################################## ############################################################################## * installing to library ‘/home/biocbuild/bbs-3.17-bioc/R/site-library’ * installing *source* package ‘HiCBricks’ ... ** using staged installation ** R ** inst ** byte-compile and prepare package for lazy loading ** help *** installing help indices ** building package indices ** installing vignettes ** testing if installed package can be loaded from temporary location ** testing if installed package can be loaded from final location ** testing if installed package keeps a record of temporary installation path * DONE (HiCBricks)
HiCBricks.Rcheck/HiCBricks-Ex.timings
| name | user | system | elapsed | |
| BrickContainer_change_experiment_name | 1.238 | 0.016 | 1.269 | |
| BrickContainer_change_output_directory | 0.966 | 0.060 | 1.026 | |
| BrickContainer_get_path_to_file | 0.743 | 0.032 | 0.777 | |
| BrickContainer_list_chromosomes | 0.793 | 0.036 | 0.830 | |
| BrickContainer_list_experiment_name | 0.721 | 0.028 | 0.749 | |
| BrickContainer_list_files | 0.792 | 0.032 | 0.824 | |
| BrickContainer_list_output_directory | 0.791 | 0.032 | 0.823 | |
| BrickContainer_list_resolutions | 0.818 | 0.012 | 0.830 | |
| BrickContainer_unlink_resolution | 1.78 | 0.06 | 1.84 | |
| Brick_add_ranges | 1.895 | 0.056 | 1.951 | |
| Brick_call_compartments | 1.223 | 0.068 | 1.290 | |
| Brick_export_to_sparse | 2.483 | 0.072 | 2.555 | |
| Brick_fetch_range_index | 1.035 | 0.000 | 1.035 | |
| Brick_fetch_row_vector | 1.449 | 0.028 | 1.477 | |
| Brick_get_bintable | 1.192 | 0.100 | 1.291 | |
| Brick_get_chrominfo | 0.771 | 0.000 | 0.770 | |
| Brick_get_entire_matrix | 1.112 | 0.016 | 1.128 | |
| Brick_get_matrix | 1.131 | 0.064 | 1.195 | |
| Brick_get_matrix_mcols | 1.068 | 0.016 | 1.084 | |
| Brick_get_matrix_within_coords | 1.613 | 0.036 | 1.649 | |
| Brick_get_ranges | 0.822 | 0.020 | 0.842 | |
| Brick_get_values_by_distance | 1.195 | 0.036 | 1.230 | |
| Brick_get_vector_values | 1.101 | 0.008 | 1.109 | |
| Brick_list_matrices | 0.814 | 0.028 | 0.841 | |
| Brick_list_matrix_mcols | 0.793 | 0.020 | 0.813 | |
| Brick_list_mcool_normalisations | 0.000 | 0.000 | 0.001 | |
| Brick_list_mcool_resolutions | 0 | 0 | 0 | |
| Brick_list_rangekeys | 0.795 | 0.020 | 0.815 | |
| Brick_list_ranges_mcols | 0.815 | 0.016 | 0.830 | |
| Brick_load_cis_matrix_till_distance | 1.012 | 0.036 | 1.048 | |
| Brick_load_data_from_mcool | 0 | 0 | 0 | |
| Brick_load_data_from_sparse | 0 | 0 | 0 | |
| Brick_load_matrix | 1.057 | 0.068 | 1.125 | |
| Brick_local_score_differentiator | 1.733 | 0.036 | 1.769 | |
| Brick_make_ranges | 0.009 | 0.001 | 0.008 | |
| Brick_matrix_dimensions | 1.079 | 0.016 | 1.095 | |
| Brick_matrix_exists | 1.076 | 0.048 | 1.123 | |
| Brick_matrix_filename | 1.069 | 0.032 | 1.101 | |
| Brick_matrix_isdone | 1.07 | 0.02 | 1.09 | |
| Brick_matrix_issparse | 1.074 | 0.020 | 1.093 | |
| Brick_matrix_maxdist | 1.080 | 0.004 | 1.083 | |
| Brick_matrix_minmax | 1.054 | 0.040 | 1.093 | |
| Brick_mcool_normalisation_exists | 0 | 0 | 0 | |
| Brick_rangekey_exists | 0.846 | 0.044 | 0.894 | |
| Brick_return_region_position | 0.906 | 0.008 | 0.915 | |
| Brick_vizart_plot_heatmap | 1.987 | 0.036 | 2.022 | |
| Create_many_Bricks | 0.775 | 0.004 | 0.778 | |
| Create_many_Bricks_from_mcool | 0 | 0 | 0 | |
| load_BrickContainer | 0.822 | 0.016 | 0.837 | |