| Back to Multiple platform build/check report for BioC 3.17 |
|
This page was generated on 2023-04-12 10:55:37 -0400 (Wed, 12 Apr 2023).
| Hostname | OS | Arch (*) | R version | Installed pkgs |
|---|---|---|---|---|
| nebbiolo1 | Linux (Ubuntu 22.04.1 LTS) | x86_64 | 4.3.0 alpha (2023-04-03 r84154) | 4547 |
| nebbiolo2 | Linux (Ubuntu 20.04.5 LTS) | x86_64 | R Under development (unstable) (2023-02-14 r83833) -- "Unsuffered Consequences" | 4333 |
| Click on any hostname to see more info about the system (e.g. compilers) (*) as reported by 'uname -p', except on Windows and Mac OS X | ||||
|
To the developers/maintainers of the HPAanalyze package: - Allow up to 24 hours (and sometimes 48 hours) for your latest push to git@git.bioconductor.org:packages/HPAanalyze.git to reflect on this report. See Troubleshooting Build Report for more information. - Use the following Renviron settings to reproduce errors and warnings. Note: If "R CMD check" recently failed on the Linux builder over a missing dependency, add the missing dependency to "Suggests" in your DESCRIPTION file. See the Renviron.bioc for details. |
| Package 938/2207 | Hostname | OS / Arch | INSTALL | BUILD | CHECK | BUILD BIN | ||||||||
| HPAanalyze 1.17.2 (landing page) Anh Nhat Tran
| nebbiolo1 | Linux (Ubuntu 22.04.1 LTS) / x86_64 | OK | OK | OK | |||||||||
| nebbiolo2 | Linux (Ubuntu 20.04.5 LTS) / x86_64 | OK | OK | OK | ||||||||||
| Package: HPAanalyze |
| Version: 1.17.2 |
| Command: /home/biocbuild/bbs-3.17-bioc/R/bin/R CMD check --install=check:HPAanalyze.install-out.txt --library=/home/biocbuild/bbs-3.17-bioc/R/site-library --timings HPAanalyze_1.17.2.tar.gz |
| StartedAt: 2023-04-12 06:50:12 -0400 (Wed, 12 Apr 2023) |
| EndedAt: 2023-04-12 06:52:01 -0400 (Wed, 12 Apr 2023) |
| EllapsedTime: 109.3 seconds |
| RetCode: 0 |
| Status: OK |
| CheckDir: HPAanalyze.Rcheck |
| Warnings: 0 |
##############################################################################
##############################################################################
###
### Running command:
###
### /home/biocbuild/bbs-3.17-bioc/R/bin/R CMD check --install=check:HPAanalyze.install-out.txt --library=/home/biocbuild/bbs-3.17-bioc/R/site-library --timings HPAanalyze_1.17.2.tar.gz
###
##############################################################################
##############################################################################
* using log directory ‘/home/biocbuild/bbs-3.17-bioc/meat/HPAanalyze.Rcheck’
* using R Under development (unstable) (2023-02-14 r83833)
* using platform: x86_64-pc-linux-gnu (64-bit)
* R was compiled by
gcc (Ubuntu 9.4.0-1ubuntu1~20.04.1) 9.4.0
GNU Fortran (Ubuntu 9.4.0-1ubuntu1~20.04.1) 9.4.0
* running under: Ubuntu 20.04.6 LTS
* using session charset: UTF-8
* checking for file ‘HPAanalyze/DESCRIPTION’ ... OK
* checking extension type ... Package
* this is package ‘HPAanalyze’ version ‘1.17.2’
* package encoding: UTF-8
* checking package namespace information ... OK
* checking package dependencies ... OK
* checking if this is a source package ... OK
* checking if there is a namespace ... OK
* checking for hidden files and directories ... OK
* checking for portable file names ... OK
* checking for sufficient/correct file permissions ... OK
* checking whether package ‘HPAanalyze’ can be installed ... OK
* checking installed package size ... OK
* checking package directory ... OK
* checking ‘build’ directory ... OK
* checking DESCRIPTION meta-information ... OK
* checking top-level files ... OK
* checking for left-over files ... OK
* checking index information ... OK
* checking package subdirectories ... OK
* checking R files for non-ASCII characters ... OK
* checking R files for syntax errors ... OK
* checking whether the package can be loaded ... OK
* checking whether the package can be loaded with stated dependencies ... OK
* checking whether the package can be unloaded cleanly ... OK
* checking whether the namespace can be loaded with stated dependencies ... OK
* checking whether the namespace can be unloaded cleanly ... OK
* checking loading without being on the library search path ... OK
* checking dependencies in R code ... OK
* checking S3 generic/method consistency ... OK
* checking replacement functions ... OK
* checking foreign function calls ... OK
* checking R code for possible problems ... NOTE
hpaDownload: no visible binding for global variable ‘datasetnames’
hpaDownload: no visible binding for global variable
‘hpa_histology_data’
hpaDownload: no visible binding for global variable ‘.’
hpaSubset : subsetting: no visible binding for global variable ‘gene’
hpaSubset : subsetting: no visible binding for global variable ‘tissue’
hpaSubset : subsetting: no visible binding for global variable
‘cell_type’
hpaSubset : subsetting: no visible binding for global variable ‘cancer’
hpaSubset : subsetting: no visible binding for global variable
‘cell_line’
hpaVis: no visible binding for global variable ‘hpa_histology_data’
hpaVisPatho: no visible binding for global variable ‘gene’
hpaVisPatho: no visible binding for global variable ‘cancer’
hpaVisPatho: no visible binding for global variable ‘high’
hpaVisPatho: no visible binding for global variable ‘medium’
hpaVisPatho: no visible binding for global variable ‘low’
hpaVisPatho: no visible binding for global variable ‘not_detected’
hpaVisPatho: no visible binding for global variable ‘patient_count’
hpaVisPatho: no visible binding for global variable ‘level’
hpaVisSubcell: no visible binding for global variable ‘gene’
hpaVisSubcell: no visible binding for global variable ‘sub_location’
hpaVisTissue: no visible binding for global variable ‘gene’
hpaVisTissue: no visible binding for global variable ‘.’
hpaVisTissue: no visible binding for global variable ‘tissue’
hpaVisTissue: no visible binding for global variable ‘cell_type’
hpaVisTissue: no visible binding for global variable ‘level’
hpaVisTissue: no visible binding for global variable ‘tissue_cell’
hpaXmlTissueExpr : <anonymous>: no visible binding for global variable
‘patientId’
hpaXmlTissueExpr : <anonymous>: no visible binding for global variable
‘age’
hpaXmlTissueExpr : <anonymous>: no visible binding for global variable
‘sex’
hpaXmlTissueExpr : <anonymous>: no visible binding for global variable
‘staining’
hpaXmlTissueExpr : <anonymous>: no visible binding for global variable
‘intensity’
hpaXmlTissueExpr : <anonymous>: no visible binding for global variable
‘quantity’
hpaXmlTissueExpr : <anonymous>: no visible binding for global variable
‘imageUrl’
hpaXmlTissueExprSum: no visible binding for global variable ‘tissue’
hpaXmlTissueExprSum: no visible binding for global variable ‘imageUrl’
is_null_data: no visible binding for global variable
‘hpa_histology_data’
named_vector_list_to_tibble: no visible binding for global variable
‘index’
Undefined global functions or variables:
. age cancer cell_line cell_type datasetnames gene high
hpa_histology_data imageUrl index intensity level low medium
not_detected patientId patient_count quantity sex staining
sub_location tissue tissue_cell
* checking Rd files ... OK
* checking Rd metadata ... OK
* checking Rd cross-references ... OK
* checking for missing documentation entries ... OK
* checking for code/documentation mismatches ... OK
* checking Rd \usage sections ... OK
* checking Rd contents ... OK
* checking for unstated dependencies in examples ... OK
* checking contents of ‘data’ directory ... OK
* checking data for non-ASCII characters ... OK
* checking LazyData ... OK
* checking data for ASCII and uncompressed saves ... OK
* checking R/sysdata.rda ... OK
* checking files in ‘vignettes’ ... OK
* checking examples ... OK
* checking for unstated dependencies in vignettes ... OK
* checking package vignettes in ‘inst/doc’ ... OK
* checking running R code from vignettes ...
‘a_HPAanalyze_quick_start.Rmd’ using ‘UTF-8’... OK
‘b_HPAanalyze_indepth.Rmd’ using ‘UTF-8’... OK
‘c_HPAanalyze_case_query.Rmd’ using ‘UTF-8’... OK
‘d_HPAanalyze_case_offline_xml.Rmd’ using ‘UTF-8’... OK
‘e_HPAanalyze_case_json.Rmd’ using ‘UTF-8’... OK
‘f_HPAanalyze_case_images.Rmd’ using ‘UTF-8’... OK
‘z_HPAanalyze_paper_figures.Rmd’ using ‘UTF-8’... OK
NONE
* checking re-building of vignette outputs ... OK
* checking PDF version of manual ... OK
* DONE
Status: 1 NOTE
See
‘/home/biocbuild/bbs-3.17-bioc/meat/HPAanalyze.Rcheck/00check.log’
for details.
HPAanalyze.Rcheck/00install.out
############################################################################## ############################################################################## ### ### Running command: ### ### /home/biocbuild/bbs-3.17-bioc/R/bin/R CMD INSTALL HPAanalyze ### ############################################################################## ############################################################################## * installing to library ‘/home/biocbuild/bbs-3.17-bioc/R/site-library’ * installing *source* package ‘HPAanalyze’ ... ** using staged installation ** R ** data *** moving datasets to lazyload DB ** inst ** byte-compile and prepare package for lazy loading ** help *** installing help indices ** building package indices ** installing vignettes ** testing if installed package can be loaded from temporary location ** testing if installed package can be loaded from final location ** testing if installed package keeps a record of temporary installation path * DONE (HPAanalyze)
HPAanalyze.Rcheck/HPAanalyze-Ex.timings
| name | user | system | elapsed | |
| hpaDownload | 1.67 | 0.24 | 1.91 | |
| hpaExport | 0.444 | 0.040 | 0.483 | |
| hpaListParam | 0.118 | 0.041 | 0.159 | |
| hpaVis | 1.138 | 0.050 | 1.188 | |
| hpaVisPatho | 2.841 | 0.280 | 3.121 | |
| hpaVisSubcell | 1.882 | 0.280 | 2.161 | |
| hpaVisTissue | 2.065 | 0.280 | 2.345 | |
| hpaXml | 0.214 | 0.019 | 3.502 | |
| hpaXmlAntibody | 0 | 0 | 0 | |
| hpaXmlGet | 0 | 0 | 0 | |
| hpaXmlProtClass | 0 | 0 | 0 | |
| hpaXmlTissueExpr | 0 | 0 | 0 | |
| hpaXmlTissueExprSum | 0 | 0 | 0 | |
| hpa_histology_data | 1.394 | 0.267 | 1.661 | |