| Back to Multiple platform build/check report for BioC 3.17 |
|
This page was generated on 2023-04-12 10:55:25 -0400 (Wed, 12 Apr 2023).
| Hostname | OS | Arch (*) | R version | Installed pkgs |
|---|---|---|---|---|
| nebbiolo1 | Linux (Ubuntu 22.04.1 LTS) | x86_64 | 4.3.0 alpha (2023-04-03 r84154) | 4547 |
| nebbiolo2 | Linux (Ubuntu 20.04.5 LTS) | x86_64 | R Under development (unstable) (2023-02-14 r83833) -- "Unsuffered Consequences" | 4333 |
| Click on any hostname to see more info about the system (e.g. compilers) (*) as reported by 'uname -p', except on Windows and Mac OS X | ||||
|
To the developers/maintainers of the GladiaTOX package: - Allow up to 24 hours (and sometimes 48 hours) for your latest push to git@git.bioconductor.org:packages/GladiaTOX.git to reflect on this report. See Troubleshooting Build Report for more information. - Use the following Renviron settings to reproduce errors and warnings. Note: If "R CMD check" recently failed on the Linux builder over a missing dependency, add the missing dependency to "Suggests" in your DESCRIPTION file. See the Renviron.bioc for details. |
| Package 837/2207 | Hostname | OS / Arch | INSTALL | BUILD | CHECK | BUILD BIN | ||||||||
| GladiaTOX 1.15.0 (landing page) PMP S.A. R Support
| nebbiolo1 | Linux (Ubuntu 22.04.1 LTS) / x86_64 | OK | OK | OK | |||||||||
| nebbiolo2 | Linux (Ubuntu 20.04.5 LTS) / x86_64 | OK | OK | OK | ||||||||||
| Package: GladiaTOX |
| Version: 1.15.0 |
| Command: /home/biocbuild/bbs-3.17-bioc/R/bin/R CMD check --install=check:GladiaTOX.install-out.txt --library=/home/biocbuild/bbs-3.17-bioc/R/site-library --timings GladiaTOX_1.15.0.tar.gz |
| StartedAt: 2023-04-11 20:38:35 -0400 (Tue, 11 Apr 2023) |
| EndedAt: 2023-04-11 20:43:56 -0400 (Tue, 11 Apr 2023) |
| EllapsedTime: 321.7 seconds |
| RetCode: 0 |
| Status: OK |
| CheckDir: GladiaTOX.Rcheck |
| Warnings: 0 |
##############################################################################
##############################################################################
###
### Running command:
###
### /home/biocbuild/bbs-3.17-bioc/R/bin/R CMD check --install=check:GladiaTOX.install-out.txt --library=/home/biocbuild/bbs-3.17-bioc/R/site-library --timings GladiaTOX_1.15.0.tar.gz
###
##############################################################################
##############################################################################
* using log directory ‘/home/biocbuild/bbs-3.17-bioc/meat/GladiaTOX.Rcheck’
* using R version 4.3.0 alpha (2023-04-03 r84154)
* using platform: x86_64-pc-linux-gnu (64-bit)
* R was compiled by
gcc (Ubuntu 11.3.0-1ubuntu1~22.04) 11.3.0
GNU Fortran (Ubuntu 11.3.0-1ubuntu1~22.04) 11.3.0
* running under: Ubuntu 22.04.2 LTS
* using session charset: UTF-8
* checking for file ‘GladiaTOX/DESCRIPTION’ ... OK
* checking extension type ... Package
* this is package ‘GladiaTOX’ version ‘1.15.0’
* checking package namespace information ... OK
* checking package dependencies ... OK
* checking if this is a source package ... OK
* checking if there is a namespace ... OK
* checking for hidden files and directories ... OK
* checking for portable file names ... OK
* checking for sufficient/correct file permissions ... OK
* checking whether package ‘GladiaTOX’ can be installed ... OK
* checking installed package size ... OK
* checking package directory ... OK
* checking ‘build’ directory ... OK
* checking DESCRIPTION meta-information ... OK
* checking top-level files ... OK
* checking for left-over files ... OK
* checking index information ... OK
* checking package subdirectories ... OK
* checking R files for non-ASCII characters ... OK
* checking R files for syntax errors ... OK
* checking whether the package can be loaded ... OK
* checking whether the package can be loaded with stated dependencies ... OK
* checking whether the package can be unloaded cleanly ... OK
* checking whether the namespace can be loaded with stated dependencies ... OK
* checking whether the namespace can be unloaded cleanly ... OK
* checking loading without being on the library search path ... OK
* checking startup messages can be suppressed ... OK
* checking dependencies in R code ... OK
* checking S3 generic/method consistency ... OK
* checking replacement functions ... OK
* checking foreign function calls ... OK
* checking R code for possible problems ... NOTE
glCheckInput: no visible global function definition for ‘read.csv’
glLoadInput: no visible global function definition for ‘read.csv’
glPlotPosCtrlMEC: no visible binding for global variable ‘aenm_wrap’
glPlotPosCtrlMEC: no visible binding for global variable ‘modl_acc’
Undefined global functions or variables:
aenm_wrap modl_acc read.csv
Consider adding
importFrom("utils", "read.csv")
to your NAMESPACE file.
* checking Rd files ... OK
* checking Rd metadata ... OK
* checking Rd cross-references ... OK
* checking for missing documentation entries ... OK
* checking for code/documentation mismatches ... OK
* checking Rd \usage sections ... OK
* checking Rd contents ... OK
* checking for unstated dependencies in examples ... OK
* checking files in ‘vignettes’ ... OK
* checking examples ... OK
Examples with CPU (user + system) or elapsed time > 5s
user system elapsed
gtoxRun 19.065 10.439 14.819
assignDefaultMthds 17.475 7.876 13.019
* checking for unstated dependencies in ‘tests’ ... OK
* checking tests ...
Running ‘testthat.R’
OK
* checking for unstated dependencies in vignettes ... OK
* checking package vignettes in ‘inst/doc’ ... OK
* checking running R code from vignettes ...
‘GladiaTOX.Rmd’ using ‘UTF-8’... OK
NONE
* checking re-building of vignette outputs ... OK
* checking PDF version of manual ... OK
* DONE
Status: 1 NOTE
See
‘/home/biocbuild/bbs-3.17-bioc/meat/GladiaTOX.Rcheck/00check.log’
for details.
GladiaTOX.Rcheck/00install.out
############################################################################## ############################################################################## ### ### Running command: ### ### /home/biocbuild/bbs-3.17-bioc/R/bin/R CMD INSTALL GladiaTOX ### ############################################################################## ############################################################################## * installing to library ‘/home/biocbuild/bbs-3.17-bioc/R/site-library’ * installing *source* package ‘GladiaTOX’ ... ** using staged installation ** R ** inst ** byte-compile and prepare package for lazy loading ** help *** installing help indices ** building package indices ** installing vignettes ** testing if installed package can be loaded from temporary location ** testing if installed package can be loaded from final location ** testing if installed package keeps a record of temporary installation path * DONE (GladiaTOX)
GladiaTOX.Rcheck/tests/testthat.Rout
R version 4.3.0 alpha (2023-04-03 r84154)
Copyright (C) 2023 The R Foundation for Statistical Computing
Platform: x86_64-pc-linux-gnu (64-bit)
R is free software and comes with ABSOLUTELY NO WARRANTY.
You are welcome to redistribute it under certain conditions.
Type 'license()' or 'licence()' for distribution details.
R is a collaborative project with many contributors.
Type 'contributors()' for more information and
'citation()' on how to cite R or R packages in publications.
Type 'demo()' for some demos, 'help()' for on-line help, or
'help.start()' for an HTML browser interface to help.
Type 'q()' to quit R.
> library(testthat)
> library(GladiaTOX)
Loading required package: data.table
GladiaTOX (v1.15.0) loaded with the following settings:
TCPL_DB: /home/biocbuild/bbs-3.17-bioc/R/site-library/GladiaTOX/sql/gladiatoxdb.sqlite
TCPL_USER: NA
TCPL_HOST: NA
TCPL_DRVR: SQLite
Default settings stored in gtox config file. See ?gtoxConf for more information.
>
> options(testthat.junit.output_file="tests-out.xml")
> test_dir("testthat")
✔ | F W S OK | Context
⠏ | 0 | assignDefaultMthds
⠋ | 1 | assignDefaultMthds
✔ | 1 | assignDefaultMthds [0.6s]
⠏ | 0 | exportResultTable
⠙ | 2 | exportResultTable
✔ | 2 | exportResultTable [0.2s]
⠏ | 0 | getsplit
⠏ | 0 | getsplit
✔ | 1 | getsplit
⠏ | 0 | glComputeToxInd
⠋ | 1 | glComputeToxInd
✔ | 1 | glComputeToxInd [0.3s]
⠏ | 0 | gtoxAICProb
✔ | 1 | gtoxAICProb
⠏ | 0 | gtoxCalcVmad
⠏ | 0 | Calculate Vmad
✔ | 1 | Calculate Vmad
⠏ | 0 | gtoxLoadAcid
⠏ | 0 | Check assay component table
✔ | 2 | Check assay component table
⠏ | 0 | gtoxLoadAeid
⠏ | 0 | Check assay endpoint table
⠙ | 2 | Check assay endpoint table
✔ | 2 | Check assay endpoint table [0.1s]
⠏ | 0 | gtoxLoadAid
✔ | 1 | gtoxLoadAid
⠏ | 0 | gtoxLoadApid
⠏ | 0 | Check assay plate table
✔ | 2 | Check assay plate table
⠏ | 0 | gtoxLoadAsid
✔ | 3 | gtoxLoadAsid
⠏ | 0 | gtoxLoadChem
⠏ | 0 | Check assay chemical table
✔ | 3 | Check assay chemical table
⠏ | 0 | gtoxLoadWaid
⠏ | 0 | Check assay well table
✔ | 2 | Check assay well table
⠏ | 0 | is.odd
✔ | 2 | is.odd
⠏ | 0 | lu
✔ | 1 | lu
⠏ | 0 | lw
✔ | 1 | lw
⠏ | 0 | mc2
✔ | 1 | mc2
⠏ | 0 | mc3
✔ | 1 | mc3
⠏ | 0 | mc5
✔ | 1 | mc5
⠏ | 0 | mc6
✔ | 1 | mc6
⠏ | 0 | sc1
✔ | 1 | sc1
⠏ | 0 | sc2
✔ | 1 | sc2
══ Results ═════════════════════════════════════════════════════════════════════
Duration: 1.6 s
[ FAIL 0 | WARN 0 | SKIP 0 | PASS 32 ]
> test_check("GladiaTOX")
[ FAIL 0 | WARN 0 | SKIP 0 | PASS 32 ]
>
> proc.time()
user system elapsed
5.157 0.273 5.409
GladiaTOX.Rcheck/GladiaTOX-Ex.timings
| name | user | system | elapsed | |
| Models | 0.152 | 0.016 | 0.172 | |
| assay_funcs | 0.411 | 0.024 | 0.435 | |
| assignDefaultMthds | 17.475 | 7.876 | 13.019 | |
| buildAssayTab | 0.037 | 0.000 | 0.037 | |
| config_funcs | 0.008 | 0.000 | 0.007 | |
| deleteStudy | 0 | 0 | 0 | |
| exportResultForToxpiGUI | 0.293 | 0.043 | 0.336 | |
| exportResultTable | 0.146 | 0.013 | 0.158 | |
| glComputeToxInd | 0.279 | 0.003 | 0.283 | |
| glPlotPie | 1.967 | 0.098 | 2.054 | |
| glPlotPieLogo | 0.933 | 0.000 | 0.932 | |
| glPlotPosCtrl | 0.860 | 0.036 | 0.849 | |
| glPlotPosCtrlMEC | 0.420 | 0.016 | 0.436 | |
| glPlotStat | 0.783 | 0.008 | 0.791 | |
| glPlotToxInd | 0.543 | 0.004 | 0.542 | |
| gtoxAICProb | 0.000 | 0.001 | 0.001 | |
| gtoxAddModel | 0.483 | 0.005 | 0.488 | |
| gtoxCalcVmad | 0.024 | 0.004 | 0.028 | |
| gtoxCode2CASN | 0.001 | 0.000 | 0.001 | |
| gtoxFit | 0.319 | 0.036 | 0.354 | |
| gtoxImportThermoDB | 0.001 | 0.000 | 0.001 | |
| gtoxListFlds | 0.007 | 0.000 | 0.006 | |
| gtoxLoadApid | 0.005 | 0.004 | 0.009 | |
| gtoxLoadChem | 0.049 | 0.012 | 0.061 | |
| gtoxLoadClib | 0.005 | 0.000 | 0.006 | |
| gtoxLoadData | 0.057 | 0.012 | 0.069 | |
| gtoxLoadVehicle | 0.006 | 0.000 | 0.006 | |
| gtoxLoadVmad | 0.006 | 0.000 | 0.007 | |
| gtoxLoadWaid | 0.015 | 0.004 | 0.019 | |
| gtoxMakeAeidPlts | 0.375 | 0.028 | 0.402 | |
| gtoxPlotErrBar | 0.291 | 0.008 | 0.293 | |
| gtoxPlotFitc | 0.243 | 0.004 | 0.247 | |
| gtoxPlotFits | 0.130 | 0.012 | 0.142 | |
| gtoxPlotM4ID | 0.579 | 0.016 | 0.594 | |
| gtoxPlotPie | 0.162 | 0.004 | 0.165 | |
| gtoxPlotPieLgnd | 0.006 | 0.000 | 0.005 | |
| gtoxPlotPlate | 0.199 | 0.008 | 0.206 | |
| gtoxPlotWin | 0.001 | 0.000 | 0.000 | |
| gtoxPrepOtpt | 0.159 | 0.012 | 0.144 | |
| gtoxReport | 0.000 | 0.000 | 0.001 | |
| gtoxRun | 19.065 | 10.439 | 14.819 | |
| gtoxSetWllq | 0.121 | 0.016 | 0.137 | |
| gtoxSubsetChid | 0.116 | 0.008 | 0.123 | |
| gtoxWriteData | 0 | 0 | 0 | |
| hill_utils | 0.001 | 0.000 | 0.001 | |
| loadAnnot | 0.001 | 0.000 | 0.001 | |
| lu | 0.000 | 0.000 | 0.001 | |
| lw | 0 | 0 | 0 | |
| mthd_funcs | 0.017 | 0.000 | 0.017 | |
| prepareDatForDB | 0 | 0 | 0 | |
| query_funcs | 0.019 | 0.000 | 0.019 | |
| rgstr_funcs | 0.319 | 0.088 | 0.407 | |