| Back to Multiple platform build/check report for BioC 3.17 |
|
This page was generated on 2023-04-12 10:55:37 -0400 (Wed, 12 Apr 2023).
| Hostname | OS | Arch (*) | R version | Installed pkgs |
|---|---|---|---|---|
| nebbiolo1 | Linux (Ubuntu 22.04.1 LTS) | x86_64 | 4.3.0 alpha (2023-04-03 r84154) | 4547 |
| nebbiolo2 | Linux (Ubuntu 20.04.5 LTS) | x86_64 | R Under development (unstable) (2023-02-14 r83833) -- "Unsuffered Consequences" | 4333 |
| Click on any hostname to see more info about the system (e.g. compilers) (*) as reported by 'uname -p', except on Windows and Mac OS X | ||||
|
To the developers/maintainers of the GeoTcgaData package: - Allow up to 24 hours (and sometimes 48 hours) for your latest push to git@git.bioconductor.org:packages/GeoTcgaData.git to reflect on this report. See Troubleshooting Build Report for more information. - Use the following Renviron settings to reproduce errors and warnings. Note: If "R CMD check" recently failed on the Linux builder over a missing dependency, add the missing dependency to "Suggests" in your DESCRIPTION file. See the Renviron.bioc for details. |
| Package 818/2207 | Hostname | OS / Arch | INSTALL | BUILD | CHECK | BUILD BIN | ||||||||
| GeoTcgaData 1.99.2 (landing page) Erqiang Hu
| nebbiolo1 | Linux (Ubuntu 22.04.1 LTS) / x86_64 | OK | OK | OK | |||||||||
| nebbiolo2 | Linux (Ubuntu 20.04.5 LTS) / x86_64 | OK | OK | OK | ||||||||||
| Package: GeoTcgaData |
| Version: 1.99.2 |
| Command: /home/biocbuild/bbs-3.17-bioc/R/bin/R CMD check --install=check:GeoTcgaData.install-out.txt --library=/home/biocbuild/bbs-3.17-bioc/R/site-library --timings GeoTcgaData_1.99.2.tar.gz |
| StartedAt: 2023-04-12 06:32:19 -0400 (Wed, 12 Apr 2023) |
| EndedAt: 2023-04-12 06:36:04 -0400 (Wed, 12 Apr 2023) |
| EllapsedTime: 225.7 seconds |
| RetCode: 0 |
| Status: OK |
| CheckDir: GeoTcgaData.Rcheck |
| Warnings: 0 |
##############################################################################
##############################################################################
###
### Running command:
###
### /home/biocbuild/bbs-3.17-bioc/R/bin/R CMD check --install=check:GeoTcgaData.install-out.txt --library=/home/biocbuild/bbs-3.17-bioc/R/site-library --timings GeoTcgaData_1.99.2.tar.gz
###
##############################################################################
##############################################################################
* using log directory ‘/home/biocbuild/bbs-3.17-bioc/meat/GeoTcgaData.Rcheck’
* using R Under development (unstable) (2023-02-14 r83833)
* using platform: x86_64-pc-linux-gnu (64-bit)
* R was compiled by
gcc (Ubuntu 9.4.0-1ubuntu1~20.04.1) 9.4.0
GNU Fortran (Ubuntu 9.4.0-1ubuntu1~20.04.1) 9.4.0
* running under: Ubuntu 20.04.6 LTS
* using session charset: UTF-8
* checking for file ‘GeoTcgaData/DESCRIPTION’ ... OK
* checking extension type ... Package
* this is package ‘GeoTcgaData’ version ‘1.99.2’
* package encoding: UTF-8
* checking package namespace information ... OK
* checking package dependencies ... OK
* checking if this is a source package ... OK
* checking if there is a namespace ... OK
* checking for hidden files and directories ... OK
* checking for portable file names ... OK
* checking for sufficient/correct file permissions ... OK
* checking whether package ‘GeoTcgaData’ can be installed ... OK
* checking installed package size ... OK
* checking package directory ... OK
* checking ‘build’ directory ... OK
* checking DESCRIPTION meta-information ... OK
* checking top-level files ... OK
* checking for left-over files ... OK
* checking index information ... OK
* checking package subdirectories ... OK
* checking R files for non-ASCII characters ... OK
* checking R files for syntax errors ... OK
* checking whether the package can be loaded ... OK
* checking whether the package can be loaded with stated dependencies ... OK
* checking whether the package can be unloaded cleanly ... OK
* checking whether the namespace can be loaded with stated dependencies ... OK
* checking whether the namespace can be unloaded cleanly ... OK
* checking loading without being on the library search path ... OK
* checking dependencies in R code ... OK
* checking S3 generic/method consistency ... OK
* checking replacement functions ... OK
* checking foreign function calls ... OK
* checking R code for possible problems ... OK
* checking Rd files ... OK
* checking Rd metadata ... OK
* checking Rd cross-references ... OK
* checking for missing documentation entries ... OK
* checking for code/documentation mismatches ... OK
* checking Rd \usage sections ... OK
* checking Rd contents ... OK
* checking for unstated dependencies in examples ... OK
* checking contents of ‘data’ directory ... OK
* checking data for non-ASCII characters ... OK
* checking data for ASCII and uncompressed saves ... OK
* checking R/sysdata.rda ... OK
* checking files in ‘vignettes’ ... OK
* checking examples ... OK
Examples with CPU (user + system) or elapsed time > 5s
user system elapsed
differential_methy 11.735 0.652 12.388
* checking for unstated dependencies in ‘tests’ ... OK
* checking tests ...
Running ‘testthat.R’
OK
* checking for unstated dependencies in vignettes ... OK
* checking package vignettes in ‘inst/doc’ ... OK
* checking running R code from vignettes ...
‘GeoTcgaData.Rmd’ using ‘UTF-8’... OK
NONE
* checking re-building of vignette outputs ... OK
* checking PDF version of manual ... OK
* DONE
Status: OK
GeoTcgaData.Rcheck/00install.out
############################################################################## ############################################################################## ### ### Running command: ### ### /home/biocbuild/bbs-3.17-bioc/R/bin/R CMD INSTALL GeoTcgaData ### ############################################################################## ############################################################################## * installing to library ‘/home/biocbuild/bbs-3.17-bioc/R/site-library’ * installing *source* package ‘GeoTcgaData’ ... ** using staged installation ** R ** data ** inst ** byte-compile and prepare package for lazy loading ** help *** installing help indices ** building package indices ** installing vignettes ** testing if installed package can be loaded from temporary location ** testing if installed package can be loaded from final location ** testing if installed package keeps a record of temporary installation path * DONE (GeoTcgaData)
GeoTcgaData.Rcheck/tests/testthat.Rout
R Under development (unstable) (2023-02-14 r83833) -- "Unsuffered Consequences"
Copyright (C) 2023 The R Foundation for Statistical Computing
Platform: x86_64-pc-linux-gnu (64-bit)
R is free software and comes with ABSOLUTELY NO WARRANTY.
You are welcome to redistribute it under certain conditions.
Type 'license()' or 'licence()' for distribution details.
R is a collaborative project with many contributors.
Type 'contributors()' for more information and
'citation()' on how to cite R or R packages in publications.
Type 'demo()' for some demos, 'help()' for on-line help, or
'help.start()' for an HTML browser interface to help.
Type 'q()' to quit R.
> # This file is part of the standard setup for testthat.
> # It is recommended that you do not modify it.
> #
> # Where should you do additional test configuration?
> # Learn more about the roles of various files in:
> # * https://r-pkgs.org/tests.html
> # * https://testthat.r-lib.org/reference/test_package.html#special-files
>
> library(testthat)
> library(GeoTcgaData)
>
> test_check("GeoTcgaData")
file1 is over
file2 is over
file3 is over
file4 is over
'select()' returned 1:1 mapping between keys and columns
'select()' returned 1:1 mapping between keys and columns
[ FAIL 0 | WARN 0 | SKIP 2 | PASS 11 ]
══ Skipped tests ═══════════════════════════════════════════════════════════════
• On CRAN (2)
[ FAIL 0 | WARN 0 | SKIP 2 | PASS 11 ]
>
> proc.time()
user system elapsed
11.191 0.592 11.766
GeoTcgaData.Rcheck/GeoTcgaData-Ex.timings
| name | user | system | elapsed | |
| Merge_methy_tcga | 1.332 | 0.012 | 1.345 | |
| SNP_QC | 0.02 | 0.00 | 0.02 | |
| array_preprocess | 0 | 0 | 0 | |
| cal_mean_module | 0.138 | 0.024 | 0.162 | |
| cluster_array | 0 | 0 | 0 | |
| combine_pvalue | 0.006 | 0.000 | 0.005 | |
| countToFpkm | 3.200 | 0.156 | 3.356 | |
| countToTpm | 1.186 | 0.068 | 1.254 | |
| differential_RNA | 1.641 | 0.128 | 1.770 | |
| differential_SNP | 0.023 | 0.000 | 0.023 | |
| differential_SNP_GEO | 0.007 | 0.004 | 0.011 | |
| differential_SNP_tcga | 0.019 | 0.000 | 0.019 | |
| differential_array | 0.004 | 0.000 | 0.005 | |
| differential_cnv | 0.027 | 0.000 | 0.027 | |
| differential_limma | 0.004 | 0.000 | 0.004 | |
| differential_methy | 11.735 | 0.652 | 12.388 | |
| fpkmToTpm | 0 | 0 | 0 | |
| gene_ave | 0.001 | 0.000 | 0.002 | |
| get_geo_array | 0 | 0 | 0 | |
| id_conversion_TCGA | 0.263 | 0.000 | 0.262 | |
| prepare_chi | 0.002 | 0.000 | 0.002 | |
| repAssign | 0.001 | 0.000 | 0.001 | |
| repRemove | 0.000 | 0.000 | 0.001 | |