| Back to Multiple platform build/check report for BioC 3.17 |
|
This page was generated on 2023-04-12 10:55:36 -0400 (Wed, 12 Apr 2023).
| Hostname | OS | Arch (*) | R version | Installed pkgs |
|---|---|---|---|---|
| nebbiolo1 | Linux (Ubuntu 22.04.1 LTS) | x86_64 | 4.3.0 alpha (2023-04-03 r84154) | 4547 |
| nebbiolo2 | Linux (Ubuntu 20.04.5 LTS) | x86_64 | R Under development (unstable) (2023-02-14 r83833) -- "Unsuffered Consequences" | 4333 |
| Click on any hostname to see more info about the system (e.g. compilers) (*) as reported by 'uname -p', except on Windows and Mac OS X | ||||
|
To the developers/maintainers of the GenomicDataCommons package: - Allow up to 24 hours (and sometimes 48 hours) for your latest push to git@git.bioconductor.org:packages/GenomicDataCommons.git to reflect on this report. See Troubleshooting Build Report for more information. - Use the following Renviron settings to reproduce errors and warnings. Note: If "R CMD check" recently failed on the Linux builder over a missing dependency, add the missing dependency to "Suggests" in your DESCRIPTION file. See the Renviron.bioc for details. |
| Package 796/2207 | Hostname | OS / Arch | INSTALL | BUILD | CHECK | BUILD BIN | ||||||||
| GenomicDataCommons 1.23.4 (landing page) Sean Davis
| nebbiolo1 | Linux (Ubuntu 22.04.1 LTS) / x86_64 | OK | OK | OK | |||||||||
| nebbiolo2 | Linux (Ubuntu 20.04.5 LTS) / x86_64 | OK | OK | OK | ||||||||||
| Package: GenomicDataCommons |
| Version: 1.23.4 |
| Command: /home/biocbuild/bbs-3.17-bioc/R/bin/R CMD check --install=check:GenomicDataCommons.install-out.txt --library=/home/biocbuild/bbs-3.17-bioc/R/site-library --timings GenomicDataCommons_1.23.4.tar.gz |
| StartedAt: 2023-04-12 06:28:32 -0400 (Wed, 12 Apr 2023) |
| EndedAt: 2023-04-12 06:31:16 -0400 (Wed, 12 Apr 2023) |
| EllapsedTime: 163.4 seconds |
| RetCode: 0 |
| Status: OK |
| CheckDir: GenomicDataCommons.Rcheck |
| Warnings: 0 |
##############################################################################
##############################################################################
###
### Running command:
###
### /home/biocbuild/bbs-3.17-bioc/R/bin/R CMD check --install=check:GenomicDataCommons.install-out.txt --library=/home/biocbuild/bbs-3.17-bioc/R/site-library --timings GenomicDataCommons_1.23.4.tar.gz
###
##############################################################################
##############################################################################
* using log directory ‘/home/biocbuild/bbs-3.17-bioc/meat/GenomicDataCommons.Rcheck’
* using R Under development (unstable) (2023-02-14 r83833)
* using platform: x86_64-pc-linux-gnu (64-bit)
* R was compiled by
gcc (Ubuntu 9.4.0-1ubuntu1~20.04.1) 9.4.0
GNU Fortran (Ubuntu 9.4.0-1ubuntu1~20.04.1) 9.4.0
* running under: Ubuntu 20.04.6 LTS
* using session charset: UTF-8
* checking for file ‘GenomicDataCommons/DESCRIPTION’ ... OK
* checking extension type ... Package
* this is package ‘GenomicDataCommons’ version ‘1.23.4’
* package encoding: UTF-8
* checking package namespace information ... OK
* checking package dependencies ... OK
* checking if this is a source package ... OK
* checking if there is a namespace ... OK
* checking for hidden files and directories ... OK
* checking for portable file names ... OK
* checking for sufficient/correct file permissions ... OK
* checking whether package ‘GenomicDataCommons’ can be installed ... OK
* checking installed package size ... OK
* checking package directory ... OK
* checking ‘build’ directory ... OK
* checking DESCRIPTION meta-information ... OK
* checking top-level files ... OK
* checking for left-over files ... OK
* checking index information ... OK
* checking package subdirectories ... OK
* checking R files for non-ASCII characters ... OK
* checking R files for syntax errors ... OK
* checking whether the package can be loaded ... OK
* checking whether the package can be loaded with stated dependencies ... OK
* checking whether the package can be unloaded cleanly ... OK
* checking whether the namespace can be loaded with stated dependencies ... OK
* checking whether the namespace can be unloaded cleanly ... OK
* checking loading without being on the library search path ... OK
* checking dependencies in R code ... OK
* checking S3 generic/method consistency ... OK
* checking replacement functions ... OK
* checking foreign function calls ... OK
* checking R code for possible problems ... OK
* checking Rd files ... OK
* checking Rd metadata ... OK
* checking Rd cross-references ... OK
* checking for missing documentation entries ... OK
* checking for code/documentation mismatches ... OK
* checking Rd \usage sections ... OK
* checking Rd contents ... OK
* checking for unstated dependencies in examples ... OK
* checking R/sysdata.rda ... OK
* checking files in ‘vignettes’ ... OK
* checking examples ... OK
* checking for unstated dependencies in ‘tests’ ... OK
* checking tests ...
Running ‘testthat.R’
OK
* checking for unstated dependencies in vignettes ... OK
* checking package vignettes in ‘inst/doc’ ... OK
* checking running R code from vignettes ...
‘overview.Rmd’ using ‘UTF-8’... OK
‘questions-and-answers.Rmd’ using ‘UTF-8’... OK
‘somatic_mutations.Rmd’ using ‘UTF-8’... OK
NONE
* checking re-building of vignette outputs ... OK
* checking PDF version of manual ... OK
* DONE
Status: OK
GenomicDataCommons.Rcheck/00install.out
############################################################################## ############################################################################## ### ### Running command: ### ### /home/biocbuild/bbs-3.17-bioc/R/bin/R CMD INSTALL GenomicDataCommons ### ############################################################################## ############################################################################## * installing to library ‘/home/biocbuild/bbs-3.17-bioc/R/site-library’ * installing *source* package ‘GenomicDataCommons’ ... ** using staged installation ** R ** inst ** byte-compile and prepare package for lazy loading ** help *** installing help indices ** building package indices ** installing vignettes ** testing if installed package can be loaded from temporary location ** testing if installed package can be loaded from final location ** testing if installed package keeps a record of temporary installation path * DONE (GenomicDataCommons)
GenomicDataCommons.Rcheck/tests/testthat.Rout
R Under development (unstable) (2023-02-14 r83833) -- "Unsuffered Consequences"
Copyright (C) 2023 The R Foundation for Statistical Computing
Platform: x86_64-pc-linux-gnu (64-bit)
R is free software and comes with ABSOLUTELY NO WARRANTY.
You are welcome to redistribute it under certain conditions.
Type 'license()' or 'licence()' for distribution details.
R is a collaborative project with many contributors.
Type 'contributors()' for more information and
'citation()' on how to cite R or R packages in publications.
Type 'demo()' for some demos, 'help()' for on-line help, or
'help.start()' for an HTML browser interface to help.
Type 'q()' to quit R.
> library(testthat)
> library(GenomicDataCommons)
Loading required package: magrittr
Attaching package: 'magrittr'
The following objects are masked from 'package:testthat':
equals, is_less_than, not
Attaching package: 'GenomicDataCommons'
The following object is masked from 'package:stats':
filter
>
> test_check("GenomicDataCommons")
[ FAIL 0 | WARN 0 | SKIP 0 | PASS 52 ]
>
> proc.time()
user system elapsed
6.239 0.375 16.516
GenomicDataCommons.Rcheck/GenomicDataCommons-Ex.timings
| name | user | system | elapsed | |
| aggregations | 0.084 | 0.000 | 0.649 | |
| available_expand | 0.017 | 0.004 | 0.082 | |
| available_fields | 0.046 | 0.000 | 0.146 | |
| available_values | 0.044 | 0.000 | 0.578 | |
| constants | 0.001 | 0.000 | 0.001 | |
| count | 0.080 | 0.004 | 0.323 | |
| default_fields | 0.052 | 0.000 | 0.150 | |
| entity_name | 0.050 | 0.000 | 0.155 | |
| expand | 0.126 | 0.024 | 0.360 | |
| faceting | 0.082 | 0.000 | 0.225 | |
| field_description | 0.182 | 0.004 | 0.454 | |
| filtering | 0.639 | 0.020 | 1.692 | |
| gdc_cache | 0.001 | 0.000 | 0.001 | |
| gdc_client | 0.003 | 0.002 | 0.005 | |
| gdc_clinical | 0.772 | 0.021 | 1.261 | |
| gdc_token | 0.001 | 0.000 | 0.000 | |
| gdcdata | 0.345 | 0.004 | 1.144 | |
| grep_fields | 0.029 | 0.000 | 0.072 | |
| id_field | 0.031 | 0.000 | 0.070 | |
| ids | 0.209 | 0.012 | 0.744 | |
| legacy | 0.070 | 0.020 | 0.133 | |
| manifest | 0.070 | 0.008 | 0.241 | |
| mapping | 0.018 | 0.000 | 0.048 | |
| query | 0.075 | 0.000 | 0.162 | |
| readDNAcopy | 0.267 | 0.036 | 0.311 | |
| readHTSeqFile | 0.061 | 0.001 | 0.060 | |
| response | 0.041 | 0.004 | 0.245 | |
| results | 0.048 | 0.003 | 0.240 | |
| results_all | 0.075 | 0.003 | 0.279 | |
| select | 0.135 | 0.012 | 0.338 | |
| slicing | 0.001 | 0.000 | 0.001 | |
| status | 0.014 | 0.000 | 0.050 | |
| transfer | 0 | 0 | 0 | |
| write_manifest | 0.079 | 0.000 | 0.231 | |