| Back to Multiple platform build/check report for BioC 3.17 |
|
This page was generated on 2023-04-12 10:55:25 -0400 (Wed, 12 Apr 2023).
| Hostname | OS | Arch (*) | R version | Installed pkgs |
|---|---|---|---|---|
| nebbiolo1 | Linux (Ubuntu 22.04.1 LTS) | x86_64 | 4.3.0 alpha (2023-04-03 r84154) | 4547 |
| nebbiolo2 | Linux (Ubuntu 20.04.5 LTS) | x86_64 | R Under development (unstable) (2023-02-14 r83833) -- "Unsuffered Consequences" | 4333 |
| Click on any hostname to see more info about the system (e.g. compilers) (*) as reported by 'uname -p', except on Windows and Mac OS X | ||||
|
To the developers/maintainers of the GOpro package: - Allow up to 24 hours (and sometimes 48 hours) for your latest push to git@git.bioconductor.org:packages/GOpro.git to reflect on this report. See Troubleshooting Build Report for more information. - Use the following Renviron settings to reproduce errors and warnings. Note: If "R CMD check" recently failed on the Linux builder over a missing dependency, add the missing dependency to "Suggests" in your DESCRIPTION file. See the Renviron.bioc for details. |
| Package 851/2207 | Hostname | OS / Arch | INSTALL | BUILD | CHECK | BUILD BIN | ||||||||
| GOpro 1.25.0 (landing page) Lidia Chrabaszcz
| nebbiolo1 | Linux (Ubuntu 22.04.1 LTS) / x86_64 | OK | OK | OK | |||||||||
| nebbiolo2 | Linux (Ubuntu 20.04.5 LTS) / x86_64 | OK | OK | OK | ||||||||||
| Package: GOpro |
| Version: 1.25.0 |
| Command: /home/biocbuild/bbs-3.17-bioc/R/bin/R CMD INSTALL GOpro |
| StartedAt: 2023-04-11 15:11:13 -0400 (Tue, 11 Apr 2023) |
| EndedAt: 2023-04-11 15:11:46 -0400 (Tue, 11 Apr 2023) |
| EllapsedTime: 33.2 seconds |
| RetCode: 0 |
| Status: OK |
##############################################################################
##############################################################################
###
### Running command:
###
### /home/biocbuild/bbs-3.17-bioc/R/bin/R CMD INSTALL GOpro
###
##############################################################################
##############################################################################
* installing to library ‘/home/biocbuild/bbs-3.17-bioc/R/site-library’
* installing *source* package ‘GOpro’ ...
** using staged installation
** libs
using C compiler: ‘gcc (Ubuntu 11.3.0-1ubuntu1~22.04) 11.3.0’
using C++ compiler: ‘g++ (Ubuntu 11.3.0-1ubuntu1~22.04) 11.3.0’
gcc -I"/home/biocbuild/bbs-3.17-bioc/R/include" -DNDEBUG -I'/home/biocbuild/bbs-3.17-bioc/R/site-library/Rcpp/include' -I'/home/biocbuild/bbs-3.17-bioc/R/site-library/BH/include' -I/usr/local/include -fpic -g -O2 -Wall -c GOpro_init.c -o GOpro_init.o
g++ -std=gnu++17 -I"/home/biocbuild/bbs-3.17-bioc/R/include" -DNDEBUG -I'/home/biocbuild/bbs-3.17-bioc/R/site-library/Rcpp/include' -I'/home/biocbuild/bbs-3.17-bioc/R/site-library/BH/include' -I/usr/local/include -fpic -g -O2 -Wall -c RcppExports.cpp -o RcppExports.o
g++ -std=gnu++17 -I"/home/biocbuild/bbs-3.17-bioc/R/include" -DNDEBUG -I'/home/biocbuild/bbs-3.17-bioc/R/site-library/Rcpp/include' -I'/home/biocbuild/bbs-3.17-bioc/R/site-library/BH/include' -I/usr/local/include -fpic -g -O2 -Wall -c fisher.cpp -o fisher.o
In file included from /home/biocbuild/bbs-3.17-bioc/R/site-library/BH/include/boost/mpl/aux_/na_assert.hpp:23,
from /home/biocbuild/bbs-3.17-bioc/R/site-library/BH/include/boost/mpl/arg.hpp:25,
from /home/biocbuild/bbs-3.17-bioc/R/site-library/BH/include/boost/mpl/placeholders.hpp:24,
from /home/biocbuild/bbs-3.17-bioc/R/site-library/BH/include/boost/iterator/iterator_categories.hpp:16,
from /home/biocbuild/bbs-3.17-bioc/R/site-library/BH/include/boost/iterator/iterator_facade.hpp:13,
from /home/biocbuild/bbs-3.17-bioc/R/site-library/BH/include/boost/range/iterator_range_core.hpp:27,
from /home/biocbuild/bbs-3.17-bioc/R/site-library/BH/include/boost/lexical_cast.hpp:30,
from /home/biocbuild/bbs-3.17-bioc/R/site-library/BH/include/boost/math/tools/convert_from_string.hpp:15,
from /home/biocbuild/bbs-3.17-bioc/R/site-library/BH/include/boost/math/constants/constants.hpp:14,
from /home/biocbuild/bbs-3.17-bioc/R/site-library/BH/include/boost/math/distributions/detail/hypergeometric_pdf.hpp:12,
from /home/biocbuild/bbs-3.17-bioc/R/site-library/BH/include/boost/math/distributions/hypergeometric.hpp:15,
from fisher.cpp:2:
/home/biocbuild/bbs-3.17-bioc/R/site-library/BH/include/boost/mpl/assert.hpp:194:21: warning: unnecessary parentheses in declaration of ‘assert_arg’ [-Wparentheses]
194 | failed ************ (Pred::************
| ^~~~~~~~~~~~~~~~~~~
195 | assert_arg( void (*)(Pred), typename assert_arg_pred<Pred>::type )
| ~~~~~~~~~~~~~~~~~~~~~~~~~~~~~~~~~~~~~~~~~~~~~~~~~~~~~~~~~~~~~~~~~~
196 | );
| ~
/home/biocbuild/bbs-3.17-bioc/R/site-library/BH/include/boost/mpl/assert.hpp:194:21: note: remove parentheses
194 | failed ************ (Pred::************
| ^~~~~~~~~~~~~~~~~~~
| -
195 | assert_arg( void (*)(Pred), typename assert_arg_pred<Pred>::type )
| ~~~~~~~~~~~~~~~~~~~~~~~~~~~~~~~~~~~~~~~~~~~~~~~~~~~~~~~~~~~~~~~~~~
196 | );
| ~
| -
/home/biocbuild/bbs-3.17-bioc/R/site-library/BH/include/boost/mpl/assert.hpp:199:21: warning: unnecessary parentheses in declaration of ‘assert_not_arg’ [-Wparentheses]
199 | failed ************ (boost::mpl::not_<Pred>::************
| ^~~~~~~~~~~~~~~~~~~~~~~~~~~~~~~~~~~~~
200 | assert_not_arg( void (*)(Pred), typename assert_arg_pred_not<Pred>::type )
| ~~~~~~~~~~~~~~~~~~~~~~~~~~~~~~~~~~~~~~~~~~~~~~~~~~~~~~~~~~~~~~~~~~~~~~~~~~
201 | );
| ~
/home/biocbuild/bbs-3.17-bioc/R/site-library/BH/include/boost/mpl/assert.hpp:199:21: note: remove parentheses
199 | failed ************ (boost::mpl::not_<Pred>::************
| ^~~~~~~~~~~~~~~~~~~~~~~~~~~~~~~~~~~~~
| -
200 | assert_not_arg( void (*)(Pred), typename assert_arg_pred_not<Pred>::type )
| ~~~~~~~~~~~~~~~~~~~~~~~~~~~~~~~~~~~~~~~~~~~~~~~~~~~~~~~~~~~~~~~~~~~~~~~~~~
201 | );
| ~
| -
g++ -std=gnu++17 -shared -L/home/biocbuild/bbs-3.17-bioc/R/lib -L/usr/local/lib -o GOpro.so GOpro_init.o RcppExports.o fisher.o -L/home/biocbuild/bbs-3.17-bioc/R/lib -lR
installing to /home/biocbuild/bbs-3.17-bioc/R/site-library/00LOCK-GOpro/00new/GOpro/libs
** R
** data
*** moving datasets to lazyload DB
** byte-compile and prepare package for lazy loading
** help
*** installing help indices
** building package indices
** installing vignettes
** testing if installed package can be loaded from temporary location
** checking absolute paths in shared objects and dynamic libraries
** testing if installed package can be loaded from final location
** testing if installed package keeps a record of temporary installation path
* DONE (GOpro)