| Back to Multiple platform build/check report for BioC 3.17 |
|
This page was generated on 2023-04-12 10:55:37 -0400 (Wed, 12 Apr 2023).
| Hostname | OS | Arch (*) | R version | Installed pkgs |
|---|---|---|---|---|
| nebbiolo1 | Linux (Ubuntu 22.04.1 LTS) | x86_64 | 4.3.0 alpha (2023-04-03 r84154) | 4547 |
| nebbiolo2 | Linux (Ubuntu 20.04.5 LTS) | x86_64 | R Under development (unstable) (2023-02-14 r83833) -- "Unsuffered Consequences" | 4333 |
| Click on any hostname to see more info about the system (e.g. compilers) (*) as reported by 'uname -p', except on Windows and Mac OS X | ||||
|
To the developers/maintainers of the GOexpress package: - Allow up to 24 hours (and sometimes 48 hours) for your latest push to git@git.bioconductor.org:packages/GOexpress.git to reflect on this report. See Troubleshooting Build Report for more information. - Use the following Renviron settings to reproduce errors and warnings. Note: If "R CMD check" recently failed on the Linux builder over a missing dependency, add the missing dependency to "Suggests" in your DESCRIPTION file. See the Renviron.bioc for details. |
| Package 849/2207 | Hostname | OS / Arch | INSTALL | BUILD | CHECK | BUILD BIN | ||||||||
| GOexpress 1.33.0 (landing page) Kevin Rue-Albrecht
| nebbiolo1 | Linux (Ubuntu 22.04.1 LTS) / x86_64 | OK | OK | OK | |||||||||
| nebbiolo2 | Linux (Ubuntu 20.04.5 LTS) / x86_64 | OK | OK | OK | ||||||||||
| Package: GOexpress |
| Version: 1.33.0 |
| Command: /home/biocbuild/bbs-3.17-bioc/R/bin/R CMD check --install=check:GOexpress.install-out.txt --library=/home/biocbuild/bbs-3.17-bioc/R/site-library --timings GOexpress_1.33.0.tar.gz |
| StartedAt: 2023-04-12 06:36:45 -0400 (Wed, 12 Apr 2023) |
| EndedAt: 2023-04-12 06:39:29 -0400 (Wed, 12 Apr 2023) |
| EllapsedTime: 164.5 seconds |
| RetCode: 0 |
| Status: OK |
| CheckDir: GOexpress.Rcheck |
| Warnings: 0 |
##############################################################################
##############################################################################
###
### Running command:
###
### /home/biocbuild/bbs-3.17-bioc/R/bin/R CMD check --install=check:GOexpress.install-out.txt --library=/home/biocbuild/bbs-3.17-bioc/R/site-library --timings GOexpress_1.33.0.tar.gz
###
##############################################################################
##############################################################################
* using log directory ‘/home/biocbuild/bbs-3.17-bioc/meat/GOexpress.Rcheck’
* using R Under development (unstable) (2023-02-14 r83833)
* using platform: x86_64-pc-linux-gnu (64-bit)
* R was compiled by
gcc (Ubuntu 9.4.0-1ubuntu1~20.04.1) 9.4.0
GNU Fortran (Ubuntu 9.4.0-1ubuntu1~20.04.1) 9.4.0
* running under: Ubuntu 20.04.6 LTS
* using session charset: UTF-8
* checking for file ‘GOexpress/DESCRIPTION’ ... OK
* this is package ‘GOexpress’ version ‘1.33.0’
* checking package namespace information ... OK
* checking package dependencies ... OK
* checking if this is a source package ... OK
* checking if there is a namespace ... OK
* checking for hidden files and directories ... NOTE
Found the following hidden files and directories:
.travis.yml
These were most likely included in error. See section ‘Package
structure’ in the ‘Writing R Extensions’ manual.
* checking for portable file names ... OK
* checking for sufficient/correct file permissions ... OK
* checking whether package ‘GOexpress’ can be installed ... OK
* checking installed package size ... OK
* checking package directory ... OK
* checking ‘build’ directory ... OK
* checking DESCRIPTION meta-information ... OK
* checking top-level files ... OK
* checking for left-over files ... OK
* checking index information ... OK
* checking package subdirectories ... OK
* checking R files for non-ASCII characters ... OK
* checking R files for syntax errors ... OK
* checking whether the package can be loaded ... OK
* checking whether the package can be loaded with stated dependencies ... OK
* checking whether the package can be unloaded cleanly ... OK
* checking whether the namespace can be loaded with stated dependencies ... OK
* checking whether the namespace can be unloaded cleanly ... OK
* checking loading without being on the library search path ... OK
* checking dependencies in R code ... OK
* checking S3 generic/method consistency ... OK
* checking replacement functions ... OK
* checking foreign function calls ... OK
* checking R code for possible problems ... NOTE
GO_analyse: no visible binding for global variable ‘microarray2dataset’
GO_analyse: no visible binding for global variable ‘prefix2dataset’
mart_from_ensembl: no visible binding for global variable
‘prefix2dataset’
Undefined global functions or variables:
microarray2dataset prefix2dataset
* checking Rd files ... OK
* checking Rd metadata ... OK
* checking Rd cross-references ... OK
* checking for missing documentation entries ... OK
* checking for code/documentation mismatches ... OK
* checking Rd \usage sections ... OK
* checking Rd contents ... OK
* checking for unstated dependencies in examples ... OK
* checking contents of ‘data’ directory ... OK
* checking data for non-ASCII characters ... OK
* checking LazyData ... OK
* checking data for ASCII and uncompressed saves ... OK
* checking files in ‘vignettes’ ... OK
* checking examples ... OK
* checking for unstated dependencies in vignettes ... OK
* checking package vignettes in ‘inst/doc’ ... OK
* checking running R code from vignettes ...
‘GOexpress-UsersGuide.Rnw’ using ‘UTF-8’... OK
OK
* checking re-building of vignette outputs ... OK
* checking PDF version of manual ... OK
* DONE
Status: 2 NOTEs
See
‘/home/biocbuild/bbs-3.17-bioc/meat/GOexpress.Rcheck/00check.log’
for details.
GOexpress.Rcheck/00install.out
############################################################################## ############################################################################## ### ### Running command: ### ### /home/biocbuild/bbs-3.17-bioc/R/bin/R CMD INSTALL GOexpress ### ############################################################################## ############################################################################## * installing to library ‘/home/biocbuild/bbs-3.17-bioc/R/site-library’ * installing *source* package ‘GOexpress’ ... ** using staged installation ** R ** data *** moving datasets to lazyload DB ** inst ** byte-compile and prepare package for lazy loading ** help *** installing help indices ** building package indices ** installing vignettes ** testing if installed package can be loaded from temporary location ** testing if installed package can be loaded from final location ** testing if installed package keeps a record of temporary installation path * DONE (GOexpress)
GOexpress.Rcheck/GOexpress-Ex.timings
| name | user | system | elapsed | |
| AlvMac | 0.177 | 0.004 | 0.181 | |
| AlvMac_GOgenes | 0.446 | 0.086 | 0.531 | |
| AlvMac_allGO | 0.022 | 0.000 | 0.022 | |
| AlvMac_allgenes | 0.005 | 0.000 | 0.005 | |
| AlvMac_results | 0.122 | 0.016 | 0.138 | |
| AlvMac_results.pVal | 1.193 | 0.336 | 1.530 | |
| GO_analyse | 2.119 | 0.072 | 2.191 | |
| GOexpress-package | 0.002 | 0.000 | 0.002 | |
| cluster_GO | 0.531 | 0.028 | 0.559 | |
| expression_plot | 2.08 | 0.10 | 2.18 | |
| expression_plot_symbol | 1.070 | 0.052 | 1.122 | |
| expression_profiles | 0.722 | 0.004 | 0.726 | |
| expression_profiles_symbol | 1.567 | 0.072 | 1.640 | |
| heatmap_GO | 0.445 | 0.004 | 0.449 | |
| hist_scores | 0.232 | 0.012 | 0.244 | |
| list_genes | 0.108 | 0.000 | 0.109 | |
| microarray2dataset | 0.007 | 0.000 | 0.007 | |
| pValue_GO | 0.001 | 0.000 | 0.000 | |
| plot_design | 0.742 | 0.016 | 0.758 | |
| prefix2dataset | 0.006 | 0.000 | 0.006 | |
| quantiles_scores | 0.129 | 0.004 | 0.133 | |
| rerank | 0.208 | 0.012 | 0.220 | |
| subEset | 0.040 | 0.000 | 0.041 | |
| subset_scores | 0.180 | 0.008 | 0.188 | |
| table_genes | 0.093 | 0.000 | 0.094 | |