| Back to Multiple platform build/check report for BioC 3.17 |
|
This page was generated on 2023-04-12 10:55:25 -0400 (Wed, 12 Apr 2023).
| Hostname | OS | Arch (*) | R version | Installed pkgs |
|---|---|---|---|---|
| nebbiolo1 | Linux (Ubuntu 22.04.1 LTS) | x86_64 | 4.3.0 alpha (2023-04-03 r84154) | 4547 |
| nebbiolo2 | Linux (Ubuntu 20.04.5 LTS) | x86_64 | R Under development (unstable) (2023-02-14 r83833) -- "Unsuffered Consequences" | 4333 |
| Click on any hostname to see more info about the system (e.g. compilers) (*) as reported by 'uname -p', except on Windows and Mac OS X | ||||
|
To the developers/maintainers of the GCSscore package: - Allow up to 24 hours (and sometimes 48 hours) for your latest push to git@git.bioconductor.org:packages/GCSscore.git to reflect on this report. See Troubleshooting Build Report for more information. - Use the following Renviron settings to reproduce errors and warnings. Note: If "R CMD check" recently failed on the Linux builder over a missing dependency, add the missing dependency to "Suggests" in your DESCRIPTION file. See the Renviron.bioc for details. |
| Package 755/2207 | Hostname | OS / Arch | INSTALL | BUILD | CHECK | BUILD BIN | ||||||||
| GCSscore 1.13.0 (landing page) Guy M. Harris
| nebbiolo1 | Linux (Ubuntu 22.04.1 LTS) / x86_64 | OK | OK | ERROR | |||||||||
| nebbiolo2 | Linux (Ubuntu 20.04.5 LTS) / x86_64 | OK | OK | ERROR | ||||||||||
| Package: GCSscore |
| Version: 1.13.0 |
| Command: /home/biocbuild/bbs-3.17-bioc/R/bin/R CMD check --install=check:GCSscore.install-out.txt --library=/home/biocbuild/bbs-3.17-bioc/R/site-library --timings GCSscore_1.13.0.tar.gz |
| StartedAt: 2023-04-11 20:25:28 -0400 (Tue, 11 Apr 2023) |
| EndedAt: 2023-04-11 20:35:41 -0400 (Tue, 11 Apr 2023) |
| EllapsedTime: 612.6 seconds |
| RetCode: 1 |
| Status: ERROR |
| CheckDir: GCSscore.Rcheck |
| Warnings: NA |
##############################################################################
##############################################################################
###
### Running command:
###
### /home/biocbuild/bbs-3.17-bioc/R/bin/R CMD check --install=check:GCSscore.install-out.txt --library=/home/biocbuild/bbs-3.17-bioc/R/site-library --timings GCSscore_1.13.0.tar.gz
###
##############################################################################
##############################################################################
* using log directory ‘/home/biocbuild/bbs-3.17-bioc/meat/GCSscore.Rcheck’
* using R version 4.3.0 alpha (2023-04-03 r84154)
* using platform: x86_64-pc-linux-gnu (64-bit)
* R was compiled by
gcc (Ubuntu 11.3.0-1ubuntu1~22.04) 11.3.0
GNU Fortran (Ubuntu 11.3.0-1ubuntu1~22.04) 11.3.0
* running under: Ubuntu 22.04.2 LTS
* using session charset: UTF-8
* checking for file ‘GCSscore/DESCRIPTION’ ... OK
* checking extension type ... Package
* this is package ‘GCSscore’ version ‘1.13.0’
* package encoding: UTF-8
* checking package namespace information ... OK
* checking package dependencies ... OK
* checking if this is a source package ... OK
* checking if there is a namespace ... OK
* checking for hidden files and directories ... OK
* checking for portable file names ... OK
* checking for sufficient/correct file permissions ... OK
* checking whether package ‘GCSscore’ can be installed ... OK
* checking installed package size ... NOTE
installed size is 7.2Mb
sub-directories of 1Mb or more:
extdata 6.8Mb
* checking package directory ... OK
* checking ‘build’ directory ... OK
* checking DESCRIPTION meta-information ... OK
* checking top-level files ... OK
* checking for left-over files ... OK
* checking index information ... OK
* checking package subdirectories ... OK
* checking R files for non-ASCII characters ... OK
* checking R files for syntax errors ... OK
* checking whether the package can be loaded ... OK
* checking whether the package can be loaded with stated dependencies ... OK
* checking whether the package can be unloaded cleanly ... OK
* checking whether the namespace can be loaded with stated dependencies ... OK
* checking whether the namespace can be unloaded cleanly ... OK
* checking loading without being on the library search path ... OK
* checking dependencies in R code ... OK
* checking S3 generic/method consistency ... OK
* checking replacement functions ... OK
* checking foreign function calls ... OK
* checking R code for possible problems ... OK
* checking Rd files ... OK
* checking Rd metadata ... OK
* checking Rd cross-references ... OK
* checking for missing documentation entries ... OK
* checking for code/documentation mismatches ... OK
* checking Rd \usage sections ... OK
* checking Rd contents ... OK
* checking for unstated dependencies in examples ... OK
* checking files in ‘vignettes’ ... OK
* checking examples ... OK
* checking for unstated dependencies in vignettes ... OK
* checking package vignettes in ‘inst/doc’ ... OK
* checking running R code from vignettes ...
‘GCSscore.Rnw’ using ‘UTF-8’... failed
ERROR
Errors in running code in vignettes:
when running code in ‘GCSscore.Rnw’
...
*This package will only be generated once for each chip-type*
*Or if probeFile version for the chip-type needs to be updated*
writing intermediary .probe_tab file to temporary directory
Importing the data.
Warning in packageDescription(thispkg) :
no package 'AnnotationForge' was found
When sourcing ‘GCSscore.R’:
Error: $ operator is invalid for atomic vectors
Execution halted
* checking re-building of vignette outputs ... NOTE
Error(s) in re-building vignettes:
--- re-building ‘GCSscore.Rnw’ using Sweave
GCSscore supports the selected chip-type: Clariom_S_Mouse
Bioconductor platform design (.pd) package already installed for: Clariom_S_Mouse
GCS-score analysis initiated for chip-type: Clariom_S_Mouse
GCS-score 'probeFile' package needs to be installed for chip-type: Clariom_S_Mouse
typeFilter set to (0) by default for best .CEL file scaling and normalization statistics
all probe_id types (including control probe_ids and bgp probe_ids) will be for GCS-score calculation.
it is generally recommended to leave the typeFilter option set to (0)
** Checking if Bioconductor annotation (.db) packages are installed chip-type: Clariom_S_Mouse **
Annotation package (clariomsmousetranscriptcluster.db) already installed for chip-type: Clariom_S_Mouse
** Generating probeFile package for chip-type: Clariom_S_Mouse **
*This package will only be generated once for each chip-type*
*Or if probeFile version for the chip-type needs to be updated*
writing intermediary .probe_tab file to temporary directory
Warning in packageDescription(thispkg) :
no package 'AnnotationForge' was found
Error: processing vignette 'GCSscore.Rnw' failed with diagnostics:
chunk 2
Error in desc$Package : $ operator is invalid for atomic vectors
--- failed re-building ‘GCSscore.Rnw’
SUMMARY: processing the following file failed:
‘GCSscore.Rnw’
Error: Vignette re-building failed.
Execution halted
* checking PDF version of manual ... OK
* DONE
Status: 1 ERROR, 2 NOTEs
See
‘/home/biocbuild/bbs-3.17-bioc/meat/GCSscore.Rcheck/00check.log’
for details.
GCSscore.Rcheck/00install.out
############################################################################## ############################################################################## ### ### Running command: ### ### /home/biocbuild/bbs-3.17-bioc/R/bin/R CMD INSTALL GCSscore ### ############################################################################## ############################################################################## * installing to library ‘/home/biocbuild/bbs-3.17-bioc/R/site-library’ * installing *source* package ‘GCSscore’ ... ** using staged installation ** R ** inst ** byte-compile and prepare package for lazy loading ** help *** installing help indices ** building package indices ** installing vignettes ** testing if installed package can be loaded from temporary location ** testing if installed package can be loaded from final location ** testing if installed package keeps a record of temporary installation path * DONE (GCSscore)
GCSscore.Rcheck/GCSscore-Ex.timings
| name | user | system | elapsed | |
| GCSscore | 0.004 | 0.000 | 0.004 | |
| calcSF | 0.001 | 0.000 | 0.000 | |
| computeSscore | 0 | 0 | 0 | |
| get3primeIVTprobefileData | 0 | 0 | 0 | |
| getClariomSprobefileData | 0 | 0 | 0 | |
| getXTAprobefileData | 0 | 0 | 0 | |
| mismatch | 0.000 | 0.000 | 0.001 | |
| normalize | 0.000 | 0.001 | 0.000 | |
| rawScore | 0 | 0 | 0 | |
| zoneRQ | 0 | 0 | 0 | |