| Back to Multiple platform build/check report for BioC 3.17 |
|
This page was generated on 2023-04-12 10:55:36 -0400 (Wed, 12 Apr 2023).
| Hostname | OS | Arch (*) | R version | Installed pkgs |
|---|---|---|---|---|
| nebbiolo1 | Linux (Ubuntu 22.04.1 LTS) | x86_64 | 4.3.0 alpha (2023-04-03 r84154) | 4547 |
| nebbiolo2 | Linux (Ubuntu 20.04.5 LTS) | x86_64 | R Under development (unstable) (2023-02-14 r83833) -- "Unsuffered Consequences" | 4333 |
| Click on any hostname to see more info about the system (e.g. compilers) (*) as reported by 'uname -p', except on Windows and Mac OS X | ||||
|
To the developers/maintainers of the FRGEpistasis package: - Allow up to 24 hours (and sometimes 48 hours) for your latest push to git@git.bioconductor.org:packages/FRGEpistasis.git to reflect on this report. See Troubleshooting Build Report for more information. - Use the following Renviron settings to reproduce errors and warnings. Note: If "R CMD check" recently failed on the Linux builder over a missing dependency, add the missing dependency to "Suggests" in your DESCRIPTION file. See the Renviron.bioc for details. |
| Package 733/2207 | Hostname | OS / Arch | INSTALL | BUILD | CHECK | BUILD BIN | ||||||||
| FRGEpistasis 1.35.0 (landing page) Futao Zhang
| nebbiolo1 | Linux (Ubuntu 22.04.1 LTS) / x86_64 | OK | OK | OK | |||||||||
| nebbiolo2 | Linux (Ubuntu 20.04.5 LTS) / x86_64 | OK | OK | OK | ||||||||||
| Package: FRGEpistasis |
| Version: 1.35.0 |
| Command: /home/biocbuild/bbs-3.17-bioc/R/bin/R CMD check --install=check:FRGEpistasis.install-out.txt --library=/home/biocbuild/bbs-3.17-bioc/R/site-library --timings FRGEpistasis_1.35.0.tar.gz |
| StartedAt: 2023-04-12 06:21:39 -0400 (Wed, 12 Apr 2023) |
| EndedAt: 2023-04-12 06:23:31 -0400 (Wed, 12 Apr 2023) |
| EllapsedTime: 112.4 seconds |
| RetCode: 0 |
| Status: OK |
| CheckDir: FRGEpistasis.Rcheck |
| Warnings: 0 |
##############################################################################
##############################################################################
###
### Running command:
###
### /home/biocbuild/bbs-3.17-bioc/R/bin/R CMD check --install=check:FRGEpistasis.install-out.txt --library=/home/biocbuild/bbs-3.17-bioc/R/site-library --timings FRGEpistasis_1.35.0.tar.gz
###
##############################################################################
##############################################################################
* using log directory ‘/home/biocbuild/bbs-3.17-bioc/meat/FRGEpistasis.Rcheck’
* using R Under development (unstable) (2023-02-14 r83833)
* using platform: x86_64-pc-linux-gnu (64-bit)
* R was compiled by
gcc (Ubuntu 9.4.0-1ubuntu1~20.04.1) 9.4.0
GNU Fortran (Ubuntu 9.4.0-1ubuntu1~20.04.1) 9.4.0
* running under: Ubuntu 20.04.6 LTS
* using session charset: UTF-8
* checking for file ‘FRGEpistasis/DESCRIPTION’ ... OK
* checking extension type ... Package
* this is package ‘FRGEpistasis’ version ‘1.35.0’
* checking package namespace information ... OK
* checking package dependencies ... OK
* checking if this is a source package ... OK
* checking if there is a namespace ... OK
* checking for hidden files and directories ... OK
* checking for portable file names ... OK
* checking for sufficient/correct file permissions ... OK
* checking whether package ‘FRGEpistasis’ can be installed ... OK
* checking installed package size ... OK
* checking package directory ... OK
* checking ‘build’ directory ... OK
* checking DESCRIPTION meta-information ... NOTE
Malformed Description field: should contain one or more complete sentences.
* checking top-level files ... OK
* checking for left-over files ... OK
* checking index information ... OK
* checking package subdirectories ... OK
* checking R files for non-ASCII characters ... OK
* checking R files for syntax errors ... OK
* checking whether the package can be loaded ... OK
* checking whether the package can be loaded with stated dependencies ... OK
* checking whether the package can be unloaded cleanly ... OK
* checking whether the namespace can be loaded with stated dependencies ... OK
* checking whether the namespace can be unloaded cleanly ... OK
* checking loading without being on the library search path ... OK
* checking dependencies in R code ... OK
* checking S3 generic/method consistency ... OK
* checking replacement functions ... OK
* checking foreign function calls ... OK
* checking R code for possible problems ... OK
* checking Rd files ... OK
* checking Rd metadata ... OK
* checking Rd cross-references ... OK
* checking for missing documentation entries ... OK
* checking for code/documentation mismatches ... OK
* checking Rd \usage sections ... OK
* checking Rd contents ... OK
* checking for unstated dependencies in examples ... OK
* checking files in ‘vignettes’ ... OK
* checking examples ... OK
Examples with CPU (user + system) or elapsed time > 5s
user system elapsed
pCAPiontwiseEpistasis 53.702 0.412 54.116
* checking for unstated dependencies in vignettes ... OK
* checking package vignettes in ‘inst/doc’ ... OK
* checking running R code from vignettes ...
‘FRGEpistasis.Rnw’ using ‘UTF-8’... OK
OK
* checking re-building of vignette outputs ... OK
* checking PDF version of manual ... OK
* DONE
Status: 1 NOTE
See
‘/home/biocbuild/bbs-3.17-bioc/meat/FRGEpistasis.Rcheck/00check.log’
for details.
FRGEpistasis.Rcheck/00install.out
############################################################################## ############################################################################## ### ### Running command: ### ### /home/biocbuild/bbs-3.17-bioc/R/bin/R CMD INSTALL FRGEpistasis ### ############################################################################## ############################################################################## * installing to library ‘/home/biocbuild/bbs-3.17-bioc/R/site-library’ * installing *source* package ‘FRGEpistasis’ ... ** using staged installation ** R ** inst ** byte-compile and prepare package for lazy loading ** help *** installing help indices ** building package indices ** installing vignettes ** testing if installed package can be loaded from temporary location ** testing if installed package can be loaded from final location ** testing if installed package keeps a record of temporary installation path * DONE (FRGEpistasis)
FRGEpistasis.Rcheck/FRGEpistasis-Ex.timings
| name | user | system | elapsed | |
| fRGEpistasis | 1.526 | 0.020 | 1.548 | |
| fRGInteraction | 0.001 | 0.000 | 0.002 | |
| fourierExpansion | 0.066 | 0.000 | 0.066 | |
| frgEpistasisTest | 0.726 | 0.024 | 0.749 | |
| innerEpi | 0.010 | 0.004 | 0.015 | |
| innerSnpListInteraction | 0.008 | 0.000 | 0.009 | |
| logTransPheno | 0.000 | 0.000 | 0.001 | |
| outerEpi | 0.068 | 0.000 | 0.069 | |
| outerSnpListInteraction | 0.009 | 0.000 | 0.009 | |
| pCAInteraction | 0.455 | 0.004 | 0.459 | |
| pCAPiontwiseEpistasis | 53.702 | 0.412 | 54.116 | |
| pointwiseInteraction | 0.164 | 0.008 | 0.172 | |
| rankTransPheno | 0.001 | 0.000 | 0.001 | |
| reduceGeno | 0.318 | 0.004 | 0.322 | |
| snpPairInteraction | 0.001 | 0.000 | 0.001 | |