| Back to Multiple platform build/check report for BioC 3.17 |
|
This page was generated on 2023-04-12 10:55:35 -0400 (Wed, 12 Apr 2023).
| Hostname | OS | Arch (*) | R version | Installed pkgs |
|---|---|---|---|---|
| nebbiolo1 | Linux (Ubuntu 22.04.1 LTS) | x86_64 | 4.3.0 alpha (2023-04-03 r84154) | 4547 |
| nebbiolo2 | Linux (Ubuntu 20.04.5 LTS) | x86_64 | R Under development (unstable) (2023-02-14 r83833) -- "Unsuffered Consequences" | 4333 |
| Click on any hostname to see more info about the system (e.g. compilers) (*) as reported by 'uname -p', except on Windows and Mac OS X | ||||
|
To the developers/maintainers of the DeepBlueR package: - Allow up to 24 hours (and sometimes 48 hours) for your latest push to git@git.bioconductor.org:packages/DeepBlueR.git to reflect on this report. See Troubleshooting Build Report for more information. - Use the following Renviron settings to reproduce errors and warnings. Note: If "R CMD check" recently failed on the Linux builder over a missing dependency, add the missing dependency to "Suggests" in your DESCRIPTION file. See the Renviron.bioc for details. |
| Package 507/2207 | Hostname | OS / Arch | INSTALL | BUILD | CHECK | BUILD BIN | ||||||||
| DeepBlueR 1.25.1 (landing page) Felipe Albrecht
| nebbiolo1 | Linux (Ubuntu 22.04.1 LTS) / x86_64 | OK | OK | OK | |||||||||
| nebbiolo2 | Linux (Ubuntu 20.04.5 LTS) / x86_64 | OK | OK | OK | ||||||||||
| Package: DeepBlueR |
| Version: 1.25.1 |
| Command: /home/biocbuild/bbs-3.17-bioc/R/bin/R CMD check --install=check:DeepBlueR.install-out.txt --library=/home/biocbuild/bbs-3.17-bioc/R/site-library --timings DeepBlueR_1.25.1.tar.gz |
| StartedAt: 2023-04-12 05:45:46 -0400 (Wed, 12 Apr 2023) |
| EndedAt: 2023-04-12 06:01:38 -0400 (Wed, 12 Apr 2023) |
| EllapsedTime: 952.4 seconds |
| RetCode: 0 |
| Status: OK |
| CheckDir: DeepBlueR.Rcheck |
| Warnings: 0 |
##############################################################################
##############################################################################
###
### Running command:
###
### /home/biocbuild/bbs-3.17-bioc/R/bin/R CMD check --install=check:DeepBlueR.install-out.txt --library=/home/biocbuild/bbs-3.17-bioc/R/site-library --timings DeepBlueR_1.25.1.tar.gz
###
##############################################################################
##############################################################################
* using log directory ‘/home/biocbuild/bbs-3.17-bioc/meat/DeepBlueR.Rcheck’
* using R Under development (unstable) (2023-02-14 r83833)
* using platform: x86_64-pc-linux-gnu (64-bit)
* R was compiled by
gcc (Ubuntu 9.4.0-1ubuntu1~20.04.1) 9.4.0
GNU Fortran (Ubuntu 9.4.0-1ubuntu1~20.04.1) 9.4.0
* running under: Ubuntu 20.04.6 LTS
* using session charset: UTF-8
* checking for file ‘DeepBlueR/DESCRIPTION’ ... OK
* checking extension type ... Package
* this is package ‘DeepBlueR’ version ‘1.25.1’
* checking package namespace information ... OK
* checking package dependencies ... OK
* checking if this is a source package ... OK
* checking if there is a namespace ... OK
* checking for hidden files and directories ... OK
* checking for portable file names ... OK
* checking for sufficient/correct file permissions ... OK
* checking whether package ‘DeepBlueR’ can be installed ... OK
* checking installed package size ... OK
* checking package directory ... OK
* checking ‘build’ directory ... OK
* checking DESCRIPTION meta-information ... OK
* checking top-level files ... OK
* checking for left-over files ... OK
* checking index information ... OK
* checking package subdirectories ... NOTE
Problems with news in ‘NEWS’:
Cannot process chunk/lines:
v0.99.0 Initial Bioconductor submission
Cannot process chunk/lines:
v1.0.0 Bioconductor 3.4 release
Cannot process chunk/lines:
v1.2.0 Bioconductor 3.5 release
Cannot process chunk/lines:
v1.4.0 Bioconductor 3.6 release
Cannot process chunk/lines:
v1.4.1 Bugfixes following changes in the DeepBlue API
* checking R files for non-ASCII characters ... OK
* checking R files for syntax errors ... OK
* checking whether the package can be loaded ... OK
* checking whether the package can be loaded with stated dependencies ... OK
* checking whether the package can be unloaded cleanly ... OK
* checking whether the namespace can be loaded with stated dependencies ... OK
* checking whether the namespace can be unloaded cleanly ... OK
* checking loading without being on the library search path ... OK
* checking dependencies in R code ... OK
* checking S3 generic/method consistency ... OK
* checking replacement functions ... OK
* checking foreign function calls ... OK
* checking R code for possible problems ... OK
* checking Rd files ... NOTE
prepare_Rd: deepblue_enrich_regions_fast.Rd:35-38: Dropping empty section \examples
* checking Rd metadata ... OK
* checking Rd cross-references ... OK
* checking for missing documentation entries ... OK
* checking for code/documentation mismatches ... OK
* checking Rd \usage sections ... OK
* checking Rd contents ... OK
* checking for unstated dependencies in examples ... OK
* checking files in ‘vignettes’ ... OK
* checking examples ... OK
* checking for unstated dependencies in vignettes ... OK
* checking package vignettes in ‘inst/doc’ ... OK
* checking running R code from vignettes ...
‘DeepBlueR.Rmd’ using ‘UTF-8’... OK
NONE
* checking re-building of vignette outputs ... OK
* checking PDF version of manual ... OK
* DONE
Status: 2 NOTEs
See
‘/home/biocbuild/bbs-3.17-bioc/meat/DeepBlueR.Rcheck/00check.log’
for details.
DeepBlueR.Rcheck/00install.out
############################################################################## ############################################################################## ### ### Running command: ### ### /home/biocbuild/bbs-3.17-bioc/R/bin/R CMD INSTALL DeepBlueR ### ############################################################################## ############################################################################## * installing to library ‘/home/biocbuild/bbs-3.17-bioc/R/site-library’ * installing *source* package ‘DeepBlueR’ ... ** using staged installation ** R ** demo ** inst ** byte-compile and prepare package for lazy loading Called method: deepblue_list_column_types Reported status was: okay Called method: deepblue_info Reported status was: okay ** help *** installing help indices ** building package indices ** installing vignettes ** testing if installed package can be loaded from temporary location ** testing if installed package can be loaded from final location ** testing if installed package keeps a record of temporary installation path * DONE (DeepBlueR)
DeepBlueR.Rcheck/DeepBlueR-Ex.timings
| name | user | system | elapsed | |
| deepblue_aggregate | 0.065 | 0.028 | 0.956 | |
| deepblue_batch_export_results | 0.401 | 0.064 | 3.332 | |
| deepblue_binning | 0.048 | 0.000 | 0.636 | |
| deepblue_cache_status | 0.002 | 0.000 | 0.003 | |
| deepblue_cancel_request | 0.018 | 0.000 | 0.310 | |
| deepblue_chromosomes | 0.060 | 0.008 | 0.360 | |
| deepblue_clear_cache | 0.001 | 0.000 | 0.001 | |
| deepblue_collection_experiments_count | 0.111 | 0.012 | 0.701 | |
| deepblue_commands | 0.129 | 0.004 | 1.407 | |
| deepblue_count_gene_ontology_terms | 0.124 | 0.004 | 0.617 | |
| deepblue_count_regions | 0.040 | 0.000 | 0.602 | |
| deepblue_coverage | 0.039 | 0.004 | 0.613 | |
| deepblue_delete_request_from_cache | 0.002 | 0.000 | 0.002 | |
| deepblue_diff | 0.131 | 0.028 | 0.744 | |
| deepblue_distinct_column_values | 0.044 | 0.000 | 0.629 | |
| deepblue_download_request_data | 0.243 | 0.084 | 1.722 | |
| deepblue_echo | 0.013 | 0.000 | 0.304 | |
| deepblue_enrich_regions_go_terms | 0.070 | 0.004 | 0.932 | |
| deepblue_enrich_regions_overlap | 0.643 | 0.028 | 4.845 | |
| deepblue_export_bed | 1.128 | 0.188 | 3.327 | |
| deepblue_export_meta_data | 0.248 | 0.019 | 0.678 | |
| deepblue_export_tab | 0.125 | 0.008 | 1.249 | |
| deepblue_extend | 0.037 | 0.001 | 0.604 | |
| deepblue_extract_ids | 0.001 | 0.000 | 0.001 | |
| deepblue_extract_names | 0.001 | 0.000 | 0.001 | |
| deepblue_faceting_experiments | 0.031 | 0.004 | 0.821 | |
| deepblue_filter_regions | 0.020 | 0.000 | 0.271 | |
| deepblue_find_motif | 0.027 | 0.000 | 0.320 | |
| deepblue_flank | 0.049 | 0.008 | 0.625 | |
| deepblue_get_biosource_children | 0.017 | 0.003 | 0.314 | |
| deepblue_get_biosource_parents | 0.016 | 0.000 | 0.311 | |
| deepblue_get_biosource_related | 0.016 | 0.004 | 0.318 | |
| deepblue_get_biosource_synonyms | 0.019 | 0.000 | 0.312 | |
| deepblue_get_experiments_by_query | 0.013 | 0.004 | 0.309 | |
| deepblue_get_regions | 0.038 | 0.004 | 0.614 | |
| deepblue_get_request_data | 0.063 | 0.004 | 1.263 | |
| deepblue_info | 0.042 | 0.000 | 0.336 | |
| deepblue_input_regions | 0.022 | 0.000 | 0.342 | |
| deepblue_intersection | 0.066 | 0.004 | 0.913 | |
| deepblue_is_biosource | 0.015 | 0.003 | 0.311 | |
| deepblue_liftover | 0.390 | 0.080 | 2.912 | |
| deepblue_list_annotations | 0.024 | 0.000 | 0.316 | |
| deepblue_list_biosources | 0.016 | 0.004 | 0.312 | |
| deepblue_list_cached_requests | 0.002 | 0.000 | 0.002 | |
| deepblue_list_column_types | 0.066 | 0.008 | 0.480 | |
| deepblue_list_epigenetic_marks | 0.269 | 0.036 | 1.512 | |
| deepblue_list_experiments | 0.149 | 0.008 | 0.814 | |
| deepblue_list_expressions | 0.189 | 0.012 | 0.729 | |
| deepblue_list_gene_models | 0.017 | 0.000 | 0.312 | |
| deepblue_list_genes | 0.248 | 0.024 | 1.936 | |
| deepblue_list_genomes | 0.018 | 0.000 | 0.310 | |
| deepblue_list_in_use | 0.305 | 0.024 | 2.039 | |
| deepblue_list_projects | 0.019 | 0.000 | 0.325 | |
| deepblue_list_recent_experiments | 0.037 | 0.000 | 0.330 | |
| deepblue_list_requests | 0.018 | 0.004 | 0.280 | |
| deepblue_list_samples | 0.200 | 0.028 | 1.238 | |
| deepblue_list_similar_biosources | 0.022 | 0.004 | 0.483 | |
| deepblue_list_similar_epigenetic_marks | 0.024 | 0.004 | 0.333 | |
| deepblue_list_similar_experiments | 0.021 | 0.000 | 0.894 | |
| deepblue_list_similar_genomes | 0.022 | 0.000 | 0.272 | |
| deepblue_list_similar_projects | 0.022 | 0.000 | 0.274 | |
| deepblue_list_similar_techniques | 0.022 | 0.000 | 0.314 | |
| deepblue_list_techniques | 0.033 | 0.000 | 0.327 | |
| deepblue_merge_queries | 0.074 | 0.004 | 0.883 | |
| deepblue_meta_data_to_table | 0.295 | 0.012 | 0.997 | |
| deepblue_name_to_id | 0.055 | 0.005 | 0.917 | |
| deepblue_overlap | 0.059 | 0.016 | 0.917 | |
| deepblue_preview_experiment | 0.010 | 0.006 | 0.312 | |
| deepblue_query_cache | 0.088 | 0.004 | 1.243 | |
| deepblue_query_experiment_type | 0.056 | 0.000 | 0.641 | |
| deepblue_reset_options | 0 | 0 | 0 | |
| deepblue_score_matrix | 0.055 | 0.004 | 0.645 | |
| deepblue_search | 0.040 | 0.004 | 0.663 | |
| deepblue_select_annotations | 0.021 | 0.000 | 0.314 | |
| deepblue_select_column | 0.455 | 0.020 | 2.000 | |
| deepblue_select_experiments | 0.023 | 0.004 | 0.279 | |
| deepblue_select_expressions | 0.027 | 0.004 | 0.283 | |
| deepblue_select_genes | 0.032 | 0.000 | 0.285 | |
| deepblue_select_regions | 0.027 | 0.000 | 0.322 | |
| deepblue_tiling_regions | 0.017 | 0.004 | 0.313 | |