| Back to Multiple platform build/check report for BioC 3.17 | 
 | 
This page was generated on 2023-04-04 10:55:27 -0400 (Tue, 04 Apr 2023).
| Hostname | OS | Arch (*) | R version | Installed pkgs | 
|---|---|---|---|---|
| nebbiolo1 | Linux (Ubuntu 22.04.1 LTS) | x86_64 | R Under development (unstable) (2023-03-16 r83996) -- "Unsuffered Consequences" | 4554 | 
| nebbiolo2 | Linux (Ubuntu 20.04.5 LTS) | x86_64 | R Under development (unstable) (2023-02-14 r83833) -- "Unsuffered Consequences" | 4314 | 
| Click on any hostname to see more info about the system (e.g. compilers) (*) as reported by 'uname -p', except on Windows and Mac OS X | ||||
| To the developers/maintainers of the CytoGLMM package: - Allow up to 24 hours (and sometimes 48 hours) for your latest push to git@git.bioconductor.org:packages/CytoGLMM.git to reflect on this report. See Troubleshooting Build Report for more information. - Use the following Renviron settings to reproduce errors and warnings. Note: If "R CMD check" recently failed on the Linux builder over a missing dependency, add the missing dependency to "Suggests" in your DESCRIPTION file. See the Renviron.bioc for details. | 
| Package 474/2200 | Hostname | OS / Arch | INSTALL | BUILD | CHECK | BUILD BIN | ||||||||
| CytoGLMM 1.7.0  (landing page) Christof Seiler 
 | nebbiolo1 | Linux (Ubuntu 22.04.1 LTS) / x86_64 | OK | OK | OK | |||||||||
| nebbiolo2 | Linux (Ubuntu 20.04.5 LTS) / x86_64 | OK | OK | OK | ||||||||||
| Package: CytoGLMM | 
| Version: 1.7.0 | 
| Command: /home/biocbuild/bbs-3.17-bioc/R/bin/R CMD check --install=check:CytoGLMM.install-out.txt --library=/home/biocbuild/bbs-3.17-bioc/R/site-library --timings CytoGLMM_1.7.0.tar.gz | 
| StartedAt: 2023-04-03 19:44:20 -0400 (Mon, 03 Apr 2023) | 
| EndedAt: 2023-04-03 19:48:03 -0400 (Mon, 03 Apr 2023) | 
| EllapsedTime: 223.4 seconds | 
| RetCode: 0 | 
| Status: OK | 
| CheckDir: CytoGLMM.Rcheck | 
| Warnings: 0 | 
##############################################################################
##############################################################################
###
### Running command:
###
###   /home/biocbuild/bbs-3.17-bioc/R/bin/R CMD check --install=check:CytoGLMM.install-out.txt --library=/home/biocbuild/bbs-3.17-bioc/R/site-library --timings CytoGLMM_1.7.0.tar.gz
###
##############################################################################
##############################################################################
* using log directory ‘/home/biocbuild/bbs-3.17-bioc/meat/CytoGLMM.Rcheck’
* using R Under development (unstable) (2023-03-16 r83996)
* using platform: x86_64-pc-linux-gnu (64-bit)
* R was compiled by
    gcc (Ubuntu 11.3.0-1ubuntu1~22.04) 11.3.0
    GNU Fortran (Ubuntu 11.3.0-1ubuntu1~22.04) 11.3.0
* running under: Ubuntu 22.04.2 LTS
* using session charset: UTF-8
* checking for file ‘CytoGLMM/DESCRIPTION’ ... OK
* checking extension type ... Package
* this is package ‘CytoGLMM’ version ‘1.7.0’
* package encoding: UTF-8
* checking package namespace information ... OK
* checking package dependencies ... OK
* checking if this is a source package ... OK
* checking if there is a namespace ... OK
* checking for hidden files and directories ... OK
* checking for portable file names ... OK
* checking for sufficient/correct file permissions ... OK
* checking whether package ‘CytoGLMM’ can be installed ... OK
* checking installed package size ... OK
* checking package directory ... OK
* checking ‘build’ directory ... OK
* checking DESCRIPTION meta-information ... OK
* checking top-level files ... OK
* checking for left-over files ... OK
* checking index information ... OK
* checking package subdirectories ... OK
* checking R files for non-ASCII characters ... OK
* checking R files for syntax errors ... OK
* checking whether the package can be loaded ... OK
* checking whether the package can be loaded with stated dependencies ... OK
* checking whether the package can be unloaded cleanly ... OK
* checking whether the namespace can be loaded with stated dependencies ... OK
* checking whether the namespace can be unloaded cleanly ... OK
* checking loading without being on the library search path ... OK
* checking dependencies in R code ... OK
* checking S3 generic/method consistency ... OK
* checking replacement functions ... OK
* checking foreign function calls ... OK
* checking R code for possible problems ... OK
* checking Rd files ... OK
* checking Rd metadata ... OK
* checking Rd cross-references ... OK
* checking for missing documentation entries ... OK
* checking for code/documentation mismatches ... OK
* checking Rd \usage sections ... OK
* checking Rd contents ... OK
* checking for unstated dependencies in examples ... OK
* checking files in ‘vignettes’ ... OK
* checking examples ... OK
* checking for unstated dependencies in ‘tests’ ... OK
* checking tests ...
  Running ‘testthat.R’
 OK
* checking for unstated dependencies in vignettes ... OK
* checking package vignettes in ‘inst/doc’ ... OK
* checking running R code from vignettes ...
  ‘CytoGLMM.Rmd’ using ‘UTF-8’... OK
 NONE
* checking re-building of vignette outputs ... OK
* checking PDF version of manual ... OK
* DONE
Status: OK
CytoGLMM.Rcheck/00install.out
############################################################################## ############################################################################## ### ### Running command: ### ### /home/biocbuild/bbs-3.17-bioc/R/bin/R CMD INSTALL CytoGLMM ### ############################################################################## ############################################################################## * installing to library ‘/home/biocbuild/bbs-3.17-bioc/R/site-library’ * installing *source* package ‘CytoGLMM’ ... ** using staged installation ** R ** inst ** byte-compile and prepare package for lazy loading ** help *** installing help indices ** building package indices ** installing vignettes ** testing if installed package can be loaded from temporary location ** testing if installed package can be loaded from final location ** testing if installed package keeps a record of temporary installation path * DONE (CytoGLMM)
CytoGLMM.Rcheck/tests/testthat.Rout
R Under development (unstable) (2023-03-16 r83996) -- "Unsuffered Consequences"
Copyright (C) 2023 The R Foundation for Statistical Computing
Platform: x86_64-pc-linux-gnu (64-bit)
R is free software and comes with ABSOLUTELY NO WARRANTY.
You are welcome to redistribute it under certain conditions.
Type 'license()' or 'licence()' for distribution details.
R is a collaborative project with many contributors.
Type 'contributors()' for more information and
'citation()' on how to cite R or R packages in publications.
Type 'demo()' for some demos, 'help()' for on-line help, or
'help.start()' for an HTML browser interface to help.
Type 'q()' to quit R.
> library(testthat)
> library(CytoGLMM)
> 
> test_check("CytoGLMM")
[ FAIL 0 | WARN 0 | SKIP 0 | PASS 1 ]
> 
> proc.time()
   user  system elapsed 
  3.679   0.284   3.953 
CytoGLMM.Rcheck/CytoGLMM-Ex.timings
| name | user | system | elapsed | |
| cytoflexmix | 4.71 | 0.22 | 4.93 | |
| cytoglm | 1.098 | 0.052 | 1.151 | |
| cytoglmm | 0.507 | 0.056 | 0.563 | |
| cytogroup | 1.067 | 0.052 | 1.118 | |
| cytostab | 0.200 | 0.012 | 0.212 | |
| generate_data | 0.101 | 0.000 | 0.101 | |
| plot.cytoflexmix | 4.574 | 0.120 | 4.695 | |
| plot.cytoglm | 1.755 | 0.048 | 1.803 | |
| plot.cytoglmm | 0.340 | 0.028 | 0.368 | |
| plot.cytogroup | 1.227 | 0.036 | 1.262 | |
| plot_heatmap | 0.193 | 0.004 | 0.197 | |
| plot_lda | 1.365 | 0.064 | 1.429 | |
| plot_mds | 0.467 | 0.008 | 0.476 | |
| plot_model_selection | 4.603 | 0.084 | 4.687 | |
| plot_prcomp | 1.623 | 0.044 | 1.667 | |
| print.cytoglm | 1.017 | 0.016 | 1.033 | |
| print.cytoglmm | 0.186 | 0.007 | 0.193 | |
| summary.cytoglm | 1.105 | 0.040 | 1.145 | |
| summary.cytoglmm | 0.198 | 0.004 | 0.202 | |