| Back to Multiple platform build/check report for BioC 3.17 | 
 | 
This page was generated on 2023-04-12 10:55:23 -0400 (Wed, 12 Apr 2023).
| Hostname | OS | Arch (*) | R version | Installed pkgs | 
|---|---|---|---|---|
| nebbiolo1 | Linux (Ubuntu 22.04.1 LTS) | x86_64 | 4.3.0 alpha (2023-04-03 r84154) | 4547 | 
| nebbiolo2 | Linux (Ubuntu 20.04.5 LTS) | x86_64 | R Under development (unstable) (2023-02-14 r83833) -- "Unsuffered Consequences" | 4333 | 
| Click on any hostname to see more info about the system (e.g. compilers) (*) as reported by 'uname -p', except on Windows and Mac OS X | ||||
| To the developers/maintainers of the ConsensusClusterPlus package: - Allow up to 24 hours (and sometimes 48 hours) for your latest push to git@git.bioconductor.org:packages/ConsensusClusterPlus.git to reflect on this report. See Troubleshooting Build Report for more information. - Use the following Renviron settings to reproduce errors and warnings. Note: If "R CMD check" recently failed on the Linux builder over a missing dependency, add the missing dependency to "Suggests" in your DESCRIPTION file. See the Renviron.bioc for details. | 
| Package 413/2207 | Hostname | OS / Arch | INSTALL | BUILD | CHECK | BUILD BIN | ||||||||
| ConsensusClusterPlus 1.63.0  (landing page) Matt Wilkerson 
 | nebbiolo1 | Linux (Ubuntu 22.04.1 LTS) / x86_64 | OK | OK | OK | |||||||||
| nebbiolo2 | Linux (Ubuntu 20.04.5 LTS) / x86_64 | OK | OK | OK | ||||||||||
| Package: ConsensusClusterPlus | 
| Version: 1.63.0 | 
| Command: /home/biocbuild/bbs-3.17-bioc/R/bin/R CMD check --install=check:ConsensusClusterPlus.install-out.txt --library=/home/biocbuild/bbs-3.17-bioc/R/site-library --timings ConsensusClusterPlus_1.63.0.tar.gz | 
| StartedAt: 2023-04-11 19:30:02 -0400 (Tue, 11 Apr 2023) | 
| EndedAt: 2023-04-11 19:30:37 -0400 (Tue, 11 Apr 2023) | 
| EllapsedTime: 35.7 seconds | 
| RetCode: 0 | 
| Status: OK | 
| CheckDir: ConsensusClusterPlus.Rcheck | 
| Warnings: 0 | 
##############################################################################
##############################################################################
###
### Running command:
###
###   /home/biocbuild/bbs-3.17-bioc/R/bin/R CMD check --install=check:ConsensusClusterPlus.install-out.txt --library=/home/biocbuild/bbs-3.17-bioc/R/site-library --timings ConsensusClusterPlus_1.63.0.tar.gz
###
##############################################################################
##############################################################################
* using log directory ‘/home/biocbuild/bbs-3.17-bioc/meat/ConsensusClusterPlus.Rcheck’
* using R version 4.3.0 alpha (2023-04-03 r84154)
* using platform: x86_64-pc-linux-gnu (64-bit)
* R was compiled by
    gcc (Ubuntu 11.3.0-1ubuntu1~22.04) 11.3.0
    GNU Fortran (Ubuntu 11.3.0-1ubuntu1~22.04) 11.3.0
* running under: Ubuntu 22.04.2 LTS
* using session charset: UTF-8
* checking for file ‘ConsensusClusterPlus/DESCRIPTION’ ... OK
* checking extension type ... Package
* this is package ‘ConsensusClusterPlus’ version ‘1.63.0’
* checking package namespace information ... OK
* checking package dependencies ... OK
* checking if this is a source package ... OK
* checking if there is a namespace ... OK
* checking for hidden files and directories ... OK
* checking for portable file names ... OK
* checking for sufficient/correct file permissions ... OK
* checking whether package ‘ConsensusClusterPlus’ can be installed ... OK
* checking installed package size ... OK
* checking package directory ... OK
* checking ‘build’ directory ... OK
* checking DESCRIPTION meta-information ... NOTE
Malformed Description field: should contain one or more complete sentences.
Non-standard license specification:
  GPL version 2
Standardizable: TRUE
Standardized license specification:
  GPL-2
* checking top-level files ... OK
* checking for left-over files ... OK
* checking index information ... OK
* checking package subdirectories ... OK
* checking R files for non-ASCII characters ... OK
* checking R files for syntax errors ... OK
* checking whether the package can be loaded ... OK
* checking whether the package can be loaded with stated dependencies ... OK
* checking whether the package can be unloaded cleanly ... OK
* checking whether the namespace can be loaded with stated dependencies ... OK
* checking whether the namespace can be unloaded cleanly ... OK
* checking loading without being on the library search path ... OK
* checking dependencies in R code ... NOTE
Namespace in Imports field not imported from: ‘ALL’
  All declared Imports should be used.
* checking S3 generic/method consistency ... OK
* checking replacement functions ... OK
* checking foreign function calls ... OK
* checking R code for possible problems ... NOTE
ConsensusClusterPlus: warning in heatmap(pc, Colv = NA, Rowv = NA, symm
  = FALSE, scale = "none", col = tmyPal, na.rm = TRUE, labRow = F,
  labCol = F, mar = c(5, 5), main = paste("consensus matrix k=", tk,
  sep = ""), ColSideCol = oc): partial argument match of 'mar' to
  'margins'
ConsensusClusterPlus: warning in heatmap(pc, Colv = NA, Rowv = NA, symm
  = FALSE, scale = "none", col = tmyPal, na.rm = TRUE, labRow = F,
  labCol = F, mar = c(5, 5), main = paste("consensus matrix k=", tk,
  sep = ""), ColSideCol = oc): partial argument match of 'ColSideCol'
  to 'ColSideColors'
ConsensusClusterPlus: warning in heatmap(pc, Colv = as.dendrogram(hc),
  Rowv = NA, symm = FALSE, scale = "none", col = tmyPal, na.rm = TRUE,
  labRow = F, labCol = F, mar = c(5, 5), main = paste("consensus matrix
  k=", tk, sep = ""), ColSideCol = colorList[[1]]): partial argument
  match of 'mar' to 'margins'
ConsensusClusterPlus: warning in heatmap(pc, Colv = as.dendrogram(hc),
  Rowv = NA, symm = FALSE, scale = "none", col = tmyPal, na.rm = TRUE,
  labRow = F, labCol = F, mar = c(5, 5), main = paste("consensus matrix
  k=", tk, sep = ""), ColSideCol = colorList[[1]]): partial argument
  match of 'ColSideCol' to 'ColSideColors'
ConsensusClusterPlus: no visible global function definition for
  ‘bitmap’
ConsensusClusterPlus: no visible global function definition for
  ‘postscript’
calcICL: no visible global function definition for ‘postscript’
calcICL: no visible global function definition for ‘bitmap’
Undefined global functions or variables:
  bitmap postscript
Consider adding
  importFrom("grDevices", "bitmap", "postscript")
to your NAMESPACE file.
* checking Rd files ... OK
* checking Rd metadata ... OK
* checking Rd cross-references ... OK
* checking for missing documentation entries ... OK
* checking for code/documentation mismatches ... OK
* checking Rd \usage sections ... OK
* checking Rd contents ... OK
* checking for unstated dependencies in examples ... OK
* checking files in ‘vignettes’ ... OK
* checking examples ... OK
* checking for unstated dependencies in vignettes ... OK
* checking package vignettes in ‘inst/doc’ ... OK
* checking running R code from vignettes ...
  ‘ConsensusClusterPlus.Rnw’... OK
 OK
* checking re-building of vignette outputs ... OK
* checking PDF version of manual ... OK
* DONE
Status: 3 NOTEs
See
  ‘/home/biocbuild/bbs-3.17-bioc/meat/ConsensusClusterPlus.Rcheck/00check.log’
for details.
ConsensusClusterPlus.Rcheck/00install.out
############################################################################## ############################################################################## ### ### Running command: ### ### /home/biocbuild/bbs-3.17-bioc/R/bin/R CMD INSTALL ConsensusClusterPlus ### ############################################################################## ############################################################################## * installing to library ‘/home/biocbuild/bbs-3.17-bioc/R/site-library’ * installing *source* package ‘ConsensusClusterPlus’ ... ** using staged installation ** R ** inst ** byte-compile and prepare package for lazy loading ** help *** installing help indices ** building package indices ** installing vignettes ** testing if installed package can be loaded from temporary location ** testing if installed package can be loaded from final location ** testing if installed package keeps a record of temporary installation path * DONE (ConsensusClusterPlus)
ConsensusClusterPlus.Rcheck/ConsensusClusterPlus-Ex.timings
| name | user | system | elapsed | |
| ConsensusClusterPlus | 1.144 | 0.068 | 1.212 | |