| Back to Multiple platform build/check report for BioC 3.17 | 
 | 
This page was generated on 2023-04-12 10:55:34 -0400 (Wed, 12 Apr 2023).
| Hostname | OS | Arch (*) | R version | Installed pkgs | 
|---|---|---|---|---|
| nebbiolo1 | Linux (Ubuntu 22.04.1 LTS) | x86_64 | 4.3.0 alpha (2023-04-03 r84154) | 4547 | 
| nebbiolo2 | Linux (Ubuntu 20.04.5 LTS) | x86_64 | R Under development (unstable) (2023-02-14 r83833) -- "Unsuffered Consequences" | 4333 | 
| Click on any hostname to see more info about the system (e.g. compilers) (*) as reported by 'uname -p', except on Windows and Mac OS X | ||||
| To the developers/maintainers of the CellBench package: - Allow up to 24 hours (and sometimes 48 hours) for your latest push to git@git.bioconductor.org:packages/CellBench.git to reflect on this report. See Troubleshooting Build Report for more information. - Use the following Renviron settings to reproduce errors and warnings. Note: If "R CMD check" recently failed on the Linux builder over a missing dependency, add the missing dependency to "Suggests" in your DESCRIPTION file. See the Renviron.bioc for details. | 
| Package 287/2207 | Hostname | OS / Arch | INSTALL | BUILD | CHECK | BUILD BIN | ||||||||
| CellBench 1.15.7  (landing page) Shian Su 
 | nebbiolo1 | Linux (Ubuntu 22.04.1 LTS) / x86_64 | OK | OK | OK | |||||||||
| nebbiolo2 | Linux (Ubuntu 20.04.5 LTS) / x86_64 | OK | OK | OK | ||||||||||
| Package: CellBench | 
| Version: 1.15.7 | 
| Command: /home/biocbuild/bbs-3.17-bioc/R/bin/R CMD check --install=check:CellBench.install-out.txt --library=/home/biocbuild/bbs-3.17-bioc/R/site-library --timings CellBench_1.15.7.tar.gz | 
| StartedAt: 2023-04-12 05:11:51 -0400 (Wed, 12 Apr 2023) | 
| EndedAt: 2023-04-12 05:16:20 -0400 (Wed, 12 Apr 2023) | 
| EllapsedTime: 268.9 seconds | 
| RetCode: 0 | 
| Status: OK | 
| CheckDir: CellBench.Rcheck | 
| Warnings: 0 | 
##############################################################################
##############################################################################
###
### Running command:
###
###   /home/biocbuild/bbs-3.17-bioc/R/bin/R CMD check --install=check:CellBench.install-out.txt --library=/home/biocbuild/bbs-3.17-bioc/R/site-library --timings CellBench_1.15.7.tar.gz
###
##############################################################################
##############################################################################
* using log directory ‘/home/biocbuild/bbs-3.17-bioc/meat/CellBench.Rcheck’
* using R Under development (unstable) (2023-02-14 r83833)
* using platform: x86_64-pc-linux-gnu (64-bit)
* R was compiled by
    gcc (Ubuntu 9.4.0-1ubuntu1~20.04.1) 9.4.0
    GNU Fortran (Ubuntu 9.4.0-1ubuntu1~20.04.1) 9.4.0
* running under: Ubuntu 20.04.6 LTS
* using session charset: UTF-8
* checking for file ‘CellBench/DESCRIPTION’ ... OK
* checking extension type ... Package
* this is package ‘CellBench’ version ‘1.15.7’
* package encoding: UTF-8
* checking package namespace information ... OK
* checking package dependencies ... OK
* checking if this is a source package ... OK
* checking if there is a namespace ... OK
* checking for hidden files and directories ... OK
* checking for portable file names ... OK
* checking for sufficient/correct file permissions ... OK
* checking whether package ‘CellBench’ can be installed ... OK
* checking installed package size ... OK
* checking package directory ... OK
* checking ‘build’ directory ... OK
* checking DESCRIPTION meta-information ... OK
* checking top-level files ... OK
* checking for left-over files ... OK
* checking index information ... OK
* checking package subdirectories ... OK
* checking R files for non-ASCII characters ... OK
* checking R files for syntax errors ... OK
* checking whether the package can be loaded ... OK
* checking whether the package can be loaded with stated dependencies ... OK
* checking whether the package can be unloaded cleanly ... OK
* checking whether the namespace can be loaded with stated dependencies ... OK
* checking whether the namespace can be unloaded cleanly ... OK
* checking loading without being on the library search path ... OK
* checking dependencies in R code ... OK
* checking S3 generic/method consistency ... OK
* checking replacement functions ... OK
* checking foreign function calls ... OK
* checking R code for possible problems ... OK
* checking Rd files ... OK
* checking Rd metadata ... OK
* checking Rd cross-references ... OK
* checking for missing documentation entries ... OK
* checking for code/documentation mismatches ... OK
* checking Rd \usage sections ... OK
* checking Rd contents ... OK
* checking for unstated dependencies in examples ... OK
* checking contents of ‘data’ directory ... OK
* checking data for non-ASCII characters ... OK
* checking LazyData ... OK
* checking data for ASCII and uncompressed saves ... OK
* checking files in ‘vignettes’ ... OK
* checking examples ... OK
* checking for unstated dependencies in ‘tests’ ... OK
* checking tests ...
  Running ‘testthat.R’
 OK
* checking for unstated dependencies in vignettes ... OK
* checking package vignettes in ‘inst/doc’ ... OK
* checking running R code from vignettes ...
  ‘DataManipulation.Rmd’ using ‘UTF-8’... OK
  ‘Introduction.Rmd’ using ‘UTF-8’... OK
  ‘TidyversePatterns.Rmd’ using ‘UTF-8’... OK
  ‘Timing.Rmd’ using ‘UTF-8’... OK
  ‘WritingWrappers.Rmd’ using ‘UTF-8’... OK
 NONE
* checking re-building of vignette outputs ... OK
* checking PDF version of manual ... OK
* DONE
Status: OK
CellBench.Rcheck/00install.out
############################################################################## ############################################################################## ### ### Running command: ### ### /home/biocbuild/bbs-3.17-bioc/R/bin/R CMD INSTALL CellBench ### ############################################################################## ############################################################################## * installing to library ‘/home/biocbuild/bbs-3.17-bioc/R/site-library’ * installing *source* package ‘CellBench’ ... ** using staged installation ** R ** data *** moving datasets to lazyload DB ** inst ** byte-compile and prepare package for lazy loading ** help *** installing help indices ** building package indices ** installing vignettes ** testing if installed package can be loaded from temporary location ** testing if installed package can be loaded from final location ** testing if installed package keeps a record of temporary installation path * DONE (CellBench)
CellBench.Rcheck/tests/testthat.Rout
R Under development (unstable) (2023-02-14 r83833) -- "Unsuffered Consequences"
Copyright (C) 2023 The R Foundation for Statistical Computing
Platform: x86_64-pc-linux-gnu (64-bit)
R is free software and comes with ABSOLUTELY NO WARRANTY.
You are welcome to redistribute it under certain conditions.
Type 'license()' or 'licence()' for distribution details.
R is a collaborative project with many contributors.
Type 'contributors()' for more information and
'citation()' on how to cite R or R packages in publications.
Type 'demo()' for some demos, 'help()' for on-line help, or
'help.start()' for an HTML browser interface to help.
Type 'q()' to quit R.
> library(testthat)
> library(CellBench)
Loading required package: SingleCellExperiment
Loading required package: SummarizedExperiment
Loading required package: MatrixGenerics
Loading required package: matrixStats
Attaching package: 'MatrixGenerics'
The following objects are masked from 'package:matrixStats':
    colAlls, colAnyNAs, colAnys, colAvgsPerRowSet, colCollapse,
    colCounts, colCummaxs, colCummins, colCumprods, colCumsums,
    colDiffs, colIQRDiffs, colIQRs, colLogSumExps, colMadDiffs,
    colMads, colMaxs, colMeans2, colMedians, colMins, colOrderStats,
    colProds, colQuantiles, colRanges, colRanks, colSdDiffs, colSds,
    colSums2, colTabulates, colVarDiffs, colVars, colWeightedMads,
    colWeightedMeans, colWeightedMedians, colWeightedSds,
    colWeightedVars, rowAlls, rowAnyNAs, rowAnys, rowAvgsPerColSet,
    rowCollapse, rowCounts, rowCummaxs, rowCummins, rowCumprods,
    rowCumsums, rowDiffs, rowIQRDiffs, rowIQRs, rowLogSumExps,
    rowMadDiffs, rowMads, rowMaxs, rowMeans2, rowMedians, rowMins,
    rowOrderStats, rowProds, rowQuantiles, rowRanges, rowRanks,
    rowSdDiffs, rowSds, rowSums2, rowTabulates, rowVarDiffs, rowVars,
    rowWeightedMads, rowWeightedMeans, rowWeightedMedians,
    rowWeightedSds, rowWeightedVars
Loading required package: GenomicRanges
Loading required package: stats4
Loading required package: BiocGenerics
Attaching package: 'BiocGenerics'
The following objects are masked from 'package:stats':
    IQR, mad, sd, var, xtabs
The following objects are masked from 'package:base':
    Filter, Find, Map, Position, Reduce, anyDuplicated, aperm, append,
    as.data.frame, basename, cbind, colnames, dirname, do.call,
    duplicated, eval, evalq, get, grep, grepl, intersect, is.unsorted,
    lapply, mapply, match, mget, order, paste, pmax, pmax.int, pmin,
    pmin.int, rank, rbind, rownames, sapply, setdiff, sort, table,
    tapply, union, unique, unsplit, which.max, which.min
Loading required package: S4Vectors
Attaching package: 'S4Vectors'
The following objects are masked from 'package:base':
    I, expand.grid, unname
Loading required package: IRanges
Loading required package: GenomeInfoDb
Loading required package: Biobase
Welcome to Bioconductor
    Vignettes contain introductory material; view with
    'browseVignettes()'. To cite Bioconductor, see
    'citation("Biobase")', and for packages 'citation("pkgname")'.
Attaching package: 'Biobase'
The following object is masked from 'package:MatrixGenerics':
    rowMedians
The following objects are masked from 'package:matrixStats':
    anyMissing, rowMedians
Loading required package: magrittr
Attaching package: 'magrittr'
The following object is masked from 'package:GenomicRanges':
    subtract
The following objects are masked from 'package:testthat':
    equals, is_less_than, not
Loading required package: tibble
> 
> test_check("CellBench")
[ FAIL 0 | WARN 0 | SKIP 0 | PASS 102 ]
> 
> proc.time()
   user  system elapsed 
 15.716   1.340  16.608 
CellBench.Rcheck/CellBench-Ex.timings
| name | user | system | elapsed | |
| all_unique | 0.000 | 0.000 | 0.001 | |
| apply_methods | 0.063 | 0.004 | 0.067 | |
| arrow_sep | 0.011 | 0.000 | 0.011 | |
| as_pipeline_list | 0.049 | 0.012 | 0.060 | |
| cache_method | 0.008 | 0.000 | 0.008 | |
| cellbench_case_study | 0 | 0 | 0 | |
| cellbench_file | 0.002 | 0.000 | 0.001 | |
| check_class | 0.002 | 0.000 | 0.002 | |
| clear_cached_datasets | 0.000 | 0.000 | 0.001 | |
| clear_cellbench_cache | 0 | 0 | 0 | |
| collapse_pipeline | 0.061 | 0.004 | 0.065 | |
| data_list | 0.005 | 0.004 | 0.009 | |
| filter_zero_genes | 0.001 | 0.000 | 0.001 | |
| fn_arg_seq | 0.027 | 0.008 | 0.035 | |
| fn_list | 0.002 | 0.000 | 0.002 | |
| keep_high_count_cells | 0.285 | 0.100 | 0.385 | |
| keep_high_count_genes | 0.185 | 0.044 | 0.229 | |
| keep_high_var_genes | 0.147 | 0.028 | 0.205 | |
| load_all_data | 0.000 | 0.000 | 0.001 | |
| mhead | 0.000 | 0.001 | 0.000 | |
| print.fn_arg_seq | 0.013 | 0.006 | 0.020 | |
| sample_cells | 0.049 | 0.008 | 0.099 | |
| sample_genes | 0.073 | 0.008 | 0.114 | |
| set_cellbench_bpparam | 0.000 | 0.003 | 0.004 | |
| set_cellbench_cache_path | 0 | 0 | 0 | |
| set_cellbench_threads | 0.003 | 0.000 | 0.003 | |
| split_step | 0.052 | 0.004 | 0.055 | |
| strip_timing | 0 | 0 | 0 | |
| summary.benchmark_tbl | 0.021 | 0.000 | 0.021 | |
| time_methods | 3.004 | 0.380 | 3.384 | |
| unpack_timing | 0.001 | 0.000 | 0.000 | |