| Back to Multiple platform build/check report for BioC 3.17 |
|
This page was generated on 2023-04-12 10:55:34 -0400 (Wed, 12 Apr 2023).
| Hostname | OS | Arch (*) | R version | Installed pkgs |
|---|---|---|---|---|
| nebbiolo1 | Linux (Ubuntu 22.04.1 LTS) | x86_64 | 4.3.0 alpha (2023-04-03 r84154) | 4547 |
| nebbiolo2 | Linux (Ubuntu 20.04.5 LTS) | x86_64 | R Under development (unstable) (2023-02-14 r83833) -- "Unsuffered Consequences" | 4333 |
| Click on any hostname to see more info about the system (e.g. compilers) (*) as reported by 'uname -p', except on Windows and Mac OS X | ||||
|
To the developers/maintainers of the Cardinal package: - Allow up to 24 hours (and sometimes 48 hours) for your latest push to git@git.bioconductor.org:packages/Cardinal.git to reflect on this report. See Troubleshooting Build Report for more information. - Use the following Renviron settings to reproduce errors and warnings. Note: If "R CMD check" recently failed on the Linux builder over a missing dependency, add the missing dependency to "Suggests" in your DESCRIPTION file. See the Renviron.bioc for details. |
| Package 266/2207 | Hostname | OS / Arch | INSTALL | BUILD | CHECK | BUILD BIN | ||||||||
| Cardinal 3.1.0 (landing page) Kylie A. Bemis
| nebbiolo1 | Linux (Ubuntu 22.04.1 LTS) / x86_64 | OK | OK | WARNINGS | |||||||||
| nebbiolo2 | Linux (Ubuntu 20.04.5 LTS) / x86_64 | OK | OK | WARNINGS | ||||||||||
| Package: Cardinal |
| Version: 3.1.0 |
| Command: /home/biocbuild/bbs-3.17-bioc/R/bin/R CMD check --install=check:Cardinal.install-out.txt --library=/home/biocbuild/bbs-3.17-bioc/R/site-library --timings Cardinal_3.1.0.tar.gz |
| StartedAt: 2023-04-12 05:07:52 -0400 (Wed, 12 Apr 2023) |
| EndedAt: 2023-04-12 05:13:08 -0400 (Wed, 12 Apr 2023) |
| EllapsedTime: 315.8 seconds |
| RetCode: 0 |
| Status: WARNINGS |
| CheckDir: Cardinal.Rcheck |
| Warnings: 1 |
##############################################################################
##############################################################################
###
### Running command:
###
### /home/biocbuild/bbs-3.17-bioc/R/bin/R CMD check --install=check:Cardinal.install-out.txt --library=/home/biocbuild/bbs-3.17-bioc/R/site-library --timings Cardinal_3.1.0.tar.gz
###
##############################################################################
##############################################################################
* using log directory ‘/home/biocbuild/bbs-3.17-bioc/meat/Cardinal.Rcheck’
* using R Under development (unstable) (2023-02-14 r83833)
* using platform: x86_64-pc-linux-gnu (64-bit)
* R was compiled by
gcc (Ubuntu 9.4.0-1ubuntu1~20.04.1) 9.4.0
GNU Fortran (Ubuntu 9.4.0-1ubuntu1~20.04.1) 9.4.0
* running under: Ubuntu 20.04.6 LTS
* using session charset: UTF-8
* checking for file ‘Cardinal/DESCRIPTION’ ... OK
* checking extension type ... Package
* this is package ‘Cardinal’ version ‘3.1.0’
* checking package namespace information ... OK
* checking package dependencies ... OK
* checking if this is a source package ... OK
* checking if there is a namespace ... OK
* checking for hidden files and directories ... OK
* checking for portable file names ... OK
* checking for sufficient/correct file permissions ... OK
* checking whether package ‘Cardinal’ can be installed ... OK
* used C++ compiler: ‘g++ (Ubuntu 9.4.0-1ubuntu1~20.04.1) 9.4.0’
* checking installed package size ... OK
* checking package directory ... OK
* checking ‘build’ directory ... OK
* checking DESCRIPTION meta-information ... OK
* checking top-level files ... OK
* checking for left-over files ... OK
* checking index information ... OK
* checking package subdirectories ... OK
* checking R files for non-ASCII characters ... OK
* checking R files for syntax errors ... OK
* checking whether the package can be loaded ... OK
* checking whether the package can be loaded with stated dependencies ... OK
* checking whether the package can be unloaded cleanly ... OK
* checking whether the namespace can be loaded with stated dependencies ... OK
* checking whether the namespace can be unloaded cleanly ... OK
* checking loading without being on the library search path ... OK
* checking dependencies in R code ... OK
* checking S3 generic/method consistency ... OK
* checking replacement functions ... OK
* checking foreign function calls ... OK
* checking R code for possible problems ... OK
* checking Rd files ... NOTE
checkRd: (-1) topFeatures-methods.Rd:73: Escaped LaTeX specials: \&
* checking Rd metadata ... OK
* checking Rd cross-references ... OK
* checking for missing documentation entries ... OK
* checking for code/documentation mismatches ... OK
* checking Rd \usage sections ... OK
* checking Rd contents ... OK
* checking for unstated dependencies in examples ... OK
* checking line endings in C/C++/Fortran sources/headers ... OK
* checking compiled code ... WARNING
Note: information on .o files is not available
File ‘/home/biocbuild/bbs-3.17-bioc/R/site-library/Cardinal/libs/Cardinal.so’:
Found ‘__sprintf_chk’, possibly from ‘sprintf’ (C)
Compiled code should not call entry points which might terminate R nor
write to stdout/stderr instead of to the console, nor use Fortran I/O
nor system RNGs nor [v]sprintf. The detected symbols are linked into
the code but might come from libraries and not actually be called.
See ‘Writing portable packages’ in the ‘Writing R Extensions’ manual.
* checking files in ‘vignettes’ ... OK
* checking examples ... OK
* checking for unstated dependencies in ‘tests’ ... OK
* checking tests ...
Running ‘testthat.R’
OK
* checking for unstated dependencies in vignettes ... OK
* checking package vignettes in ‘inst/doc’ ... OK
* checking running R code from vignettes ...
‘Cardinal-3-guide.Rmd’ using ‘UTF-8’... OK
‘Cardinal-3-stats.Rmd’ using ‘UTF-8’... OK
NONE
* checking re-building of vignette outputs ... OK
* checking PDF version of manual ... OK
* DONE
Status: 1 WARNING, 1 NOTE
See
‘/home/biocbuild/bbs-3.17-bioc/meat/Cardinal.Rcheck/00check.log’
for details.
Cardinal.Rcheck/00install.out
############################################################################## ############################################################################## ### ### Running command: ### ### /home/biocbuild/bbs-3.17-bioc/R/bin/R CMD INSTALL Cardinal ### ############################################################################## ############################################################################## * installing to library ‘/home/biocbuild/bbs-3.17-bioc/R/site-library’ * installing *source* package ‘Cardinal’ ... ** using staged installation ** libs using C++ compiler: ‘g++ (Ubuntu 9.4.0-1ubuntu1~20.04.1) 9.4.0’ g++ -std=gnu++17 -I"/home/biocbuild/bbs-3.17-bioc/R/include" -DNDEBUG -I/usr/local/include -fpic -g -O2 -Wall -c DIP.cpp -o DIP.o g++ -std=gnu++17 -I"/home/biocbuild/bbs-3.17-bioc/R/include" -DNDEBUG -I/usr/local/include -fpic -g -O2 -Wall -c imzML.cpp -o imzML.o g++ -std=gnu++17 -I"/home/biocbuild/bbs-3.17-bioc/R/include" -DNDEBUG -I/usr/local/include -fpic -g -O2 -Wall -c init.cpp -o init.o g++ -std=gnu++17 -I"/home/biocbuild/bbs-3.17-bioc/R/include" -DNDEBUG -I/usr/local/include -fpic -g -O2 -Wall -c pugixml.cpp -o pugixml.o g++ -std=gnu++17 -I"/home/biocbuild/bbs-3.17-bioc/R/include" -DNDEBUG -I/usr/local/include -fpic -g -O2 -Wall -c spatial.cpp -o spatial.o g++ -std=gnu++17 -I"/home/biocbuild/bbs-3.17-bioc/R/include" -DNDEBUG -I/usr/local/include -fpic -g -O2 -Wall -c utils.cpp -o utils.o g++ -std=gnu++17 -shared -L/home/biocbuild/bbs-3.17-bioc/R/lib -L/usr/local/lib -o Cardinal.so DIP.o imzML.o init.o pugixml.o spatial.o utils.o -L/home/biocbuild/bbs-3.17-bioc/R/lib -lR installing to /home/biocbuild/bbs-3.17-bioc/R/site-library/00LOCK-Cardinal/00new/Cardinal/libs ** R ** inst ** byte-compile and prepare package for lazy loading ** help *** installing help indices ** building package indices ** installing vignettes ** testing if installed package can be loaded from temporary location ** checking absolute paths in shared objects and dynamic libraries ** testing if installed package can be loaded from final location ** testing if installed package keeps a record of temporary installation path * DONE (Cardinal)
Cardinal.Rcheck/tests/testthat.Rout
R Under development (unstable) (2023-02-14 r83833) -- "Unsuffered Consequences"
Copyright (C) 2023 The R Foundation for Statistical Computing
Platform: x86_64-pc-linux-gnu (64-bit)
R is free software and comes with ABSOLUTELY NO WARRANTY.
You are welcome to redistribute it under certain conditions.
Type 'license()' or 'licence()' for distribution details.
R is a collaborative project with many contributors.
Type 'contributors()' for more information and
'citation()' on how to cite R or R packages in publications.
Type 'demo()' for some demos, 'help()' for on-line help, or
'help.start()' for an HTML browser interface to help.
Type 'q()' to quit R.
> library(testthat)
> library(Cardinal)
Loading required package: ProtGenerics
Attaching package: 'ProtGenerics'
The following object is masked from 'package:stats':
smooth
Loading required package: BiocGenerics
Attaching package: 'BiocGenerics'
The following objects are masked from 'package:stats':
IQR, mad, sd, var, xtabs
The following objects are masked from 'package:base':
Filter, Find, Map, Position, Reduce, anyDuplicated, aperm, append,
as.data.frame, basename, cbind, colnames, dirname, do.call,
duplicated, eval, evalq, get, grep, grepl, intersect, is.unsorted,
lapply, mapply, match, mget, order, paste, pmax, pmax.int, pmin,
pmin.int, rank, rbind, rownames, sapply, setdiff, sort, table,
tapply, union, unique, unsplit, which.max, which.min
Loading required package: BiocParallel
Loading required package: EBImage
Loading required package: S4Vectors
Loading required package: stats4
Attaching package: 'S4Vectors'
The following objects are masked from 'package:base':
I, expand.grid, unname
>
> test_check("Cardinal")
[ FAIL 0 | WARN 0 | SKIP 0 | PASS 282 ]
>
> proc.time()
user system elapsed
47.765 0.979 48.742
Cardinal.Rcheck/Cardinal-Ex.timings
| name | user | system | elapsed | |
| ImageList-class | 0.056 | 0.000 | 0.056 | |
| ImagingExperiment-class | 0.036 | 0.000 | 0.035 | |
| MSImagingExperiment-class | 0.103 | 0.000 | 0.103 | |
| MSImagingInfo-class | 0.229 | 0.016 | 0.244 | |
| MassDataFrame-class | 0.007 | 0.000 | 0.006 | |
| PCA-methods | 0.673 | 0.048 | 0.721 | |
| PLS-methods | 0.665 | 0.008 | 0.673 | |
| PositionDataFrame-class | 0.015 | 0.000 | 0.016 | |
| SparseImagingExperiment-class | 0.037 | 0.000 | 0.037 | |
| XDataFrame-class | 0.012 | 0.000 | 0.011 | |
| aggregate-methods | 1.299 | 0.076 | 1.375 | |
| colocalized-methods | 0.787 | 0.024 | 0.811 | |
| colors-functions | 0.590 | 0.008 | 0.598 | |
| findNeighbors-methods | 0.047 | 0.008 | 0.055 | |
| image-methods | 0.644 | 0.020 | 0.664 | |
| meansTest-methods | 3.720 | 0.192 | 3.913 | |
| mz-methods | 0.001 | 0.000 | 0.001 | |
| mzAlign-methods | 0.456 | 0.004 | 0.460 | |
| mzBin-methods | 0.338 | 0.000 | 0.338 | |
| mzFilter-methods | 0.828 | 0.000 | 0.828 | |
| normalize-methods | 0.313 | 0.003 | 0.317 | |
| peakAlign-methods | 0.525 | 0.004 | 0.529 | |
| peakBin-methods | 0.291 | 0.003 | 0.295 | |
| peakPick-methods | 0.270 | 0.000 | 0.271 | |
| pixelApply-methods | 0.838 | 0.000 | 0.838 | |
| plot-methods | 0.794 | 0.000 | 0.794 | |
| process-methods | 0.759 | 0.016 | 0.775 | |
| reduceBaseline-methods | 0.297 | 0.004 | 0.301 | |
| simulateSpectrum | 0.453 | 0.004 | 0.457 | |
| slice-methods | 0.357 | 0.004 | 0.360 | |
| smoothSignal-methods | 0.289 | 0.000 | 0.289 | |
| spatialDGMM-methods | 1.177 | 0.000 | 1.177 | |
| spatialFastmap-methods | 0.499 | 0.004 | 0.503 | |
| spatialKMeans-methods | 1.156 | 0.076 | 1.232 | |
| spatialShrunkenCentroids-methods | 2.371 | 0.008 | 2.379 | |
| subset-methods | 0.414 | 0.004 | 0.418 | |
| topFeatures-methods | 0.710 | 0.004 | 0.714 | |