| Back to Multiple platform build/check report for BioC 3.17 |
|
This page was generated on 2023-04-12 10:55:23 -0400 (Wed, 12 Apr 2023).
| Hostname | OS | Arch (*) | R version | Installed pkgs |
|---|---|---|---|---|
| nebbiolo1 | Linux (Ubuntu 22.04.1 LTS) | x86_64 | 4.3.0 alpha (2023-04-03 r84154) | 4547 |
| nebbiolo2 | Linux (Ubuntu 20.04.5 LTS) | x86_64 | R Under development (unstable) (2023-02-14 r83833) -- "Unsuffered Consequences" | 4333 |
| Click on any hostname to see more info about the system (e.g. compilers) (*) as reported by 'uname -p', except on Windows and Mac OS X | ||||
|
To the developers/maintainers of the COHCAP package: - Allow up to 24 hours (and sometimes 48 hours) for your latest push to git@git.bioconductor.org:packages/COHCAP.git to reflect on this report. See Troubleshooting Build Report for more information. - Use the following Renviron settings to reproduce errors and warnings. Note: If "R CMD check" recently failed on the Linux builder over a missing dependency, add the missing dependency to "Suggests" in your DESCRIPTION file. See the Renviron.bioc for details. |
| Package 397/2207 | Hostname | OS / Arch | INSTALL | BUILD | CHECK | BUILD BIN | ||||||||
| COHCAP 1.45.0 (landing page) Charles Warden
| nebbiolo1 | Linux (Ubuntu 22.04.1 LTS) / x86_64 | OK | OK | OK | |||||||||
| nebbiolo2 | Linux (Ubuntu 20.04.5 LTS) / x86_64 | OK | OK | OK | ||||||||||
| Package: COHCAP |
| Version: 1.45.0 |
| Command: /home/biocbuild/bbs-3.17-bioc/R/bin/R CMD check --install=check:COHCAP.install-out.txt --library=/home/biocbuild/bbs-3.17-bioc/R/site-library --timings COHCAP_1.45.0.tar.gz |
| StartedAt: 2023-04-11 19:27:02 -0400 (Tue, 11 Apr 2023) |
| EndedAt: 2023-04-11 19:27:44 -0400 (Tue, 11 Apr 2023) |
| EllapsedTime: 41.9 seconds |
| RetCode: 0 |
| Status: OK |
| CheckDir: COHCAP.Rcheck |
| Warnings: 0 |
##############################################################################
##############################################################################
###
### Running command:
###
### /home/biocbuild/bbs-3.17-bioc/R/bin/R CMD check --install=check:COHCAP.install-out.txt --library=/home/biocbuild/bbs-3.17-bioc/R/site-library --timings COHCAP_1.45.0.tar.gz
###
##############################################################################
##############################################################################
* using log directory ‘/home/biocbuild/bbs-3.17-bioc/meat/COHCAP.Rcheck’
* using R version 4.3.0 alpha (2023-04-03 r84154)
* using platform: x86_64-pc-linux-gnu (64-bit)
* R was compiled by
gcc (Ubuntu 11.3.0-1ubuntu1~22.04) 11.3.0
GNU Fortran (Ubuntu 11.3.0-1ubuntu1~22.04) 11.3.0
* running under: Ubuntu 22.04.2 LTS
* using session charset: UTF-8
* checking for file ‘COHCAP/DESCRIPTION’ ... OK
* checking extension type ... Package
* this is package ‘COHCAP’ version ‘1.45.0’
* checking package namespace information ... OK
* checking package dependencies ... OK
* checking if this is a source package ... OK
* checking if there is a namespace ... OK
* checking for hidden files and directories ... OK
* checking for portable file names ... OK
* checking for sufficient/correct file permissions ... OK
* checking whether package ‘COHCAP’ can be installed ... OK
* used C++ compiler: ‘g++ (Ubuntu 11.3.0-1ubuntu1~22.04) 11.3.0’
* checking installed package size ... OK
* checking package directory ... OK
* checking ‘build’ directory ... OK
* checking DESCRIPTION meta-information ... NOTE
Malformed Description field: should contain one or more complete sentences.
* checking top-level files ... OK
* checking for left-over files ... OK
* checking index information ... OK
* checking package subdirectories ... OK
* checking R files for non-ASCII characters ... OK
* checking R files for syntax errors ... OK
* checking whether the package can be loaded ... OK
* checking whether the package can be loaded with stated dependencies ... OK
* checking whether the package can be unloaded cleanly ... OK
* checking whether the namespace can be loaded with stated dependencies ... OK
* checking whether the namespace can be unloaded cleanly ... OK
* checking loading without being on the library search path ... OK
* checking dependencies in R code ... OK
* checking S3 generic/method consistency ... OK
* checking replacement functions ... OK
* checking foreign function calls ... OK
* checking R code for possible problems ... NOTE
COHCAP.annotate: no visible binding for global variable
‘COHCAP.450k.UCSC’
COHCAP.annotate: no visible binding for global variable
‘COHCAP.450k.HMM’
COHCAP.annotate: no visible binding for global variable ‘COHCAP.27k’
COHCAP.integrate.avg.by.island: no visible binding for global variable
‘na.rm’
cor.test.est: no visible binding for global variable ‘na.rm’
cor.test.pvalue: no visible binding for global variable ‘na.rm’
Undefined global functions or variables:
COHCAP.27k COHCAP.450k.HMM COHCAP.450k.UCSC na.rm
* checking Rd files ... OK
* checking Rd metadata ... OK
* checking Rd cross-references ... OK
* checking for missing documentation entries ... OK
* checking for code/documentation mismatches ... OK
* checking Rd \usage sections ... OK
* checking Rd contents ... OK
* checking for unstated dependencies in examples ... OK
* checking line endings in C/C++/Fortran sources/headers ... OK
* checking compiled code ... NOTE
Note: information on .o files is not available
* checking files in ‘vignettes’ ... OK
* checking examples ... OK
* checking for unstated dependencies in vignettes ... OK
* checking package vignettes in ‘inst/doc’ ... OK
* checking running R code from vignettes ...
‘COHCAP.Rnw’ using ‘UTF-8’... OK
OK
* checking re-building of vignette outputs ... OK
* checking PDF version of manual ... OK
* DONE
Status: 3 NOTEs
See
‘/home/biocbuild/bbs-3.17-bioc/meat/COHCAP.Rcheck/00check.log’
for details.
COHCAP.Rcheck/00install.out
##############################################################################
##############################################################################
###
### Running command:
###
### /home/biocbuild/bbs-3.17-bioc/R/bin/R CMD INSTALL COHCAP
###
##############################################################################
##############################################################################
* installing to library ‘/home/biocbuild/bbs-3.17-bioc/R/site-library’
* installing *source* package ‘COHCAP’ ...
** using staged installation
** libs
using C++ compiler: ‘g++ (Ubuntu 11.3.0-1ubuntu1~22.04) 11.3.0’
g++ -std=gnu++17 -I"/home/biocbuild/bbs-3.17-bioc/R/include" -DNDEBUG -I'/home/biocbuild/bbs-3.17-bioc/R/site-library/Rcpp/include' -I'/home/biocbuild/bbs-3.17-bioc/R/site-library/BH/include' -I/usr/local/include -fpic -g -O2 -Wall -c RcppExports.cpp -o RcppExports.o
g++ -std=gnu++17 -I"/home/biocbuild/bbs-3.17-bioc/R/include" -DNDEBUG -I'/home/biocbuild/bbs-3.17-bioc/R/site-library/Rcpp/include' -I'/home/biocbuild/bbs-3.17-bioc/R/site-library/BH/include' -I/usr/local/include -fpic -g -O2 -Wall -c Rcpp_BH_ANOVA.cpp -o Rcpp_BH_ANOVA.o
In file included from /home/biocbuild/bbs-3.17-bioc/R/site-library/BH/include/boost/mpl/aux_/na_assert.hpp:23,
from /home/biocbuild/bbs-3.17-bioc/R/site-library/BH/include/boost/mpl/arg.hpp:25,
from /home/biocbuild/bbs-3.17-bioc/R/site-library/BH/include/boost/mpl/placeholders.hpp:24,
from /home/biocbuild/bbs-3.17-bioc/R/site-library/BH/include/boost/iterator/iterator_categories.hpp:16,
from /home/biocbuild/bbs-3.17-bioc/R/site-library/BH/include/boost/iterator/iterator_facade.hpp:13,
from /home/biocbuild/bbs-3.17-bioc/R/site-library/BH/include/boost/range/iterator_range_core.hpp:27,
from /home/biocbuild/bbs-3.17-bioc/R/site-library/BH/include/boost/lexical_cast.hpp:30,
from /home/biocbuild/bbs-3.17-bioc/R/site-library/BH/include/boost/math/tools/convert_from_string.hpp:15,
from /home/biocbuild/bbs-3.17-bioc/R/site-library/BH/include/boost/math/constants/constants.hpp:14,
from /home/biocbuild/bbs-3.17-bioc/R/site-library/BH/include/boost/math/special_functions/gamma.hpp:24,
from /home/biocbuild/bbs-3.17-bioc/R/site-library/BH/include/boost/math/special_functions/beta.hpp:15,
from /home/biocbuild/bbs-3.17-bioc/R/site-library/BH/include/boost/math/distributions/fisher_f.hpp:12,
from Rcpp_BH_ANOVA.cpp:4:
/home/biocbuild/bbs-3.17-bioc/R/site-library/BH/include/boost/mpl/assert.hpp:194:21: warning: unnecessary parentheses in declaration of ‘assert_arg’ [-Wparentheses]
194 | failed ************ (Pred::************
| ^~~~~~~~~~~~~~~~~~~
195 | assert_arg( void (*)(Pred), typename assert_arg_pred<Pred>::type )
| ~~~~~~~~~~~~~~~~~~~~~~~~~~~~~~~~~~~~~~~~~~~~~~~~~~~~~~~~~~~~~~~~~~
196 | );
| ~
/home/biocbuild/bbs-3.17-bioc/R/site-library/BH/include/boost/mpl/assert.hpp:194:21: note: remove parentheses
194 | failed ************ (Pred::************
| ^~~~~~~~~~~~~~~~~~~
| -
195 | assert_arg( void (*)(Pred), typename assert_arg_pred<Pred>::type )
| ~~~~~~~~~~~~~~~~~~~~~~~~~~~~~~~~~~~~~~~~~~~~~~~~~~~~~~~~~~~~~~~~~~
196 | );
| ~
| -
/home/biocbuild/bbs-3.17-bioc/R/site-library/BH/include/boost/mpl/assert.hpp:199:21: warning: unnecessary parentheses in declaration of ‘assert_not_arg’ [-Wparentheses]
199 | failed ************ (boost::mpl::not_<Pred>::************
| ^~~~~~~~~~~~~~~~~~~~~~~~~~~~~~~~~~~~~
200 | assert_not_arg( void (*)(Pred), typename assert_arg_pred_not<Pred>::type )
| ~~~~~~~~~~~~~~~~~~~~~~~~~~~~~~~~~~~~~~~~~~~~~~~~~~~~~~~~~~~~~~~~~~~~~~~~~~
201 | );
| ~
/home/biocbuild/bbs-3.17-bioc/R/site-library/BH/include/boost/mpl/assert.hpp:199:21: note: remove parentheses
199 | failed ************ (boost::mpl::not_<Pred>::************
| ^~~~~~~~~~~~~~~~~~~~~~~~~~~~~~~~~~~~~
| -
200 | assert_not_arg( void (*)(Pred), typename assert_arg_pred_not<Pred>::type )
| ~~~~~~~~~~~~~~~~~~~~~~~~~~~~~~~~~~~~~~~~~~~~~~~~~~~~~~~~~~~~~~~~~~~~~~~~~~
201 | );
| ~
| -
g++ -std=gnu++17 -I"/home/biocbuild/bbs-3.17-bioc/R/include" -DNDEBUG -I'/home/biocbuild/bbs-3.17-bioc/R/site-library/Rcpp/include' -I'/home/biocbuild/bbs-3.17-bioc/R/site-library/BH/include' -I/usr/local/include -fpic -g -O2 -Wall -c Rcpp_BH_linear_regression.cpp -o Rcpp_BH_linear_regression.o
In file included from /home/biocbuild/bbs-3.17-bioc/R/site-library/BH/include/boost/mpl/aux_/na_assert.hpp:23,
from /home/biocbuild/bbs-3.17-bioc/R/site-library/BH/include/boost/mpl/arg.hpp:25,
from /home/biocbuild/bbs-3.17-bioc/R/site-library/BH/include/boost/mpl/placeholders.hpp:24,
from /home/biocbuild/bbs-3.17-bioc/R/site-library/BH/include/boost/iterator/iterator_categories.hpp:16,
from /home/biocbuild/bbs-3.17-bioc/R/site-library/BH/include/boost/iterator/iterator_facade.hpp:13,
from /home/biocbuild/bbs-3.17-bioc/R/site-library/BH/include/boost/range/iterator_range_core.hpp:27,
from /home/biocbuild/bbs-3.17-bioc/R/site-library/BH/include/boost/lexical_cast.hpp:30,
from /home/biocbuild/bbs-3.17-bioc/R/site-library/BH/include/boost/math/tools/convert_from_string.hpp:15,
from /home/biocbuild/bbs-3.17-bioc/R/site-library/BH/include/boost/math/constants/constants.hpp:14,
from /home/biocbuild/bbs-3.17-bioc/R/site-library/BH/include/boost/math/special_functions/gamma.hpp:24,
from /home/biocbuild/bbs-3.17-bioc/R/site-library/BH/include/boost/math/special_functions/beta.hpp:15,
from /home/biocbuild/bbs-3.17-bioc/R/site-library/BH/include/boost/math/distributions/students_t.hpp:16,
from Rcpp_BH_linear_regression.cpp:4:
/home/biocbuild/bbs-3.17-bioc/R/site-library/BH/include/boost/mpl/assert.hpp:194:21: warning: unnecessary parentheses in declaration of ‘assert_arg’ [-Wparentheses]
194 | failed ************ (Pred::************
| ^~~~~~~~~~~~~~~~~~~
195 | assert_arg( void (*)(Pred), typename assert_arg_pred<Pred>::type )
| ~~~~~~~~~~~~~~~~~~~~~~~~~~~~~~~~~~~~~~~~~~~~~~~~~~~~~~~~~~~~~~~~~~
196 | );
| ~
/home/biocbuild/bbs-3.17-bioc/R/site-library/BH/include/boost/mpl/assert.hpp:194:21: note: remove parentheses
194 | failed ************ (Pred::************
| ^~~~~~~~~~~~~~~~~~~
| -
195 | assert_arg( void (*)(Pred), typename assert_arg_pred<Pred>::type )
| ~~~~~~~~~~~~~~~~~~~~~~~~~~~~~~~~~~~~~~~~~~~~~~~~~~~~~~~~~~~~~~~~~~
196 | );
| ~
| -
/home/biocbuild/bbs-3.17-bioc/R/site-library/BH/include/boost/mpl/assert.hpp:199:21: warning: unnecessary parentheses in declaration of ‘assert_not_arg’ [-Wparentheses]
199 | failed ************ (boost::mpl::not_<Pred>::************
| ^~~~~~~~~~~~~~~~~~~~~~~~~~~~~~~~~~~~~
200 | assert_not_arg( void (*)(Pred), typename assert_arg_pred_not<Pred>::type )
| ~~~~~~~~~~~~~~~~~~~~~~~~~~~~~~~~~~~~~~~~~~~~~~~~~~~~~~~~~~~~~~~~~~~~~~~~~~
201 | );
| ~
/home/biocbuild/bbs-3.17-bioc/R/site-library/BH/include/boost/mpl/assert.hpp:199:21: note: remove parentheses
199 | failed ************ (boost::mpl::not_<Pred>::************
| ^~~~~~~~~~~~~~~~~~~~~~~~~~~~~~~~~~~~~
| -
200 | assert_not_arg( void (*)(Pred), typename assert_arg_pred_not<Pred>::type )
| ~~~~~~~~~~~~~~~~~~~~~~~~~~~~~~~~~~~~~~~~~~~~~~~~~~~~~~~~~~~~~~~~~~~~~~~~~~
201 | );
| ~
| -
g++ -std=gnu++17 -I"/home/biocbuild/bbs-3.17-bioc/R/include" -DNDEBUG -I'/home/biocbuild/bbs-3.17-bioc/R/site-library/Rcpp/include' -I'/home/biocbuild/bbs-3.17-bioc/R/site-library/BH/include' -I/usr/local/include -fpic -g -O2 -Wall -c Rcpp_BH_ttest.cpp -o Rcpp_BH_ttest.o
In file included from /home/biocbuild/bbs-3.17-bioc/R/site-library/BH/include/boost/mpl/aux_/na_assert.hpp:23,
from /home/biocbuild/bbs-3.17-bioc/R/site-library/BH/include/boost/mpl/arg.hpp:25,
from /home/biocbuild/bbs-3.17-bioc/R/site-library/BH/include/boost/mpl/placeholders.hpp:24,
from /home/biocbuild/bbs-3.17-bioc/R/site-library/BH/include/boost/iterator/iterator_categories.hpp:16,
from /home/biocbuild/bbs-3.17-bioc/R/site-library/BH/include/boost/iterator/iterator_facade.hpp:13,
from /home/biocbuild/bbs-3.17-bioc/R/site-library/BH/include/boost/range/iterator_range_core.hpp:27,
from /home/biocbuild/bbs-3.17-bioc/R/site-library/BH/include/boost/lexical_cast.hpp:30,
from /home/biocbuild/bbs-3.17-bioc/R/site-library/BH/include/boost/math/tools/convert_from_string.hpp:15,
from /home/biocbuild/bbs-3.17-bioc/R/site-library/BH/include/boost/math/constants/constants.hpp:14,
from /home/biocbuild/bbs-3.17-bioc/R/site-library/BH/include/boost/math/special_functions/gamma.hpp:24,
from /home/biocbuild/bbs-3.17-bioc/R/site-library/BH/include/boost/math/special_functions/beta.hpp:15,
from /home/biocbuild/bbs-3.17-bioc/R/site-library/BH/include/boost/math/distributions/students_t.hpp:16,
from Rcpp_BH_ttest.cpp:4:
/home/biocbuild/bbs-3.17-bioc/R/site-library/BH/include/boost/mpl/assert.hpp:194:21: warning: unnecessary parentheses in declaration of ‘assert_arg’ [-Wparentheses]
194 | failed ************ (Pred::************
| ^~~~~~~~~~~~~~~~~~~
195 | assert_arg( void (*)(Pred), typename assert_arg_pred<Pred>::type )
| ~~~~~~~~~~~~~~~~~~~~~~~~~~~~~~~~~~~~~~~~~~~~~~~~~~~~~~~~~~~~~~~~~~
196 | );
| ~
/home/biocbuild/bbs-3.17-bioc/R/site-library/BH/include/boost/mpl/assert.hpp:194:21: note: remove parentheses
194 | failed ************ (Pred::************
| ^~~~~~~~~~~~~~~~~~~
| -
195 | assert_arg( void (*)(Pred), typename assert_arg_pred<Pred>::type )
| ~~~~~~~~~~~~~~~~~~~~~~~~~~~~~~~~~~~~~~~~~~~~~~~~~~~~~~~~~~~~~~~~~~
196 | );
| ~
| -
/home/biocbuild/bbs-3.17-bioc/R/site-library/BH/include/boost/mpl/assert.hpp:199:21: warning: unnecessary parentheses in declaration of ‘assert_not_arg’ [-Wparentheses]
199 | failed ************ (boost::mpl::not_<Pred>::************
| ^~~~~~~~~~~~~~~~~~~~~~~~~~~~~~~~~~~~~
200 | assert_not_arg( void (*)(Pred), typename assert_arg_pred_not<Pred>::type )
| ~~~~~~~~~~~~~~~~~~~~~~~~~~~~~~~~~~~~~~~~~~~~~~~~~~~~~~~~~~~~~~~~~~~~~~~~~~
201 | );
| ~
/home/biocbuild/bbs-3.17-bioc/R/site-library/BH/include/boost/mpl/assert.hpp:199:21: note: remove parentheses
199 | failed ************ (boost::mpl::not_<Pred>::************
| ^~~~~~~~~~~~~~~~~~~~~~~~~~~~~~~~~~~~~
| -
200 | assert_not_arg( void (*)(Pred), typename assert_arg_pred_not<Pred>::type )
| ~~~~~~~~~~~~~~~~~~~~~~~~~~~~~~~~~~~~~~~~~~~~~~~~~~~~~~~~~~~~~~~~~~~~~~~~~~
201 | );
| ~
| -
g++ -std=gnu++17 -shared -L/home/biocbuild/bbs-3.17-bioc/R/lib -L/usr/local/lib -o COHCAP.so RcppExports.o Rcpp_BH_ANOVA.o Rcpp_BH_linear_regression.o Rcpp_BH_ttest.o -L/home/biocbuild/bbs-3.17-bioc/R/lib -lR
installing to /home/biocbuild/bbs-3.17-bioc/R/site-library/00LOCK-COHCAP/00new/COHCAP/libs
** R
** inst
** byte-compile and prepare package for lazy loading
** help
*** installing help indices
** building package indices
** installing vignettes
** testing if installed package can be loaded from temporary location
** checking absolute paths in shared objects and dynamic libraries
** testing if installed package can be loaded from final location
** testing if installed package keeps a record of temporary installation path
* DONE (COHCAP)
COHCAP.Rcheck/COHCAP-Ex.timings
| name | user | system | elapsed | |
| COHCAP.BSSeq.preprocess | 0.011 | 0.005 | 0.016 | |
| COHCAP.BSSeq_V2.methyl.table | 0.012 | 0.000 | 0.014 | |
| COHCAP.annotate | 1.255 | 0.056 | 1.311 | |
| COHCAP.avg.by.island | 1.877 | 0.067 | 1.945 | |
| COHCAP.avg.by.site | 1.794 | 0.031 | 1.825 | |
| COHCAP.denovo | 1.693 | 0.028 | 1.721 | |
| COHCAP.integrate.avg.by.island | 1.640 | 0.040 | 1.681 | |
| COHCAP.integrate.avg.by.site | 1.449 | 0.028 | 1.478 | |
| COHCAP.qc | 0.927 | 0.012 | 0.940 | |
| COHCAP.reformatFinalReport | 0.007 | 0.000 | 0.008 | |
| COHCAP.site | 1.432 | 0.028 | 1.460 | |